BEGIN:VCALENDAR
VERSION:2.0
PRODID:-//Quatrefoil Library - ECPv6.15.20//NONSGML v1.0//EN
CALSCALE:GREGORIAN
METHOD:PUBLISH
X-WR-CALNAME:Quatrefoil Library
X-ORIGINAL-URL:https://qlibrary.org
X-WR-CALDESC:Events for Quatrefoil Library
REFRESH-INTERVAL;VALUE=DURATION:PT1H
X-Robots-Tag:noindex
X-PUBLISHED-TTL:PT1H
BEGIN:VTIMEZONE
TZID:America/Chicago
BEGIN:DAYLIGHT
TZOFFSETFROM:-0600
TZOFFSETTO:-0500
TZNAME:CDT
DTSTART:20230312T080000
END:DAYLIGHT
BEGIN:STANDARD
TZOFFSETFROM:-0500
TZOFFSETTO:-0600
TZNAME:CST
DTSTART:20231105T070000
END:STANDARD
BEGIN:DAYLIGHT
TZOFFSETFROM:-0600
TZOFFSETTO:-0500
TZNAME:CDT
DTSTART:20240310T080000
END:DAYLIGHT
BEGIN:STANDARD
TZOFFSETFROM:-0500
TZOFFSETTO:-0600
TZNAME:CST
DTSTART:20241103T070000
END:STANDARD
BEGIN:DAYLIGHT
TZOFFSETFROM:-0600
TZOFFSETTO:-0500
TZNAME:CDT
DTSTART:20250309T080000
END:DAYLIGHT
BEGIN:STANDARD
TZOFFSETFROM:-0500
TZOFFSETTO:-0600
TZNAME:CST
DTSTART:20251102T070000
END:STANDARD
BEGIN:DAYLIGHT
TZOFFSETFROM:-0600
TZOFFSETTO:-0500
TZNAME:CDT
DTSTART:20260308T080000
END:DAYLIGHT
BEGIN:STANDARD
TZOFFSETFROM:-0500
TZOFFSETTO:-0600
TZNAME:CST
DTSTART:20261101T070000
END:STANDARD
BEGIN:DAYLIGHT
TZOFFSETFROM:-0600
TZOFFSETTO:-0500
TZNAME:CDT
DTSTART:20270314T080000
END:DAYLIGHT
BEGIN:STANDARD
TZOFFSETFROM:-0500
TZOFFSETTO:-0600
TZNAME:CST
DTSTART:20271107T070000
END:STANDARD
END:VTIMEZONE
BEGIN:VEVENT
DTSTART;TZID=America/Chicago:20260111T140000
DTEND;TZID=America/Chicago:20260111T160000
DTSTAMP:20260423T114940
CREATED:20251207T191630Z
LAST-MODIFIED:20251207T191659Z
UID:10004193-1768140000-1768147200@qlibrary.org
SUMMARY:OFFSITE: Story Time for Grown Ups Fundraiser
DESCRIPTION:The Sisters of Perpetual Indulgence are hosting their second annual Story Time for  Grown-Ups event\, reading off some humorous / parody children books and auctioning them off after with all proceeds going to the Quatrefoil Library. The date is Sunday\, January 11th from 2-4pm at the Saloon Disco Bar. Quatrefoil volunteers will be sharing information about the Library and selling books at this event. More details to come\, we hope to see you there to hear hilarious stories and support Quatrefoil Library!
URL:https://qlibrary.org/event/offsite-story-time-for-grown-ups-fundraiser/
LOCATION:The Saloon MN\, 830 Hennepin Ave\, Minneapolis\, MN\, 55403-1803\, United States
CATEGORIES:Reading
END:VEVENT
BEGIN:VEVENT
DTSTART;TZID=America/Chicago:20240428T130000
DTEND;TZID=America/Chicago:20240428T160000
DTSTAMP:20260423T114940
CREATED:20240420T172248Z
LAST-MODIFIED:20240420T172248Z
UID:10001980-1714309200-1714320000@qlibrary.org
SUMMARY:Sister Story Hour for Grown Ups
DESCRIPTION:Do you love dirty jokes? How about queer literature? Do you want to support one of the longest on-going queer libraries in the Midwest? \nCome to Sister Story Hour for Grown-Ups! We will be reading dank parodies and blatant smut for a good cause! All proceeds will be going to the Quatrefoil Library! \nThere will be live readings\, book auctions\, mystery literature\, random limited-edition items\, and hot drags nuns! \nThis event is 21+ only. Doors open at 1pm. Reading start at 1.30pm sharp! More details bout the event can be found here: https://fb.me/e/1QNGukCq5 \n 
URL:https://qlibrary.org/event/sister-story-hour-for-grown-ups/
LOCATION:Quatrefoil Library\, 1220 East Lake Street\, Minneapolis\, MN\, 55407\, United States
END:VEVENT
END:VCALENDAR