BEGIN:VCALENDAR
VERSION:2.0
PRODID:-//Quatrefoil Library - ECPv6.15.20//NONSGML v1.0//EN
CALSCALE:GREGORIAN
METHOD:PUBLISH
X-WR-CALNAME:Quatrefoil Library
X-ORIGINAL-URL:https://qlibrary.org
X-WR-CALDESC:Events for Quatrefoil Library
REFRESH-INTERVAL;VALUE=DURATION:PT1H
X-Robots-Tag:noindex
X-PUBLISHED-TTL:PT1H
BEGIN:VTIMEZONE
TZID:America/Chicago
BEGIN:DAYLIGHT
TZOFFSETFROM:-0600
TZOFFSETTO:-0500
TZNAME:CDT
DTSTART:20260308T080000
END:DAYLIGHT
BEGIN:STANDARD
TZOFFSETFROM:-0500
TZOFFSETTO:-0600
TZNAME:CST
DTSTART:20261101T070000
END:STANDARD
BEGIN:DAYLIGHT
TZOFFSETFROM:-0600
TZOFFSETTO:-0500
TZNAME:CDT
DTSTART:20270314T080000
END:DAYLIGHT
BEGIN:STANDARD
TZOFFSETFROM:-0500
TZOFFSETTO:-0600
TZNAME:CST
DTSTART:20271107T070000
END:STANDARD
BEGIN:DAYLIGHT
TZOFFSETFROM:-0600
TZOFFSETTO:-0500
TZNAME:CDT
DTSTART:20280312T080000
END:DAYLIGHT
BEGIN:STANDARD
TZOFFSETFROM:-0500
TZOFFSETTO:-0600
TZNAME:CST
DTSTART:20281105T070000
END:STANDARD
BEGIN:DAYLIGHT
TZOFFSETFROM:-0600
TZOFFSETTO:-0500
TZNAME:CDT
DTSTART:20290311T080000
END:DAYLIGHT
BEGIN:STANDARD
TZOFFSETFROM:-0500
TZOFFSETTO:-0600
TZNAME:CST
DTSTART:20291104T070000
END:STANDARD
BEGIN:DAYLIGHT
TZOFFSETFROM:-0600
TZOFFSETTO:-0500
TZNAME:CDT
DTSTART:20300310T080000
END:DAYLIGHT
BEGIN:STANDARD
TZOFFSETFROM:-0500
TZOFFSETTO:-0600
TZNAME:CST
DTSTART:20301103T070000
END:STANDARD
END:VTIMEZONE
BEGIN:VEVENT
DTSTART;TZID=America/Chicago:20270505T190000
DTEND;TZID=America/Chicago:20270505T210000
DTSTAMP:20260423T073109
CREATED:20240324T164527Z
LAST-MODIFIED:20240324T164545Z
UID:10001632-1809543600-1809550800@qlibrary.org
SUMMARY:Queer Threads
DESCRIPTION:Queer threads: a weekly intergenerational craft night for LGBTQ people of all genders \nwhat: a weekly craft night for knitting\, crochet\, embroidery\, mending\, quilting\, and other portable crafts \nwhy: find community and camaraderie with other LGBTQ crafters \nwho: for all ages and genders. Kids are welcome\, but childcare is not provided. \nwhere: Quatrefoil Library at 1220 E Lake St Minneapolis. \nwhen: 1st and 3rd Wednesday nights from 7-9 pm \naccessibility: please wear a mask. \nhelp us cultivate a welcoming group: crafting is for all gender identities and types of gender expression; ask for (rather than assume) pronouns; all types of yarn and materials\, experience levels\, and portable craft projects are welcome.
URL:https://qlibrary.org/event/queer-threads-6/2027-05-05/
LOCATION:Quatrefoil Library: Spirit on Lake Community Room\, 1220 E Lake St\, Minneapolis\, MN\, 55407\, United States
CATEGORIES:Community Club
END:VEVENT
BEGIN:VEVENT
DTSTART;TZID=America/Chicago:20270602T190000
DTEND;TZID=America/Chicago:20270602T210000
DTSTAMP:20260423T073109
CREATED:20240324T164527Z
LAST-MODIFIED:20240324T164545Z
UID:10001633-1811962800-1811970000@qlibrary.org
SUMMARY:Queer Threads
DESCRIPTION:Queer threads: a weekly intergenerational craft night for LGBTQ people of all genders \nwhat: a weekly craft night for knitting\, crochet\, embroidery\, mending\, quilting\, and other portable crafts \nwhy: find community and camaraderie with other LGBTQ crafters \nwho: for all ages and genders. Kids are welcome\, but childcare is not provided. \nwhere: Quatrefoil Library at 1220 E Lake St Minneapolis. \nwhen: 1st and 3rd Wednesday nights from 7-9 pm \naccessibility: please wear a mask. \nhelp us cultivate a welcoming group: crafting is for all gender identities and types of gender expression; ask for (rather than assume) pronouns; all types of yarn and materials\, experience levels\, and portable craft projects are welcome.
URL:https://qlibrary.org/event/queer-threads-6/2027-06-02/
LOCATION:Quatrefoil Library: Spirit on Lake Community Room\, 1220 E Lake St\, Minneapolis\, MN\, 55407\, United States
CATEGORIES:Community Club
END:VEVENT
BEGIN:VEVENT
DTSTART;TZID=America/Chicago:20270707T190000
DTEND;TZID=America/Chicago:20270707T210000
DTSTAMP:20260423T073109
CREATED:20240324T164527Z
LAST-MODIFIED:20240324T164545Z
UID:10001634-1814986800-1814994000@qlibrary.org
SUMMARY:Queer Threads
DESCRIPTION:Queer threads: a weekly intergenerational craft night for LGBTQ people of all genders \nwhat: a weekly craft night for knitting\, crochet\, embroidery\, mending\, quilting\, and other portable crafts \nwhy: find community and camaraderie with other LGBTQ crafters \nwho: for all ages and genders. Kids are welcome\, but childcare is not provided. \nwhere: Quatrefoil Library at 1220 E Lake St Minneapolis. \nwhen: 1st and 3rd Wednesday nights from 7-9 pm \naccessibility: please wear a mask. \nhelp us cultivate a welcoming group: crafting is for all gender identities and types of gender expression; ask for (rather than assume) pronouns; all types of yarn and materials\, experience levels\, and portable craft projects are welcome.
URL:https://qlibrary.org/event/queer-threads-6/2027-07-07/
LOCATION:Quatrefoil Library: Spirit on Lake Community Room\, 1220 E Lake St\, Minneapolis\, MN\, 55407\, United States
CATEGORIES:Community Club
END:VEVENT
BEGIN:VEVENT
DTSTART;TZID=America/Chicago:20270804T190000
DTEND;TZID=America/Chicago:20270804T210000
DTSTAMP:20260423T073109
CREATED:20240324T164527Z
LAST-MODIFIED:20240324T164545Z
UID:10001635-1817406000-1817413200@qlibrary.org
SUMMARY:Queer Threads
DESCRIPTION:Queer threads: a weekly intergenerational craft night for LGBTQ people of all genders \nwhat: a weekly craft night for knitting\, crochet\, embroidery\, mending\, quilting\, and other portable crafts \nwhy: find community and camaraderie with other LGBTQ crafters \nwho: for all ages and genders. Kids are welcome\, but childcare is not provided. \nwhere: Quatrefoil Library at 1220 E Lake St Minneapolis. \nwhen: 1st and 3rd Wednesday nights from 7-9 pm \naccessibility: please wear a mask. \nhelp us cultivate a welcoming group: crafting is for all gender identities and types of gender expression; ask for (rather than assume) pronouns; all types of yarn and materials\, experience levels\, and portable craft projects are welcome.
URL:https://qlibrary.org/event/queer-threads-6/2027-08-04/
LOCATION:Quatrefoil Library: Spirit on Lake Community Room\, 1220 E Lake St\, Minneapolis\, MN\, 55407\, United States
CATEGORIES:Community Club
END:VEVENT
BEGIN:VEVENT
DTSTART;TZID=America/Chicago:20270901T190000
DTEND;TZID=America/Chicago:20270901T210000
DTSTAMP:20260423T073109
CREATED:20240324T164527Z
LAST-MODIFIED:20240324T164545Z
UID:10001636-1819825200-1819832400@qlibrary.org
SUMMARY:Queer Threads
DESCRIPTION:Queer threads: a weekly intergenerational craft night for LGBTQ people of all genders \nwhat: a weekly craft night for knitting\, crochet\, embroidery\, mending\, quilting\, and other portable crafts \nwhy: find community and camaraderie with other LGBTQ crafters \nwho: for all ages and genders. Kids are welcome\, but childcare is not provided. \nwhere: Quatrefoil Library at 1220 E Lake St Minneapolis. \nwhen: 1st and 3rd Wednesday nights from 7-9 pm \naccessibility: please wear a mask. \nhelp us cultivate a welcoming group: crafting is for all gender identities and types of gender expression; ask for (rather than assume) pronouns; all types of yarn and materials\, experience levels\, and portable craft projects are welcome.
URL:https://qlibrary.org/event/queer-threads-6/2027-09-01/
LOCATION:Quatrefoil Library: Spirit on Lake Community Room\, 1220 E Lake St\, Minneapolis\, MN\, 55407\, United States
CATEGORIES:Community Club
END:VEVENT
BEGIN:VEVENT
DTSTART;TZID=America/Chicago:20271006T190000
DTEND;TZID=America/Chicago:20271006T210000
DTSTAMP:20260423T073109
CREATED:20240324T164527Z
LAST-MODIFIED:20240324T164545Z
UID:10001637-1822849200-1822856400@qlibrary.org
SUMMARY:Queer Threads
DESCRIPTION:Queer threads: a weekly intergenerational craft night for LGBTQ people of all genders \nwhat: a weekly craft night for knitting\, crochet\, embroidery\, mending\, quilting\, and other portable crafts \nwhy: find community and camaraderie with other LGBTQ crafters \nwho: for all ages and genders. Kids are welcome\, but childcare is not provided. \nwhere: Quatrefoil Library at 1220 E Lake St Minneapolis. \nwhen: 1st and 3rd Wednesday nights from 7-9 pm \naccessibility: please wear a mask. \nhelp us cultivate a welcoming group: crafting is for all gender identities and types of gender expression; ask for (rather than assume) pronouns; all types of yarn and materials\, experience levels\, and portable craft projects are welcome.
URL:https://qlibrary.org/event/queer-threads-6/2027-10-06/
LOCATION:Quatrefoil Library: Spirit on Lake Community Room\, 1220 E Lake St\, Minneapolis\, MN\, 55407\, United States
CATEGORIES:Community Club
END:VEVENT
BEGIN:VEVENT
DTSTART;TZID=America/Chicago:20271103T190000
DTEND;TZID=America/Chicago:20271103T210000
DTSTAMP:20260423T073109
CREATED:20240324T164527Z
LAST-MODIFIED:20240324T164545Z
UID:10001638-1825268400-1825275600@qlibrary.org
SUMMARY:Queer Threads
DESCRIPTION:Queer threads: a weekly intergenerational craft night for LGBTQ people of all genders \nwhat: a weekly craft night for knitting\, crochet\, embroidery\, mending\, quilting\, and other portable crafts \nwhy: find community and camaraderie with other LGBTQ crafters \nwho: for all ages and genders. Kids are welcome\, but childcare is not provided. \nwhere: Quatrefoil Library at 1220 E Lake St Minneapolis. \nwhen: 1st and 3rd Wednesday nights from 7-9 pm \naccessibility: please wear a mask. \nhelp us cultivate a welcoming group: crafting is for all gender identities and types of gender expression; ask for (rather than assume) pronouns; all types of yarn and materials\, experience levels\, and portable craft projects are welcome.
URL:https://qlibrary.org/event/queer-threads-6/2027-11-03/
LOCATION:Quatrefoil Library: Spirit on Lake Community Room\, 1220 E Lake St\, Minneapolis\, MN\, 55407\, United States
CATEGORIES:Community Club
END:VEVENT
BEGIN:VEVENT
DTSTART;TZID=America/Chicago:20271201T190000
DTEND;TZID=America/Chicago:20271201T210000
DTSTAMP:20260423T073109
CREATED:20240324T164527Z
LAST-MODIFIED:20240324T164545Z
UID:10001639-1827687600-1827694800@qlibrary.org
SUMMARY:Queer Threads
DESCRIPTION:Queer threads: a weekly intergenerational craft night for LGBTQ people of all genders \nwhat: a weekly craft night for knitting\, crochet\, embroidery\, mending\, quilting\, and other portable crafts \nwhy: find community and camaraderie with other LGBTQ crafters \nwho: for all ages and genders. Kids are welcome\, but childcare is not provided. \nwhere: Quatrefoil Library at 1220 E Lake St Minneapolis. \nwhen: 1st and 3rd Wednesday nights from 7-9 pm \naccessibility: please wear a mask. \nhelp us cultivate a welcoming group: crafting is for all gender identities and types of gender expression; ask for (rather than assume) pronouns; all types of yarn and materials\, experience levels\, and portable craft projects are welcome.
URL:https://qlibrary.org/event/queer-threads-6/2027-12-01/
LOCATION:Quatrefoil Library: Spirit on Lake Community Room\, 1220 E Lake St\, Minneapolis\, MN\, 55407\, United States
CATEGORIES:Community Club
END:VEVENT
BEGIN:VEVENT
DTSTART;TZID=America/Chicago:20280105T190000
DTEND;TZID=America/Chicago:20280105T210000
DTSTAMP:20260423T073109
CREATED:20240324T164527Z
LAST-MODIFIED:20240324T164545Z
UID:10001640-1830711600-1830718800@qlibrary.org
SUMMARY:Queer Threads
DESCRIPTION:Queer threads: a weekly intergenerational craft night for LGBTQ people of all genders \nwhat: a weekly craft night for knitting\, crochet\, embroidery\, mending\, quilting\, and other portable crafts \nwhy: find community and camaraderie with other LGBTQ crafters \nwho: for all ages and genders. Kids are welcome\, but childcare is not provided. \nwhere: Quatrefoil Library at 1220 E Lake St Minneapolis. \nwhen: 1st and 3rd Wednesday nights from 7-9 pm \naccessibility: please wear a mask. \nhelp us cultivate a welcoming group: crafting is for all gender identities and types of gender expression; ask for (rather than assume) pronouns; all types of yarn and materials\, experience levels\, and portable craft projects are welcome.
URL:https://qlibrary.org/event/queer-threads-6/2028-01-05/
LOCATION:Quatrefoil Library: Spirit on Lake Community Room\, 1220 E Lake St\, Minneapolis\, MN\, 55407\, United States
CATEGORIES:Community Club
END:VEVENT
BEGIN:VEVENT
DTSTART;TZID=America/Chicago:20280202T190000
DTEND;TZID=America/Chicago:20280202T210000
DTSTAMP:20260423T073109
CREATED:20240324T164527Z
LAST-MODIFIED:20240324T164545Z
UID:10001641-1833130800-1833138000@qlibrary.org
SUMMARY:Queer Threads
DESCRIPTION:Queer threads: a weekly intergenerational craft night for LGBTQ people of all genders \nwhat: a weekly craft night for knitting\, crochet\, embroidery\, mending\, quilting\, and other portable crafts \nwhy: find community and camaraderie with other LGBTQ crafters \nwho: for all ages and genders. Kids are welcome\, but childcare is not provided. \nwhere: Quatrefoil Library at 1220 E Lake St Minneapolis. \nwhen: 1st and 3rd Wednesday nights from 7-9 pm \naccessibility: please wear a mask. \nhelp us cultivate a welcoming group: crafting is for all gender identities and types of gender expression; ask for (rather than assume) pronouns; all types of yarn and materials\, experience levels\, and portable craft projects are welcome.
URL:https://qlibrary.org/event/queer-threads-6/2028-02-02/
LOCATION:Quatrefoil Library: Spirit on Lake Community Room\, 1220 E Lake St\, Minneapolis\, MN\, 55407\, United States
CATEGORIES:Community Club
END:VEVENT
BEGIN:VEVENT
DTSTART;TZID=America/Chicago:20280301T190000
DTEND;TZID=America/Chicago:20280301T210000
DTSTAMP:20260423T073109
CREATED:20240324T164527Z
LAST-MODIFIED:20240324T164545Z
UID:10001642-1835550000-1835557200@qlibrary.org
SUMMARY:Queer Threads
DESCRIPTION:Queer threads: a weekly intergenerational craft night for LGBTQ people of all genders \nwhat: a weekly craft night for knitting\, crochet\, embroidery\, mending\, quilting\, and other portable crafts \nwhy: find community and camaraderie with other LGBTQ crafters \nwho: for all ages and genders. Kids are welcome\, but childcare is not provided. \nwhere: Quatrefoil Library at 1220 E Lake St Minneapolis. \nwhen: 1st and 3rd Wednesday nights from 7-9 pm \naccessibility: please wear a mask. \nhelp us cultivate a welcoming group: crafting is for all gender identities and types of gender expression; ask for (rather than assume) pronouns; all types of yarn and materials\, experience levels\, and portable craft projects are welcome.
URL:https://qlibrary.org/event/queer-threads-6/2028-03-01/
LOCATION:Quatrefoil Library: Spirit on Lake Community Room\, 1220 E Lake St\, Minneapolis\, MN\, 55407\, United States
CATEGORIES:Community Club
END:VEVENT
BEGIN:VEVENT
DTSTART;TZID=America/Chicago:20280405T190000
DTEND;TZID=America/Chicago:20280405T210000
DTSTAMP:20260423T073109
CREATED:20240324T164527Z
LAST-MODIFIED:20240324T164545Z
UID:10001643-1838574000-1838581200@qlibrary.org
SUMMARY:Queer Threads
DESCRIPTION:Queer threads: a weekly intergenerational craft night for LGBTQ people of all genders \nwhat: a weekly craft night for knitting\, crochet\, embroidery\, mending\, quilting\, and other portable crafts \nwhy: find community and camaraderie with other LGBTQ crafters \nwho: for all ages and genders. Kids are welcome\, but childcare is not provided. \nwhere: Quatrefoil Library at 1220 E Lake St Minneapolis. \nwhen: 1st and 3rd Wednesday nights from 7-9 pm \naccessibility: please wear a mask. \nhelp us cultivate a welcoming group: crafting is for all gender identities and types of gender expression; ask for (rather than assume) pronouns; all types of yarn and materials\, experience levels\, and portable craft projects are welcome.
URL:https://qlibrary.org/event/queer-threads-6/2028-04-05/
LOCATION:Quatrefoil Library: Spirit on Lake Community Room\, 1220 E Lake St\, Minneapolis\, MN\, 55407\, United States
CATEGORIES:Community Club
END:VEVENT
BEGIN:VEVENT
DTSTART;TZID=America/Chicago:20280503T190000
DTEND;TZID=America/Chicago:20280503T210000
DTSTAMP:20260423T073109
CREATED:20240324T164527Z
LAST-MODIFIED:20240324T164545Z
UID:10001644-1840993200-1841000400@qlibrary.org
SUMMARY:Queer Threads
DESCRIPTION:Queer threads: a weekly intergenerational craft night for LGBTQ people of all genders \nwhat: a weekly craft night for knitting\, crochet\, embroidery\, mending\, quilting\, and other portable crafts \nwhy: find community and camaraderie with other LGBTQ crafters \nwho: for all ages and genders. Kids are welcome\, but childcare is not provided. \nwhere: Quatrefoil Library at 1220 E Lake St Minneapolis. \nwhen: 1st and 3rd Wednesday nights from 7-9 pm \naccessibility: please wear a mask. \nhelp us cultivate a welcoming group: crafting is for all gender identities and types of gender expression; ask for (rather than assume) pronouns; all types of yarn and materials\, experience levels\, and portable craft projects are welcome.
URL:https://qlibrary.org/event/queer-threads-6/2028-05-03/
LOCATION:Quatrefoil Library: Spirit on Lake Community Room\, 1220 E Lake St\, Minneapolis\, MN\, 55407\, United States
CATEGORIES:Community Club
END:VEVENT
BEGIN:VEVENT
DTSTART;TZID=America/Chicago:20280607T190000
DTEND;TZID=America/Chicago:20280607T210000
DTSTAMP:20260423T073109
CREATED:20240324T164527Z
LAST-MODIFIED:20240324T164545Z
UID:10001645-1844017200-1844024400@qlibrary.org
SUMMARY:Queer Threads
DESCRIPTION:Queer threads: a weekly intergenerational craft night for LGBTQ people of all genders \nwhat: a weekly craft night for knitting\, crochet\, embroidery\, mending\, quilting\, and other portable crafts \nwhy: find community and camaraderie with other LGBTQ crafters \nwho: for all ages and genders. Kids are welcome\, but childcare is not provided. \nwhere: Quatrefoil Library at 1220 E Lake St Minneapolis. \nwhen: 1st and 3rd Wednesday nights from 7-9 pm \naccessibility: please wear a mask. \nhelp us cultivate a welcoming group: crafting is for all gender identities and types of gender expression; ask for (rather than assume) pronouns; all types of yarn and materials\, experience levels\, and portable craft projects are welcome.
URL:https://qlibrary.org/event/queer-threads-6/2028-06-07/
LOCATION:Quatrefoil Library: Spirit on Lake Community Room\, 1220 E Lake St\, Minneapolis\, MN\, 55407\, United States
CATEGORIES:Community Club
END:VEVENT
BEGIN:VEVENT
DTSTART;TZID=America/Chicago:20280705T190000
DTEND;TZID=America/Chicago:20280705T210000
DTSTAMP:20260423T073109
CREATED:20240324T164527Z
LAST-MODIFIED:20240324T164545Z
UID:10001646-1846436400-1846443600@qlibrary.org
SUMMARY:Queer Threads
DESCRIPTION:Queer threads: a weekly intergenerational craft night for LGBTQ people of all genders \nwhat: a weekly craft night for knitting\, crochet\, embroidery\, mending\, quilting\, and other portable crafts \nwhy: find community and camaraderie with other LGBTQ crafters \nwho: for all ages and genders. Kids are welcome\, but childcare is not provided. \nwhere: Quatrefoil Library at 1220 E Lake St Minneapolis. \nwhen: 1st and 3rd Wednesday nights from 7-9 pm \naccessibility: please wear a mask. \nhelp us cultivate a welcoming group: crafting is for all gender identities and types of gender expression; ask for (rather than assume) pronouns; all types of yarn and materials\, experience levels\, and portable craft projects are welcome.
URL:https://qlibrary.org/event/queer-threads-6/2028-07-05/
LOCATION:Quatrefoil Library: Spirit on Lake Community Room\, 1220 E Lake St\, Minneapolis\, MN\, 55407\, United States
CATEGORIES:Community Club
END:VEVENT
BEGIN:VEVENT
DTSTART;TZID=America/Chicago:20280802T190000
DTEND;TZID=America/Chicago:20280802T210000
DTSTAMP:20260423T073109
CREATED:20240324T164527Z
LAST-MODIFIED:20240324T164545Z
UID:10001647-1848855600-1848862800@qlibrary.org
SUMMARY:Queer Threads
DESCRIPTION:Queer threads: a weekly intergenerational craft night for LGBTQ people of all genders \nwhat: a weekly craft night for knitting\, crochet\, embroidery\, mending\, quilting\, and other portable crafts \nwhy: find community and camaraderie with other LGBTQ crafters \nwho: for all ages and genders. Kids are welcome\, but childcare is not provided. \nwhere: Quatrefoil Library at 1220 E Lake St Minneapolis. \nwhen: 1st and 3rd Wednesday nights from 7-9 pm \naccessibility: please wear a mask. \nhelp us cultivate a welcoming group: crafting is for all gender identities and types of gender expression; ask for (rather than assume) pronouns; all types of yarn and materials\, experience levels\, and portable craft projects are welcome.
URL:https://qlibrary.org/event/queer-threads-6/2028-08-02/
LOCATION:Quatrefoil Library: Spirit on Lake Community Room\, 1220 E Lake St\, Minneapolis\, MN\, 55407\, United States
CATEGORIES:Community Club
END:VEVENT
BEGIN:VEVENT
DTSTART;TZID=America/Chicago:20280906T190000
DTEND;TZID=America/Chicago:20280906T210000
DTSTAMP:20260423T073109
CREATED:20240324T164527Z
LAST-MODIFIED:20240324T164545Z
UID:10001648-1851879600-1851886800@qlibrary.org
SUMMARY:Queer Threads
DESCRIPTION:Queer threads: a weekly intergenerational craft night for LGBTQ people of all genders \nwhat: a weekly craft night for knitting\, crochet\, embroidery\, mending\, quilting\, and other portable crafts \nwhy: find community and camaraderie with other LGBTQ crafters \nwho: for all ages and genders. Kids are welcome\, but childcare is not provided. \nwhere: Quatrefoil Library at 1220 E Lake St Minneapolis. \nwhen: 1st and 3rd Wednesday nights from 7-9 pm \naccessibility: please wear a mask. \nhelp us cultivate a welcoming group: crafting is for all gender identities and types of gender expression; ask for (rather than assume) pronouns; all types of yarn and materials\, experience levels\, and portable craft projects are welcome.
URL:https://qlibrary.org/event/queer-threads-6/2028-09-06/
LOCATION:Quatrefoil Library: Spirit on Lake Community Room\, 1220 E Lake St\, Minneapolis\, MN\, 55407\, United States
CATEGORIES:Community Club
END:VEVENT
BEGIN:VEVENT
DTSTART;TZID=America/Chicago:20281004T190000
DTEND;TZID=America/Chicago:20281004T210000
DTSTAMP:20260423T073109
CREATED:20240324T164527Z
LAST-MODIFIED:20240324T164545Z
UID:10001649-1854298800-1854306000@qlibrary.org
SUMMARY:Queer Threads
DESCRIPTION:Queer threads: a weekly intergenerational craft night for LGBTQ people of all genders \nwhat: a weekly craft night for knitting\, crochet\, embroidery\, mending\, quilting\, and other portable crafts \nwhy: find community and camaraderie with other LGBTQ crafters \nwho: for all ages and genders. Kids are welcome\, but childcare is not provided. \nwhere: Quatrefoil Library at 1220 E Lake St Minneapolis. \nwhen: 1st and 3rd Wednesday nights from 7-9 pm \naccessibility: please wear a mask. \nhelp us cultivate a welcoming group: crafting is for all gender identities and types of gender expression; ask for (rather than assume) pronouns; all types of yarn and materials\, experience levels\, and portable craft projects are welcome.
URL:https://qlibrary.org/event/queer-threads-6/2028-10-04/
LOCATION:Quatrefoil Library: Spirit on Lake Community Room\, 1220 E Lake St\, Minneapolis\, MN\, 55407\, United States
CATEGORIES:Community Club
END:VEVENT
BEGIN:VEVENT
DTSTART;TZID=America/Chicago:20281101T190000
DTEND;TZID=America/Chicago:20281101T210000
DTSTAMP:20260423T073109
CREATED:20240324T164527Z
LAST-MODIFIED:20240324T164545Z
UID:10001650-1856718000-1856725200@qlibrary.org
SUMMARY:Queer Threads
DESCRIPTION:Queer threads: a weekly intergenerational craft night for LGBTQ people of all genders \nwhat: a weekly craft night for knitting\, crochet\, embroidery\, mending\, quilting\, and other portable crafts \nwhy: find community and camaraderie with other LGBTQ crafters \nwho: for all ages and genders. Kids are welcome\, but childcare is not provided. \nwhere: Quatrefoil Library at 1220 E Lake St Minneapolis. \nwhen: 1st and 3rd Wednesday nights from 7-9 pm \naccessibility: please wear a mask. \nhelp us cultivate a welcoming group: crafting is for all gender identities and types of gender expression; ask for (rather than assume) pronouns; all types of yarn and materials\, experience levels\, and portable craft projects are welcome.
URL:https://qlibrary.org/event/queer-threads-6/2028-11-01/
LOCATION:Quatrefoil Library: Spirit on Lake Community Room\, 1220 E Lake St\, Minneapolis\, MN\, 55407\, United States
CATEGORIES:Community Club
END:VEVENT
BEGIN:VEVENT
DTSTART;TZID=America/Chicago:20281206T190000
DTEND;TZID=America/Chicago:20281206T210000
DTSTAMP:20260423T073109
CREATED:20240324T164527Z
LAST-MODIFIED:20240324T164545Z
UID:10001651-1859742000-1859749200@qlibrary.org
SUMMARY:Queer Threads
DESCRIPTION:Queer threads: a weekly intergenerational craft night for LGBTQ people of all genders \nwhat: a weekly craft night for knitting\, crochet\, embroidery\, mending\, quilting\, and other portable crafts \nwhy: find community and camaraderie with other LGBTQ crafters \nwho: for all ages and genders. Kids are welcome\, but childcare is not provided. \nwhere: Quatrefoil Library at 1220 E Lake St Minneapolis. \nwhen: 1st and 3rd Wednesday nights from 7-9 pm \naccessibility: please wear a mask. \nhelp us cultivate a welcoming group: crafting is for all gender identities and types of gender expression; ask for (rather than assume) pronouns; all types of yarn and materials\, experience levels\, and portable craft projects are welcome.
URL:https://qlibrary.org/event/queer-threads-6/2028-12-06/
LOCATION:Quatrefoil Library: Spirit on Lake Community Room\, 1220 E Lake St\, Minneapolis\, MN\, 55407\, United States
CATEGORIES:Community Club
END:VEVENT
BEGIN:VEVENT
DTSTART;TZID=America/Chicago:20290103T190000
DTEND;TZID=America/Chicago:20290103T210000
DTSTAMP:20260423T073109
CREATED:20240324T164527Z
LAST-MODIFIED:20240324T164545Z
UID:10001652-1862161200-1862168400@qlibrary.org
SUMMARY:Queer Threads
DESCRIPTION:Queer threads: a weekly intergenerational craft night for LGBTQ people of all genders \nwhat: a weekly craft night for knitting\, crochet\, embroidery\, mending\, quilting\, and other portable crafts \nwhy: find community and camaraderie with other LGBTQ crafters \nwho: for all ages and genders. Kids are welcome\, but childcare is not provided. \nwhere: Quatrefoil Library at 1220 E Lake St Minneapolis. \nwhen: 1st and 3rd Wednesday nights from 7-9 pm \naccessibility: please wear a mask. \nhelp us cultivate a welcoming group: crafting is for all gender identities and types of gender expression; ask for (rather than assume) pronouns; all types of yarn and materials\, experience levels\, and portable craft projects are welcome.
URL:https://qlibrary.org/event/queer-threads-6/2029-01-03/
LOCATION:Quatrefoil Library: Spirit on Lake Community Room\, 1220 E Lake St\, Minneapolis\, MN\, 55407\, United States
CATEGORIES:Community Club
END:VEVENT
BEGIN:VEVENT
DTSTART;TZID=America/Chicago:20290207T190000
DTEND;TZID=America/Chicago:20290207T210000
DTSTAMP:20260423T073109
CREATED:20240324T164527Z
LAST-MODIFIED:20240324T164545Z
UID:10001653-1865185200-1865192400@qlibrary.org
SUMMARY:Queer Threads
DESCRIPTION:Queer threads: a weekly intergenerational craft night for LGBTQ people of all genders \nwhat: a weekly craft night for knitting\, crochet\, embroidery\, mending\, quilting\, and other portable crafts \nwhy: find community and camaraderie with other LGBTQ crafters \nwho: for all ages and genders. Kids are welcome\, but childcare is not provided. \nwhere: Quatrefoil Library at 1220 E Lake St Minneapolis. \nwhen: 1st and 3rd Wednesday nights from 7-9 pm \naccessibility: please wear a mask. \nhelp us cultivate a welcoming group: crafting is for all gender identities and types of gender expression; ask for (rather than assume) pronouns; all types of yarn and materials\, experience levels\, and portable craft projects are welcome.
URL:https://qlibrary.org/event/queer-threads-6/2029-02-07/
LOCATION:Quatrefoil Library: Spirit on Lake Community Room\, 1220 E Lake St\, Minneapolis\, MN\, 55407\, United States
CATEGORIES:Community Club
END:VEVENT
BEGIN:VEVENT
DTSTART;TZID=America/Chicago:20290307T190000
DTEND;TZID=America/Chicago:20290307T210000
DTSTAMP:20260423T073109
CREATED:20240324T164527Z
LAST-MODIFIED:20240324T164545Z
UID:10001654-1867604400-1867611600@qlibrary.org
SUMMARY:Queer Threads
DESCRIPTION:Queer threads: a weekly intergenerational craft night for LGBTQ people of all genders \nwhat: a weekly craft night for knitting\, crochet\, embroidery\, mending\, quilting\, and other portable crafts \nwhy: find community and camaraderie with other LGBTQ crafters \nwho: for all ages and genders. Kids are welcome\, but childcare is not provided. \nwhere: Quatrefoil Library at 1220 E Lake St Minneapolis. \nwhen: 1st and 3rd Wednesday nights from 7-9 pm \naccessibility: please wear a mask. \nhelp us cultivate a welcoming group: crafting is for all gender identities and types of gender expression; ask for (rather than assume) pronouns; all types of yarn and materials\, experience levels\, and portable craft projects are welcome.
URL:https://qlibrary.org/event/queer-threads-6/2029-03-07/
LOCATION:Quatrefoil Library: Spirit on Lake Community Room\, 1220 E Lake St\, Minneapolis\, MN\, 55407\, United States
CATEGORIES:Community Club
END:VEVENT
END:VCALENDAR