BEGIN:VCALENDAR
VERSION:2.0
PRODID:-//Quatrefoil Library - ECPv6.15.20//NONSGML v1.0//EN
CALSCALE:GREGORIAN
METHOD:PUBLISH
X-WR-CALNAME:Quatrefoil Library
X-ORIGINAL-URL:https://qlibrary.org
X-WR-CALDESC:Events for Quatrefoil Library
REFRESH-INTERVAL;VALUE=DURATION:PT1H
X-Robots-Tag:noindex
X-PUBLISHED-TTL:PT1H
BEGIN:VTIMEZONE
TZID:America/Chicago
BEGIN:DAYLIGHT
TZOFFSETFROM:-0600
TZOFFSETTO:-0500
TZNAME:CDT
DTSTART:20240310T080000
END:DAYLIGHT
BEGIN:STANDARD
TZOFFSETFROM:-0500
TZOFFSETTO:-0600
TZNAME:CST
DTSTART:20241103T070000
END:STANDARD
BEGIN:DAYLIGHT
TZOFFSETFROM:-0600
TZOFFSETTO:-0500
TZNAME:CDT
DTSTART:20250309T080000
END:DAYLIGHT
BEGIN:STANDARD
TZOFFSETFROM:-0500
TZOFFSETTO:-0600
TZNAME:CST
DTSTART:20251102T070000
END:STANDARD
BEGIN:DAYLIGHT
TZOFFSETFROM:-0600
TZOFFSETTO:-0500
TZNAME:CDT
DTSTART:20260308T080000
END:DAYLIGHT
BEGIN:STANDARD
TZOFFSETFROM:-0500
TZOFFSETTO:-0600
TZNAME:CST
DTSTART:20261101T070000
END:STANDARD
END:VTIMEZONE
BEGIN:VEVENT
DTSTART;TZID=America/Chicago:20251009T183000
DTEND;TZID=America/Chicago:20251009T203000
DTSTAMP:20260423T160737
CREATED:20250909T213448Z
LAST-MODIFIED:20250909T223636Z
UID:10003866-1760034600-1760041800@qlibrary.org
SUMMARY:OFFSITE - Minnesota Writers Off the Page - The Lonely Veteran’s Guide to Companionship
DESCRIPTION:Hosting by the Minnesota Humanities Center\, the event will show how in the collection of interrelated essays\, a queer veteran explores companionship\, the role of the outsider\, and the myriad ways we navigate aimlessness while searching for stability and meaning.
URL:https://qlibrary.org/event/offsite-minnesota-writers-off-the-page-the-lonely-veterans-guide-to-companionship/
LOCATION:Minnesota Humanities Center\, 987 Ivy Ave E\,\, St Paul\, MN\, 55106\, United States
CATEGORIES:Reading
END:VEVENT
END:VCALENDAR