BEGIN:VCALENDAR
VERSION:2.0
PRODID:-//Quatrefoil Library - ECPv6.15.20//NONSGML v1.0//EN
CALSCALE:GREGORIAN
METHOD:PUBLISH
X-ORIGINAL-URL:https://qlibrary.org
X-WR-CALDESC:Events for Quatrefoil Library
REFRESH-INTERVAL;VALUE=DURATION:PT1H
X-Robots-Tag:noindex
X-PUBLISHED-TTL:PT1H
BEGIN:VTIMEZONE
TZID:America/Chicago
BEGIN:DAYLIGHT
TZOFFSETFROM:-0600
TZOFFSETTO:-0500
TZNAME:CDT
DTSTART:20220313T080000
END:DAYLIGHT
BEGIN:STANDARD
TZOFFSETFROM:-0500
TZOFFSETTO:-0600
TZNAME:CST
DTSTART:20221106T070000
END:STANDARD
BEGIN:DAYLIGHT
TZOFFSETFROM:-0600
TZOFFSETTO:-0500
TZNAME:CDT
DTSTART:20230312T080000
END:DAYLIGHT
BEGIN:STANDARD
TZOFFSETFROM:-0500
TZOFFSETTO:-0600
TZNAME:CST
DTSTART:20231105T070000
END:STANDARD
BEGIN:DAYLIGHT
TZOFFSETFROM:-0600
TZOFFSETTO:-0500
TZNAME:CDT
DTSTART:20240310T080000
END:DAYLIGHT
BEGIN:STANDARD
TZOFFSETFROM:-0500
TZOFFSETTO:-0600
TZNAME:CST
DTSTART:20241103T070000
END:STANDARD
END:VTIMEZONE
BEGIN:VEVENT
DTSTART;TZID=America/Chicago:20230923T120000
DTEND;TZID=America/Chicago:20230923T170000
DTSTAMP:20260424T092628
CREATED:20230827T210336Z
LAST-MODIFIED:20230827T210336Z
UID:10000309-1695470400-1695488400@qlibrary.org
SUMMARY:Q @ Day of the Transgender Child
DESCRIPTION:Day of the Transgender Child 2023!\nSeptember 23rd\, 2023 from 12pm-5pm @ Hidden Falls Regional Park in St. Paul \nCome be in community with us and show trans youth just how loved they are! \nAt the event you can expect:\n*A robust resource fair \n*New Day of the Transgender Child T-shirt design\n*Drag Tale Time with Transforming Generations\n*Amazing guest speakers\n*Silent Auction to help raise funds for TFF\n*Rainbow Bingo\n*Face-painting\n*All the family fun
URL:https://qlibrary.org/event/q-day-of-the-transgender-child/
LOCATION:Hidden Falls Regional Park\, 1313 Hidden Falls Dr\, Saint Paul\, MN\, 55116\, United States
END:VEVENT
END:VCALENDAR