BEGIN:VCALENDAR
VERSION:2.0
PRODID:-//Quatrefoil Library - ECPv6.15.20//NONSGML v1.0//EN
CALSCALE:GREGORIAN
METHOD:PUBLISH
X-WR-CALNAME:Quatrefoil Library
X-ORIGINAL-URL:https://qlibrary.org
X-WR-CALDESC:Events for Quatrefoil Library
REFRESH-INTERVAL;VALUE=DURATION:PT1H
X-Robots-Tag:noindex
X-PUBLISHED-TTL:PT1H
BEGIN:VTIMEZONE
TZID:America/Chicago
BEGIN:DAYLIGHT
TZOFFSETFROM:-0600
TZOFFSETTO:-0500
TZNAME:CDT
DTSTART:20240310T080000
END:DAYLIGHT
BEGIN:STANDARD
TZOFFSETFROM:-0500
TZOFFSETTO:-0600
TZNAME:CST
DTSTART:20241103T070000
END:STANDARD
BEGIN:DAYLIGHT
TZOFFSETFROM:-0600
TZOFFSETTO:-0500
TZNAME:CDT
DTSTART:20250309T080000
END:DAYLIGHT
BEGIN:STANDARD
TZOFFSETFROM:-0500
TZOFFSETTO:-0600
TZNAME:CST
DTSTART:20251102T070000
END:STANDARD
BEGIN:DAYLIGHT
TZOFFSETFROM:-0600
TZOFFSETTO:-0500
TZNAME:CDT
DTSTART:20260308T080000
END:DAYLIGHT
BEGIN:STANDARD
TZOFFSETFROM:-0500
TZOFFSETTO:-0600
TZNAME:CST
DTSTART:20261101T070000
END:STANDARD
END:VTIMEZONE
BEGIN:VEVENT
DTSTART;TZID=America/Chicago:20251114T170000
DTEND;TZID=America/Chicago:20251114T190000
DTSTAMP:20260423T144851
CREATED:20251002T002135Z
LAST-MODIFIED:20251002T002135Z
UID:10003878-1763139600-1763146800@qlibrary.org
SUMMARY:OFFSITE: Safer Sex Kit Assembly at Family Tree Clinic
DESCRIPTION:Join us for an evening of volunteering @ Family Tree Clinic! We will: \n\nassemble safer sex kits\nfold zines\nbe merry!\n\nFeel free to come for any/all of the evening. We will provide light refreshments & great vibes. This is the third event in the We Take Care of Us: Queer Resilience Event Series with Quatrefoil Library. \nACCESSIBILITY: Family Tree Clinic is located on the same block as the 2 and the 18 buses. There is a bike rack outside of our building. There is a parking lot right next to Family Tree Clinic with accessible parking spaces\, as well as parking across Nicollet in the church parking lot. We provide masks inside of Family Tree Clinic. Our doors remain locked\, and our Welcome Desk is staffed inside the door\, and lets folks in via an intercom system. We have many spaces\, both inside and out\, where folks can take their masks off and be distanced from others. \n  \nHotline: \nThe Minnesota Sexual Health Hotline provides reliable\, medically accurate\, and confidential information for free via phone\, text\, and webchat. All calls are patient positive\, LGBTQ+ competent\, and with a trained health educator. \nThe hotline services are sponsored by the Minnesota Department of Health\, and operated by Family Tree Clinic in Minneapolis.\n\nFTC: \nFamily Tree Clinic’s mission is to cultivate a healthy community through comprehensive sexual health care and education.
URL:https://qlibrary.org/event/offsite-safer-sex-kit-assembly-at-family-tree-clinic/
LOCATION:Family Tree Clinic\, 1919 Nicollet Ave\, Minneapolis\, MN\, 55403\, United States
CATEGORIES:Event Series
END:VEVENT
END:VCALENDAR