BEGIN:VCALENDAR
VERSION:2.0
PRODID:-//Quatrefoil Library - ECPv6.15.20//NONSGML v1.0//EN
CALSCALE:GREGORIAN
METHOD:PUBLISH
X-WR-CALNAME:Quatrefoil Library
X-ORIGINAL-URL:https://qlibrary.org
X-WR-CALDESC:Events for Quatrefoil Library
REFRESH-INTERVAL;VALUE=DURATION:PT1H
X-Robots-Tag:noindex
X-PUBLISHED-TTL:PT1H
BEGIN:VTIMEZONE
TZID:America/Chicago
BEGIN:DAYLIGHT
TZOFFSETFROM:-0600
TZOFFSETTO:-0500
TZNAME:CDT
DTSTART:20250309T080000
END:DAYLIGHT
BEGIN:STANDARD
TZOFFSETFROM:-0500
TZOFFSETTO:-0600
TZNAME:CST
DTSTART:20251102T070000
END:STANDARD
BEGIN:DAYLIGHT
TZOFFSETFROM:-0600
TZOFFSETTO:-0500
TZNAME:CDT
DTSTART:20260308T080000
END:DAYLIGHT
BEGIN:STANDARD
TZOFFSETFROM:-0500
TZOFFSETTO:-0600
TZNAME:CST
DTSTART:20261101T070000
END:STANDARD
BEGIN:DAYLIGHT
TZOFFSETFROM:-0600
TZOFFSETTO:-0500
TZNAME:CDT
DTSTART:20270314T080000
END:DAYLIGHT
BEGIN:STANDARD
TZOFFSETFROM:-0500
TZOFFSETTO:-0600
TZNAME:CST
DTSTART:20271107T070000
END:STANDARD
BEGIN:DAYLIGHT
TZOFFSETFROM:-0600
TZOFFSETTO:-0500
TZNAME:CDT
DTSTART:20280312T080000
END:DAYLIGHT
BEGIN:STANDARD
TZOFFSETFROM:-0500
TZOFFSETTO:-0600
TZNAME:CST
DTSTART:20281105T070000
END:STANDARD
BEGIN:DAYLIGHT
TZOFFSETFROM:-0600
TZOFFSETTO:-0500
TZNAME:CDT
DTSTART:20290311T080000
END:DAYLIGHT
BEGIN:STANDARD
TZOFFSETFROM:-0500
TZOFFSETTO:-0600
TZNAME:CST
DTSTART:20291104T070000
END:STANDARD
END:VTIMEZONE
BEGIN:VEVENT
DTSTART;TZID=America/Chicago:20260507T183000
DTEND;TZID=America/Chicago:20260507T200000
DTSTAMP:20260423T054041
CREATED:20260108T021858Z
LAST-MODIFIED:20260108T021858Z
UID:10004359-1778178600-1778184000@qlibrary.org
SUMMARY:Quatrefoil Board Meeting
DESCRIPTION:The Quatrefoil Board meets monthly on the first Thursday of the month in the Community Room.
URL:https://qlibrary.org/event/quatrefoil-board-meeting-2-2-2/2026-05-07/
LOCATION:Quatrefoil Library\, 1220 East Lake Street\, Minneapolis\, MN\, 55407\, United States
CATEGORIES:Committee Meetings
END:VEVENT
BEGIN:VEVENT
DTSTART;TZID=America/Chicago:20260604T183000
DTEND;TZID=America/Chicago:20260604T200000
DTSTAMP:20260423T054041
CREATED:20260108T021858Z
LAST-MODIFIED:20260108T021858Z
UID:10004360-1780597800-1780603200@qlibrary.org
SUMMARY:Quatrefoil Board Meeting
DESCRIPTION:The Quatrefoil Board meets monthly on the first Thursday of the month in the Community Room.
URL:https://qlibrary.org/event/quatrefoil-board-meeting-2-2-2/2026-06-04/
LOCATION:Quatrefoil Library\, 1220 East Lake Street\, Minneapolis\, MN\, 55407\, United States
CATEGORIES:Committee Meetings
END:VEVENT
BEGIN:VEVENT
DTSTART;TZID=America/Chicago:20260702T183000
DTEND;TZID=America/Chicago:20260702T200000
DTSTAMP:20260423T054041
CREATED:20260108T021858Z
LAST-MODIFIED:20260108T021858Z
UID:10004361-1783017000-1783022400@qlibrary.org
SUMMARY:Quatrefoil Board Meeting
DESCRIPTION:The Quatrefoil Board meets monthly on the first Thursday of the month in the Community Room.
URL:https://qlibrary.org/event/quatrefoil-board-meeting-2-2-2/2026-07-02/
LOCATION:Quatrefoil Library\, 1220 East Lake Street\, Minneapolis\, MN\, 55407\, United States
CATEGORIES:Committee Meetings
END:VEVENT
BEGIN:VEVENT
DTSTART;TZID=America/Chicago:20260806T183000
DTEND;TZID=America/Chicago:20260806T200000
DTSTAMP:20260423T054041
CREATED:20260108T021858Z
LAST-MODIFIED:20260108T021858Z
UID:10004362-1786041000-1786046400@qlibrary.org
SUMMARY:Quatrefoil Board Meeting
DESCRIPTION:The Quatrefoil Board meets monthly on the first Thursday of the month in the Community Room.
URL:https://qlibrary.org/event/quatrefoil-board-meeting-2-2-2/2026-08-06/
LOCATION:Quatrefoil Library\, 1220 East Lake Street\, Minneapolis\, MN\, 55407\, United States
CATEGORIES:Committee Meetings
END:VEVENT
BEGIN:VEVENT
DTSTART;TZID=America/Chicago:20260903T183000
DTEND;TZID=America/Chicago:20260903T200000
DTSTAMP:20260423T054041
CREATED:20260108T021858Z
LAST-MODIFIED:20260108T021858Z
UID:10004363-1788460200-1788465600@qlibrary.org
SUMMARY:Quatrefoil Board Meeting
DESCRIPTION:The Quatrefoil Board meets monthly on the first Thursday of the month in the Community Room.
URL:https://qlibrary.org/event/quatrefoil-board-meeting-2-2-2/2026-09-03/
LOCATION:Quatrefoil Library\, 1220 East Lake Street\, Minneapolis\, MN\, 55407\, United States
CATEGORIES:Committee Meetings
END:VEVENT
BEGIN:VEVENT
DTSTART;TZID=America/Chicago:20261001T183000
DTEND;TZID=America/Chicago:20261001T200000
DTSTAMP:20260423T054041
CREATED:20260108T021858Z
LAST-MODIFIED:20260108T021858Z
UID:10004364-1790879400-1790884800@qlibrary.org
SUMMARY:Quatrefoil Board Meeting
DESCRIPTION:The Quatrefoil Board meets monthly on the first Thursday of the month in the Community Room.
URL:https://qlibrary.org/event/quatrefoil-board-meeting-2-2-2/2026-10-01/
LOCATION:Quatrefoil Library\, 1220 East Lake Street\, Minneapolis\, MN\, 55407\, United States
CATEGORIES:Committee Meetings
END:VEVENT
BEGIN:VEVENT
DTSTART;TZID=America/Chicago:20261105T183000
DTEND;TZID=America/Chicago:20261105T200000
DTSTAMP:20260423T054041
CREATED:20260108T021858Z
LAST-MODIFIED:20260108T021858Z
UID:10004365-1793903400-1793908800@qlibrary.org
SUMMARY:Quatrefoil Board Meeting
DESCRIPTION:The Quatrefoil Board meets monthly on the first Thursday of the month in the Community Room.
URL:https://qlibrary.org/event/quatrefoil-board-meeting-2-2-2/2026-11-05/
LOCATION:Quatrefoil Library\, 1220 East Lake Street\, Minneapolis\, MN\, 55407\, United States
CATEGORIES:Committee Meetings
END:VEVENT
BEGIN:VEVENT
DTSTART;TZID=America/Chicago:20261203T183000
DTEND;TZID=America/Chicago:20261203T200000
DTSTAMP:20260423T054041
CREATED:20260108T021858Z
LAST-MODIFIED:20260108T021858Z
UID:10004366-1796322600-1796328000@qlibrary.org
SUMMARY:Quatrefoil Board Meeting
DESCRIPTION:The Quatrefoil Board meets monthly on the first Thursday of the month in the Community Room.
URL:https://qlibrary.org/event/quatrefoil-board-meeting-2-2-2/2026-12-03/
LOCATION:Quatrefoil Library\, 1220 East Lake Street\, Minneapolis\, MN\, 55407\, United States
CATEGORIES:Committee Meetings
END:VEVENT
BEGIN:VEVENT
DTSTART;TZID=America/Chicago:20270107T183000
DTEND;TZID=America/Chicago:20270107T200000
DTSTAMP:20260423T054041
CREATED:20260108T021858Z
LAST-MODIFIED:20260108T021858Z
UID:10004367-1799346600-1799352000@qlibrary.org
SUMMARY:Quatrefoil Board Meeting
DESCRIPTION:The Quatrefoil Board meets monthly on the first Thursday of the month in the Community Room.
URL:https://qlibrary.org/event/quatrefoil-board-meeting-2-2-2/2027-01-07/
LOCATION:Quatrefoil Library\, 1220 East Lake Street\, Minneapolis\, MN\, 55407\, United States
CATEGORIES:Committee Meetings
END:VEVENT
BEGIN:VEVENT
DTSTART;TZID=America/Chicago:20270204T183000
DTEND;TZID=America/Chicago:20270204T200000
DTSTAMP:20260423T054041
CREATED:20260108T021858Z
LAST-MODIFIED:20260108T021858Z
UID:10004368-1801765800-1801771200@qlibrary.org
SUMMARY:Quatrefoil Board Meeting
DESCRIPTION:The Quatrefoil Board meets monthly on the first Thursday of the month in the Community Room.
URL:https://qlibrary.org/event/quatrefoil-board-meeting-2-2-2/2027-02-04/
LOCATION:Quatrefoil Library\, 1220 East Lake Street\, Minneapolis\, MN\, 55407\, United States
CATEGORIES:Committee Meetings
END:VEVENT
BEGIN:VEVENT
DTSTART;TZID=America/Chicago:20270304T183000
DTEND;TZID=America/Chicago:20270304T200000
DTSTAMP:20260423T054041
CREATED:20260108T021858Z
LAST-MODIFIED:20260108T021858Z
UID:10004369-1804185000-1804190400@qlibrary.org
SUMMARY:Quatrefoil Board Meeting
DESCRIPTION:The Quatrefoil Board meets monthly on the first Thursday of the month in the Community Room.
URL:https://qlibrary.org/event/quatrefoil-board-meeting-2-2-2/2027-03-04/
LOCATION:Quatrefoil Library\, 1220 East Lake Street\, Minneapolis\, MN\, 55407\, United States
CATEGORIES:Committee Meetings
END:VEVENT
BEGIN:VEVENT
DTSTART;TZID=America/Chicago:20270401T183000
DTEND;TZID=America/Chicago:20270401T200000
DTSTAMP:20260423T054041
CREATED:20260108T021858Z
LAST-MODIFIED:20260108T021858Z
UID:10004370-1806604200-1806609600@qlibrary.org
SUMMARY:Quatrefoil Board Meeting
DESCRIPTION:The Quatrefoil Board meets monthly on the first Thursday of the month in the Community Room.
URL:https://qlibrary.org/event/quatrefoil-board-meeting-2-2-2/2027-04-01/
LOCATION:Quatrefoil Library\, 1220 East Lake Street\, Minneapolis\, MN\, 55407\, United States
CATEGORIES:Committee Meetings
END:VEVENT
BEGIN:VEVENT
DTSTART;TZID=America/Chicago:20270506T183000
DTEND;TZID=America/Chicago:20270506T200000
DTSTAMP:20260423T054041
CREATED:20260108T021858Z
LAST-MODIFIED:20260108T021858Z
UID:10004371-1809628200-1809633600@qlibrary.org
SUMMARY:Quatrefoil Board Meeting
DESCRIPTION:The Quatrefoil Board meets monthly on the first Thursday of the month in the Community Room.
URL:https://qlibrary.org/event/quatrefoil-board-meeting-2-2-2/2027-05-06/
LOCATION:Quatrefoil Library\, 1220 East Lake Street\, Minneapolis\, MN\, 55407\, United States
CATEGORIES:Committee Meetings
END:VEVENT
BEGIN:VEVENT
DTSTART;TZID=America/Chicago:20270603T183000
DTEND;TZID=America/Chicago:20270603T200000
DTSTAMP:20260423T054041
CREATED:20260108T021858Z
LAST-MODIFIED:20260108T021858Z
UID:10004372-1812047400-1812052800@qlibrary.org
SUMMARY:Quatrefoil Board Meeting
DESCRIPTION:The Quatrefoil Board meets monthly on the first Thursday of the month in the Community Room.
URL:https://qlibrary.org/event/quatrefoil-board-meeting-2-2-2/2027-06-03/
LOCATION:Quatrefoil Library\, 1220 East Lake Street\, Minneapolis\, MN\, 55407\, United States
CATEGORIES:Committee Meetings
END:VEVENT
BEGIN:VEVENT
DTSTART;TZID=America/Chicago:20270701T183000
DTEND;TZID=America/Chicago:20270701T200000
DTSTAMP:20260423T054041
CREATED:20260108T021858Z
LAST-MODIFIED:20260108T021858Z
UID:10004373-1814466600-1814472000@qlibrary.org
SUMMARY:Quatrefoil Board Meeting
DESCRIPTION:The Quatrefoil Board meets monthly on the first Thursday of the month in the Community Room.
URL:https://qlibrary.org/event/quatrefoil-board-meeting-2-2-2/2027-07-01/
LOCATION:Quatrefoil Library\, 1220 East Lake Street\, Minneapolis\, MN\, 55407\, United States
CATEGORIES:Committee Meetings
END:VEVENT
BEGIN:VEVENT
DTSTART;TZID=America/Chicago:20270805T183000
DTEND;TZID=America/Chicago:20270805T200000
DTSTAMP:20260423T054041
CREATED:20260108T021858Z
LAST-MODIFIED:20260108T021858Z
UID:10004374-1817490600-1817496000@qlibrary.org
SUMMARY:Quatrefoil Board Meeting
DESCRIPTION:The Quatrefoil Board meets monthly on the first Thursday of the month in the Community Room.
URL:https://qlibrary.org/event/quatrefoil-board-meeting-2-2-2/2027-08-05/
LOCATION:Quatrefoil Library\, 1220 East Lake Street\, Minneapolis\, MN\, 55407\, United States
CATEGORIES:Committee Meetings
END:VEVENT
BEGIN:VEVENT
DTSTART;TZID=America/Chicago:20270902T183000
DTEND;TZID=America/Chicago:20270902T200000
DTSTAMP:20260423T054041
CREATED:20260108T021858Z
LAST-MODIFIED:20260108T021858Z
UID:10004375-1819909800-1819915200@qlibrary.org
SUMMARY:Quatrefoil Board Meeting
DESCRIPTION:The Quatrefoil Board meets monthly on the first Thursday of the month in the Community Room.
URL:https://qlibrary.org/event/quatrefoil-board-meeting-2-2-2/2027-09-02/
LOCATION:Quatrefoil Library\, 1220 East Lake Street\, Minneapolis\, MN\, 55407\, United States
CATEGORIES:Committee Meetings
END:VEVENT
BEGIN:VEVENT
DTSTART;TZID=America/Chicago:20271007T183000
DTEND;TZID=America/Chicago:20271007T200000
DTSTAMP:20260423T054041
CREATED:20260108T021858Z
LAST-MODIFIED:20260108T021858Z
UID:10004376-1822933800-1822939200@qlibrary.org
SUMMARY:Quatrefoil Board Meeting
DESCRIPTION:The Quatrefoil Board meets monthly on the first Thursday of the month in the Community Room.
URL:https://qlibrary.org/event/quatrefoil-board-meeting-2-2-2/2027-10-07/
LOCATION:Quatrefoil Library\, 1220 East Lake Street\, Minneapolis\, MN\, 55407\, United States
CATEGORIES:Committee Meetings
END:VEVENT
BEGIN:VEVENT
DTSTART;TZID=America/Chicago:20271104T183000
DTEND;TZID=America/Chicago:20271104T200000
DTSTAMP:20260423T054041
CREATED:20260108T021858Z
LAST-MODIFIED:20260108T021858Z
UID:10004377-1825353000-1825358400@qlibrary.org
SUMMARY:Quatrefoil Board Meeting
DESCRIPTION:The Quatrefoil Board meets monthly on the first Thursday of the month in the Community Room.
URL:https://qlibrary.org/event/quatrefoil-board-meeting-2-2-2/2027-11-04/
LOCATION:Quatrefoil Library\, 1220 East Lake Street\, Minneapolis\, MN\, 55407\, United States
CATEGORIES:Committee Meetings
END:VEVENT
BEGIN:VEVENT
DTSTART;TZID=America/Chicago:20271202T183000
DTEND;TZID=America/Chicago:20271202T200000
DTSTAMP:20260423T054041
CREATED:20260108T021858Z
LAST-MODIFIED:20260108T021858Z
UID:10004378-1827772200-1827777600@qlibrary.org
SUMMARY:Quatrefoil Board Meeting
DESCRIPTION:The Quatrefoil Board meets monthly on the first Thursday of the month in the Community Room.
URL:https://qlibrary.org/event/quatrefoil-board-meeting-2-2-2/2027-12-02/
LOCATION:Quatrefoil Library\, 1220 East Lake Street\, Minneapolis\, MN\, 55407\, United States
CATEGORIES:Committee Meetings
END:VEVENT
BEGIN:VEVENT
DTSTART;TZID=America/Chicago:20280106T183000
DTEND;TZID=America/Chicago:20280106T200000
DTSTAMP:20260423T054041
CREATED:20260108T021858Z
LAST-MODIFIED:20260108T021858Z
UID:10004379-1830796200-1830801600@qlibrary.org
SUMMARY:Quatrefoil Board Meeting
DESCRIPTION:The Quatrefoil Board meets monthly on the first Thursday of the month in the Community Room.
URL:https://qlibrary.org/event/quatrefoil-board-meeting-2-2-2/2028-01-06/
LOCATION:Quatrefoil Library\, 1220 East Lake Street\, Minneapolis\, MN\, 55407\, United States
CATEGORIES:Committee Meetings
END:VEVENT
BEGIN:VEVENT
DTSTART;TZID=America/Chicago:20280203T183000
DTEND;TZID=America/Chicago:20280203T200000
DTSTAMP:20260423T054041
CREATED:20260108T021858Z
LAST-MODIFIED:20260108T021858Z
UID:10004380-1833215400-1833220800@qlibrary.org
SUMMARY:Quatrefoil Board Meeting
DESCRIPTION:The Quatrefoil Board meets monthly on the first Thursday of the month in the Community Room.
URL:https://qlibrary.org/event/quatrefoil-board-meeting-2-2-2/2028-02-03/
LOCATION:Quatrefoil Library\, 1220 East Lake Street\, Minneapolis\, MN\, 55407\, United States
CATEGORIES:Committee Meetings
END:VEVENT
BEGIN:VEVENT
DTSTART;TZID=America/Chicago:20280302T183000
DTEND;TZID=America/Chicago:20280302T200000
DTSTAMP:20260423T054041
CREATED:20260108T021858Z
LAST-MODIFIED:20260108T021858Z
UID:10004381-1835634600-1835640000@qlibrary.org
SUMMARY:Quatrefoil Board Meeting
DESCRIPTION:The Quatrefoil Board meets monthly on the first Thursday of the month in the Community Room.
URL:https://qlibrary.org/event/quatrefoil-board-meeting-2-2-2/2028-03-02/
LOCATION:Quatrefoil Library\, 1220 East Lake Street\, Minneapolis\, MN\, 55407\, United States
CATEGORIES:Committee Meetings
END:VEVENT
BEGIN:VEVENT
DTSTART;TZID=America/Chicago:20280406T183000
DTEND;TZID=America/Chicago:20280406T200000
DTSTAMP:20260423T054041
CREATED:20260108T021858Z
LAST-MODIFIED:20260108T021858Z
UID:10004382-1838658600-1838664000@qlibrary.org
SUMMARY:Quatrefoil Board Meeting
DESCRIPTION:The Quatrefoil Board meets monthly on the first Thursday of the month in the Community Room.
URL:https://qlibrary.org/event/quatrefoil-board-meeting-2-2-2/2028-04-06/
LOCATION:Quatrefoil Library\, 1220 East Lake Street\, Minneapolis\, MN\, 55407\, United States
CATEGORIES:Committee Meetings
END:VEVENT
BEGIN:VEVENT
DTSTART;TZID=America/Chicago:20280504T183000
DTEND;TZID=America/Chicago:20280504T200000
DTSTAMP:20260423T054041
CREATED:20260108T021858Z
LAST-MODIFIED:20260108T021858Z
UID:10004383-1841077800-1841083200@qlibrary.org
SUMMARY:Quatrefoil Board Meeting
DESCRIPTION:The Quatrefoil Board meets monthly on the first Thursday of the month in the Community Room.
URL:https://qlibrary.org/event/quatrefoil-board-meeting-2-2-2/2028-05-04/
LOCATION:Quatrefoil Library\, 1220 East Lake Street\, Minneapolis\, MN\, 55407\, United States
CATEGORIES:Committee Meetings
END:VEVENT
BEGIN:VEVENT
DTSTART;TZID=America/Chicago:20280601T183000
DTEND;TZID=America/Chicago:20280601T200000
DTSTAMP:20260423T054041
CREATED:20260108T021858Z
LAST-MODIFIED:20260108T021858Z
UID:10004384-1843497000-1843502400@qlibrary.org
SUMMARY:Quatrefoil Board Meeting
DESCRIPTION:The Quatrefoil Board meets monthly on the first Thursday of the month in the Community Room.
URL:https://qlibrary.org/event/quatrefoil-board-meeting-2-2-2/2028-06-01/
LOCATION:Quatrefoil Library\, 1220 East Lake Street\, Minneapolis\, MN\, 55407\, United States
CATEGORIES:Committee Meetings
END:VEVENT
BEGIN:VEVENT
DTSTART;TZID=America/Chicago:20280706T183000
DTEND;TZID=America/Chicago:20280706T200000
DTSTAMP:20260423T054041
CREATED:20260108T021858Z
LAST-MODIFIED:20260108T021858Z
UID:10004385-1846521000-1846526400@qlibrary.org
SUMMARY:Quatrefoil Board Meeting
DESCRIPTION:The Quatrefoil Board meets monthly on the first Thursday of the month in the Community Room.
URL:https://qlibrary.org/event/quatrefoil-board-meeting-2-2-2/2028-07-06/
LOCATION:Quatrefoil Library\, 1220 East Lake Street\, Minneapolis\, MN\, 55407\, United States
CATEGORIES:Committee Meetings
END:VEVENT
BEGIN:VEVENT
DTSTART;TZID=America/Chicago:20280803T183000
DTEND;TZID=America/Chicago:20280803T200000
DTSTAMP:20260423T054041
CREATED:20260108T021858Z
LAST-MODIFIED:20260108T021858Z
UID:10004386-1848940200-1848945600@qlibrary.org
SUMMARY:Quatrefoil Board Meeting
DESCRIPTION:The Quatrefoil Board meets monthly on the first Thursday of the month in the Community Room.
URL:https://qlibrary.org/event/quatrefoil-board-meeting-2-2-2/2028-08-03/
LOCATION:Quatrefoil Library\, 1220 East Lake Street\, Minneapolis\, MN\, 55407\, United States
CATEGORIES:Committee Meetings
END:VEVENT
BEGIN:VEVENT
DTSTART;TZID=America/Chicago:20280907T183000
DTEND;TZID=America/Chicago:20280907T200000
DTSTAMP:20260423T054041
CREATED:20260108T021858Z
LAST-MODIFIED:20260108T021858Z
UID:10004387-1851964200-1851969600@qlibrary.org
SUMMARY:Quatrefoil Board Meeting
DESCRIPTION:The Quatrefoil Board meets monthly on the first Thursday of the month in the Community Room.
URL:https://qlibrary.org/event/quatrefoil-board-meeting-2-2-2/2028-09-07/
LOCATION:Quatrefoil Library\, 1220 East Lake Street\, Minneapolis\, MN\, 55407\, United States
CATEGORIES:Committee Meetings
END:VEVENT
BEGIN:VEVENT
DTSTART;TZID=America/Chicago:20281005T183000
DTEND;TZID=America/Chicago:20281005T200000
DTSTAMP:20260423T054041
CREATED:20260108T021858Z
LAST-MODIFIED:20260108T021858Z
UID:10004388-1854383400-1854388800@qlibrary.org
SUMMARY:Quatrefoil Board Meeting
DESCRIPTION:The Quatrefoil Board meets monthly on the first Thursday of the month in the Community Room.
URL:https://qlibrary.org/event/quatrefoil-board-meeting-2-2-2/2028-10-05/
LOCATION:Quatrefoil Library\, 1220 East Lake Street\, Minneapolis\, MN\, 55407\, United States
CATEGORIES:Committee Meetings
END:VEVENT
END:VCALENDAR