BEGIN:VCALENDAR
VERSION:2.0
PRODID:-//Quatrefoil Library - ECPv6.15.20//NONSGML v1.0//EN
CALSCALE:GREGORIAN
METHOD:PUBLISH
X-WR-CALNAME:Quatrefoil Library
X-ORIGINAL-URL:https://qlibrary.org
X-WR-CALDESC:Events for Quatrefoil Library
REFRESH-INTERVAL;VALUE=DURATION:PT1H
X-Robots-Tag:noindex
X-PUBLISHED-TTL:PT1H
BEGIN:VTIMEZONE
TZID:America/Chicago
BEGIN:DAYLIGHT
TZOFFSETFROM:-0600
TZOFFSETTO:-0500
TZNAME:CDT
DTSTART:20250309T080000
END:DAYLIGHT
BEGIN:STANDARD
TZOFFSETFROM:-0500
TZOFFSETTO:-0600
TZNAME:CST
DTSTART:20251102T070000
END:STANDARD
BEGIN:DAYLIGHT
TZOFFSETFROM:-0600
TZOFFSETTO:-0500
TZNAME:CDT
DTSTART:20260308T080000
END:DAYLIGHT
BEGIN:STANDARD
TZOFFSETFROM:-0500
TZOFFSETTO:-0600
TZNAME:CST
DTSTART:20261101T070000
END:STANDARD
BEGIN:DAYLIGHT
TZOFFSETFROM:-0600
TZOFFSETTO:-0500
TZNAME:CDT
DTSTART:20270314T080000
END:DAYLIGHT
BEGIN:STANDARD
TZOFFSETFROM:-0500
TZOFFSETTO:-0600
TZNAME:CST
DTSTART:20271107T070000
END:STANDARD
BEGIN:DAYLIGHT
TZOFFSETFROM:-0600
TZOFFSETTO:-0500
TZNAME:CDT
DTSTART:20280312T080000
END:DAYLIGHT
BEGIN:STANDARD
TZOFFSETFROM:-0500
TZOFFSETTO:-0600
TZNAME:CST
DTSTART:20281105T070000
END:STANDARD
BEGIN:DAYLIGHT
TZOFFSETFROM:-0600
TZOFFSETTO:-0500
TZNAME:CDT
DTSTART:20290311T080000
END:DAYLIGHT
BEGIN:STANDARD
TZOFFSETFROM:-0500
TZOFFSETTO:-0600
TZNAME:CST
DTSTART:20291104T070000
END:STANDARD
END:VTIMEZONE
BEGIN:VEVENT
DTSTART;TZID=America/Chicago:20260516T131500
DTEND;TZID=America/Chicago:20260516T151500
DTSTAMP:20260423T040908
CREATED:20240114T221451Z
LAST-MODIFIED:20240114T225022Z
UID:10001143-1778937300-1778944500@qlibrary.org
SUMMARY:Prime Timers Bookclub
DESCRIPTION:This monthly book club is a subgroup of the Twin Cities Prime Timers Club\, which is affiliated with the state and national organizations. It meets each third Saturday of the month at Quatrefoil from 1:15pm – 3:15pm. \nBook of the month:
URL:https://qlibrary.org/event/prime-timers-bookclub-4-2/2026-05-16/
LOCATION:Quatrefoil Library\, 1220 East Lake Street\, Minneapolis\, MN\, 55407\, United States
END:VEVENT
BEGIN:VEVENT
DTSTART;TZID=America/Chicago:20260620T131500
DTEND;TZID=America/Chicago:20260620T151500
DTSTAMP:20260423T040908
CREATED:20240114T221451Z
LAST-MODIFIED:20240114T225022Z
UID:10001144-1781961300-1781968500@qlibrary.org
SUMMARY:Prime Timers Bookclub
DESCRIPTION:This monthly book club is a subgroup of the Twin Cities Prime Timers Club\, which is affiliated with the state and national organizations. It meets each third Saturday of the month at Quatrefoil from 1:15pm – 3:15pm. \nBook of the month:
URL:https://qlibrary.org/event/prime-timers-bookclub-4-2/2026-06-20/
LOCATION:Quatrefoil Library\, 1220 East Lake Street\, Minneapolis\, MN\, 55407\, United States
END:VEVENT
BEGIN:VEVENT
DTSTART;TZID=America/Chicago:20260718T131500
DTEND;TZID=America/Chicago:20260718T151500
DTSTAMP:20260423T040908
CREATED:20240114T221451Z
LAST-MODIFIED:20240114T225022Z
UID:10001145-1784380500-1784387700@qlibrary.org
SUMMARY:Prime Timers Bookclub
DESCRIPTION:This monthly book club is a subgroup of the Twin Cities Prime Timers Club\, which is affiliated with the state and national organizations. It meets each third Saturday of the month at Quatrefoil from 1:15pm – 3:15pm. \nBook of the month:
URL:https://qlibrary.org/event/prime-timers-bookclub-4-2/2026-07-18/
LOCATION:Quatrefoil Library\, 1220 East Lake Street\, Minneapolis\, MN\, 55407\, United States
END:VEVENT
BEGIN:VEVENT
DTSTART;TZID=America/Chicago:20260815T131500
DTEND;TZID=America/Chicago:20260815T151500
DTSTAMP:20260423T040908
CREATED:20240114T221451Z
LAST-MODIFIED:20240114T225022Z
UID:10001146-1786799700-1786806900@qlibrary.org
SUMMARY:Prime Timers Bookclub
DESCRIPTION:This monthly book club is a subgroup of the Twin Cities Prime Timers Club\, which is affiliated with the state and national organizations. It meets each third Saturday of the month at Quatrefoil from 1:15pm – 3:15pm. \nBook of the month:
URL:https://qlibrary.org/event/prime-timers-bookclub-4-2/2026-08-15/
LOCATION:Quatrefoil Library\, 1220 East Lake Street\, Minneapolis\, MN\, 55407\, United States
END:VEVENT
BEGIN:VEVENT
DTSTART;TZID=America/Chicago:20260919T131500
DTEND;TZID=America/Chicago:20260919T151500
DTSTAMP:20260423T040908
CREATED:20240114T221451Z
LAST-MODIFIED:20240114T225022Z
UID:10001147-1789823700-1789830900@qlibrary.org
SUMMARY:Prime Timers Bookclub
DESCRIPTION:This monthly book club is a subgroup of the Twin Cities Prime Timers Club\, which is affiliated with the state and national organizations. It meets each third Saturday of the month at Quatrefoil from 1:15pm – 3:15pm. \nBook of the month:
URL:https://qlibrary.org/event/prime-timers-bookclub-4-2/2026-09-19/
LOCATION:Quatrefoil Library\, 1220 East Lake Street\, Minneapolis\, MN\, 55407\, United States
END:VEVENT
BEGIN:VEVENT
DTSTART;TZID=America/Chicago:20261017T131500
DTEND;TZID=America/Chicago:20261017T151500
DTSTAMP:20260423T040908
CREATED:20240114T221451Z
LAST-MODIFIED:20240114T225022Z
UID:10001148-1792242900-1792250100@qlibrary.org
SUMMARY:Prime Timers Bookclub
DESCRIPTION:This monthly book club is a subgroup of the Twin Cities Prime Timers Club\, which is affiliated with the state and national organizations. It meets each third Saturday of the month at Quatrefoil from 1:15pm – 3:15pm. \nBook of the month:
URL:https://qlibrary.org/event/prime-timers-bookclub-4-2/2026-10-17/
LOCATION:Quatrefoil Library\, 1220 East Lake Street\, Minneapolis\, MN\, 55407\, United States
END:VEVENT
BEGIN:VEVENT
DTSTART;TZID=America/Chicago:20261121T131500
DTEND;TZID=America/Chicago:20261121T151500
DTSTAMP:20260423T040908
CREATED:20240114T221451Z
LAST-MODIFIED:20240114T225022Z
UID:10001149-1795266900-1795274100@qlibrary.org
SUMMARY:Prime Timers Bookclub
DESCRIPTION:This monthly book club is a subgroup of the Twin Cities Prime Timers Club\, which is affiliated with the state and national organizations. It meets each third Saturday of the month at Quatrefoil from 1:15pm – 3:15pm. \nBook of the month:
URL:https://qlibrary.org/event/prime-timers-bookclub-4-2/2026-11-21/
LOCATION:Quatrefoil Library\, 1220 East Lake Street\, Minneapolis\, MN\, 55407\, United States
END:VEVENT
BEGIN:VEVENT
DTSTART;TZID=America/Chicago:20261219T131500
DTEND;TZID=America/Chicago:20261219T151500
DTSTAMP:20260423T040908
CREATED:20240114T221451Z
LAST-MODIFIED:20240114T225022Z
UID:10001150-1797686100-1797693300@qlibrary.org
SUMMARY:Prime Timers Bookclub
DESCRIPTION:This monthly book club is a subgroup of the Twin Cities Prime Timers Club\, which is affiliated with the state and national organizations. It meets each third Saturday of the month at Quatrefoil from 1:15pm – 3:15pm. \nBook of the month:
URL:https://qlibrary.org/event/prime-timers-bookclub-4-2/2026-12-19/
LOCATION:Quatrefoil Library\, 1220 East Lake Street\, Minneapolis\, MN\, 55407\, United States
END:VEVENT
BEGIN:VEVENT
DTSTART;TZID=America/Chicago:20270116T131500
DTEND;TZID=America/Chicago:20270116T151500
DTSTAMP:20260423T040908
CREATED:20240114T221451Z
LAST-MODIFIED:20240114T225022Z
UID:10001151-1800105300-1800112500@qlibrary.org
SUMMARY:Prime Timers Bookclub
DESCRIPTION:This monthly book club is a subgroup of the Twin Cities Prime Timers Club\, which is affiliated with the state and national organizations. It meets each third Saturday of the month at Quatrefoil from 1:15pm – 3:15pm. \nBook of the month:
URL:https://qlibrary.org/event/prime-timers-bookclub-4-2/2027-01-16/
LOCATION:Quatrefoil Library\, 1220 East Lake Street\, Minneapolis\, MN\, 55407\, United States
END:VEVENT
BEGIN:VEVENT
DTSTART;TZID=America/Chicago:20270220T131500
DTEND;TZID=America/Chicago:20270220T151500
DTSTAMP:20260423T040908
CREATED:20240114T221451Z
LAST-MODIFIED:20240114T225022Z
UID:10001152-1803129300-1803136500@qlibrary.org
SUMMARY:Prime Timers Bookclub
DESCRIPTION:This monthly book club is a subgroup of the Twin Cities Prime Timers Club\, which is affiliated with the state and national organizations. It meets each third Saturday of the month at Quatrefoil from 1:15pm – 3:15pm. \nBook of the month:
URL:https://qlibrary.org/event/prime-timers-bookclub-4-2/2027-02-20/
LOCATION:Quatrefoil Library\, 1220 East Lake Street\, Minneapolis\, MN\, 55407\, United States
END:VEVENT
BEGIN:VEVENT
DTSTART;TZID=America/Chicago:20270320T131500
DTEND;TZID=America/Chicago:20270320T151500
DTSTAMP:20260423T040908
CREATED:20240114T221451Z
LAST-MODIFIED:20240114T225022Z
UID:10001153-1805548500-1805555700@qlibrary.org
SUMMARY:Prime Timers Bookclub
DESCRIPTION:This monthly book club is a subgroup of the Twin Cities Prime Timers Club\, which is affiliated with the state and national organizations. It meets each third Saturday of the month at Quatrefoil from 1:15pm – 3:15pm. \nBook of the month:
URL:https://qlibrary.org/event/prime-timers-bookclub-4-2/2027-03-20/
LOCATION:Quatrefoil Library\, 1220 East Lake Street\, Minneapolis\, MN\, 55407\, United States
END:VEVENT
BEGIN:VEVENT
DTSTART;TZID=America/Chicago:20270417T131500
DTEND;TZID=America/Chicago:20270417T151500
DTSTAMP:20260423T040908
CREATED:20240114T221451Z
LAST-MODIFIED:20240114T225022Z
UID:10001154-1807967700-1807974900@qlibrary.org
SUMMARY:Prime Timers Bookclub
DESCRIPTION:This monthly book club is a subgroup of the Twin Cities Prime Timers Club\, which is affiliated with the state and national organizations. It meets each third Saturday of the month at Quatrefoil from 1:15pm – 3:15pm. \nBook of the month:
URL:https://qlibrary.org/event/prime-timers-bookclub-4-2/2027-04-17/
LOCATION:Quatrefoil Library\, 1220 East Lake Street\, Minneapolis\, MN\, 55407\, United States
END:VEVENT
BEGIN:VEVENT
DTSTART;TZID=America/Chicago:20270515T131500
DTEND;TZID=America/Chicago:20270515T151500
DTSTAMP:20260423T040908
CREATED:20240114T221451Z
LAST-MODIFIED:20240114T225022Z
UID:10001155-1810386900-1810394100@qlibrary.org
SUMMARY:Prime Timers Bookclub
DESCRIPTION:This monthly book club is a subgroup of the Twin Cities Prime Timers Club\, which is affiliated with the state and national organizations. It meets each third Saturday of the month at Quatrefoil from 1:15pm – 3:15pm. \nBook of the month:
URL:https://qlibrary.org/event/prime-timers-bookclub-4-2/2027-05-15/
LOCATION:Quatrefoil Library\, 1220 East Lake Street\, Minneapolis\, MN\, 55407\, United States
END:VEVENT
BEGIN:VEVENT
DTSTART;TZID=America/Chicago:20270619T131500
DTEND;TZID=America/Chicago:20270619T151500
DTSTAMP:20260423T040908
CREATED:20240114T221451Z
LAST-MODIFIED:20240114T225022Z
UID:10001156-1813410900-1813418100@qlibrary.org
SUMMARY:Prime Timers Bookclub
DESCRIPTION:This monthly book club is a subgroup of the Twin Cities Prime Timers Club\, which is affiliated with the state and national organizations. It meets each third Saturday of the month at Quatrefoil from 1:15pm – 3:15pm. \nBook of the month:
URL:https://qlibrary.org/event/prime-timers-bookclub-4-2/2027-06-19/
LOCATION:Quatrefoil Library\, 1220 East Lake Street\, Minneapolis\, MN\, 55407\, United States
END:VEVENT
BEGIN:VEVENT
DTSTART;TZID=America/Chicago:20270717T131500
DTEND;TZID=America/Chicago:20270717T151500
DTSTAMP:20260423T040908
CREATED:20240114T221451Z
LAST-MODIFIED:20240114T225022Z
UID:10001157-1815830100-1815837300@qlibrary.org
SUMMARY:Prime Timers Bookclub
DESCRIPTION:This monthly book club is a subgroup of the Twin Cities Prime Timers Club\, which is affiliated with the state and national organizations. It meets each third Saturday of the month at Quatrefoil from 1:15pm – 3:15pm. \nBook of the month:
URL:https://qlibrary.org/event/prime-timers-bookclub-4-2/2027-07-17/
LOCATION:Quatrefoil Library\, 1220 East Lake Street\, Minneapolis\, MN\, 55407\, United States
END:VEVENT
BEGIN:VEVENT
DTSTART;TZID=America/Chicago:20270821T131500
DTEND;TZID=America/Chicago:20270821T151500
DTSTAMP:20260423T040908
CREATED:20240114T221451Z
LAST-MODIFIED:20240114T225022Z
UID:10001158-1818854100-1818861300@qlibrary.org
SUMMARY:Prime Timers Bookclub
DESCRIPTION:This monthly book club is a subgroup of the Twin Cities Prime Timers Club\, which is affiliated with the state and national organizations. It meets each third Saturday of the month at Quatrefoil from 1:15pm – 3:15pm. \nBook of the month:
URL:https://qlibrary.org/event/prime-timers-bookclub-4-2/2027-08-21/
LOCATION:Quatrefoil Library\, 1220 East Lake Street\, Minneapolis\, MN\, 55407\, United States
END:VEVENT
BEGIN:VEVENT
DTSTART;TZID=America/Chicago:20270918T131500
DTEND;TZID=America/Chicago:20270918T151500
DTSTAMP:20260423T040908
CREATED:20240114T221451Z
LAST-MODIFIED:20240114T225022Z
UID:10001159-1821273300-1821280500@qlibrary.org
SUMMARY:Prime Timers Bookclub
DESCRIPTION:This monthly book club is a subgroup of the Twin Cities Prime Timers Club\, which is affiliated with the state and national organizations. It meets each third Saturday of the month at Quatrefoil from 1:15pm – 3:15pm. \nBook of the month:
URL:https://qlibrary.org/event/prime-timers-bookclub-4-2/2027-09-18/
LOCATION:Quatrefoil Library\, 1220 East Lake Street\, Minneapolis\, MN\, 55407\, United States
END:VEVENT
BEGIN:VEVENT
DTSTART;TZID=America/Chicago:20271016T131500
DTEND;TZID=America/Chicago:20271016T151500
DTSTAMP:20260423T040908
CREATED:20240114T221451Z
LAST-MODIFIED:20240114T225022Z
UID:10001160-1823692500-1823699700@qlibrary.org
SUMMARY:Prime Timers Bookclub
DESCRIPTION:This monthly book club is a subgroup of the Twin Cities Prime Timers Club\, which is affiliated with the state and national organizations. It meets each third Saturday of the month at Quatrefoil from 1:15pm – 3:15pm. \nBook of the month:
URL:https://qlibrary.org/event/prime-timers-bookclub-4-2/2027-10-16/
LOCATION:Quatrefoil Library\, 1220 East Lake Street\, Minneapolis\, MN\, 55407\, United States
END:VEVENT
BEGIN:VEVENT
DTSTART;TZID=America/Chicago:20271120T131500
DTEND;TZID=America/Chicago:20271120T151500
DTSTAMP:20260423T040908
CREATED:20240114T221451Z
LAST-MODIFIED:20240114T225022Z
UID:10001161-1826716500-1826723700@qlibrary.org
SUMMARY:Prime Timers Bookclub
DESCRIPTION:This monthly book club is a subgroup of the Twin Cities Prime Timers Club\, which is affiliated with the state and national organizations. It meets each third Saturday of the month at Quatrefoil from 1:15pm – 3:15pm. \nBook of the month:
URL:https://qlibrary.org/event/prime-timers-bookclub-4-2/2027-11-20/
LOCATION:Quatrefoil Library\, 1220 East Lake Street\, Minneapolis\, MN\, 55407\, United States
END:VEVENT
BEGIN:VEVENT
DTSTART;TZID=America/Chicago:20271218T131500
DTEND;TZID=America/Chicago:20271218T151500
DTSTAMP:20260423T040908
CREATED:20240114T221451Z
LAST-MODIFIED:20240114T225022Z
UID:10001162-1829135700-1829142900@qlibrary.org
SUMMARY:Prime Timers Bookclub
DESCRIPTION:This monthly book club is a subgroup of the Twin Cities Prime Timers Club\, which is affiliated with the state and national organizations. It meets each third Saturday of the month at Quatrefoil from 1:15pm – 3:15pm. \nBook of the month:
URL:https://qlibrary.org/event/prime-timers-bookclub-4-2/2027-12-18/
LOCATION:Quatrefoil Library\, 1220 East Lake Street\, Minneapolis\, MN\, 55407\, United States
END:VEVENT
BEGIN:VEVENT
DTSTART;TZID=America/Chicago:20280115T131500
DTEND;TZID=America/Chicago:20280115T151500
DTSTAMP:20260423T040908
CREATED:20240114T221451Z
LAST-MODIFIED:20240114T225022Z
UID:10001163-1831554900-1831562100@qlibrary.org
SUMMARY:Prime Timers Bookclub
DESCRIPTION:This monthly book club is a subgroup of the Twin Cities Prime Timers Club\, which is affiliated with the state and national organizations. It meets each third Saturday of the month at Quatrefoil from 1:15pm – 3:15pm. \nBook of the month:
URL:https://qlibrary.org/event/prime-timers-bookclub-4-2/2028-01-15/
LOCATION:Quatrefoil Library\, 1220 East Lake Street\, Minneapolis\, MN\, 55407\, United States
END:VEVENT
BEGIN:VEVENT
DTSTART;TZID=America/Chicago:20280219T131500
DTEND;TZID=America/Chicago:20280219T151500
DTSTAMP:20260423T040908
CREATED:20240114T221451Z
LAST-MODIFIED:20240114T225022Z
UID:10001164-1834578900-1834586100@qlibrary.org
SUMMARY:Prime Timers Bookclub
DESCRIPTION:This monthly book club is a subgroup of the Twin Cities Prime Timers Club\, which is affiliated with the state and national organizations. It meets each third Saturday of the month at Quatrefoil from 1:15pm – 3:15pm. \nBook of the month:
URL:https://qlibrary.org/event/prime-timers-bookclub-4-2/2028-02-19/
LOCATION:Quatrefoil Library\, 1220 East Lake Street\, Minneapolis\, MN\, 55407\, United States
END:VEVENT
BEGIN:VEVENT
DTSTART;TZID=America/Chicago:20280318T131500
DTEND;TZID=America/Chicago:20280318T151500
DTSTAMP:20260423T040908
CREATED:20240114T221451Z
LAST-MODIFIED:20240114T225022Z
UID:10001165-1836998100-1837005300@qlibrary.org
SUMMARY:Prime Timers Bookclub
DESCRIPTION:This monthly book club is a subgroup of the Twin Cities Prime Timers Club\, which is affiliated with the state and national organizations. It meets each third Saturday of the month at Quatrefoil from 1:15pm – 3:15pm. \nBook of the month:
URL:https://qlibrary.org/event/prime-timers-bookclub-4-2/2028-03-18/
LOCATION:Quatrefoil Library\, 1220 East Lake Street\, Minneapolis\, MN\, 55407\, United States
END:VEVENT
BEGIN:VEVENT
DTSTART;TZID=America/Chicago:20280415T131500
DTEND;TZID=America/Chicago:20280415T151500
DTSTAMP:20260423T040908
CREATED:20240114T221451Z
LAST-MODIFIED:20240114T225022Z
UID:10001166-1839417300-1839424500@qlibrary.org
SUMMARY:Prime Timers Bookclub
DESCRIPTION:This monthly book club is a subgroup of the Twin Cities Prime Timers Club\, which is affiliated with the state and national organizations. It meets each third Saturday of the month at Quatrefoil from 1:15pm – 3:15pm. \nBook of the month:
URL:https://qlibrary.org/event/prime-timers-bookclub-4-2/2028-04-15/
LOCATION:Quatrefoil Library\, 1220 East Lake Street\, Minneapolis\, MN\, 55407\, United States
END:VEVENT
BEGIN:VEVENT
DTSTART;TZID=America/Chicago:20280520T131500
DTEND;TZID=America/Chicago:20280520T151500
DTSTAMP:20260423T040908
CREATED:20240114T221451Z
LAST-MODIFIED:20240114T225022Z
UID:10001167-1842441300-1842448500@qlibrary.org
SUMMARY:Prime Timers Bookclub
DESCRIPTION:This monthly book club is a subgroup of the Twin Cities Prime Timers Club\, which is affiliated with the state and national organizations. It meets each third Saturday of the month at Quatrefoil from 1:15pm – 3:15pm. \nBook of the month:
URL:https://qlibrary.org/event/prime-timers-bookclub-4-2/2028-05-20/
LOCATION:Quatrefoil Library\, 1220 East Lake Street\, Minneapolis\, MN\, 55407\, United States
END:VEVENT
BEGIN:VEVENT
DTSTART;TZID=America/Chicago:20280617T131500
DTEND;TZID=America/Chicago:20280617T151500
DTSTAMP:20260423T040908
CREATED:20240114T221451Z
LAST-MODIFIED:20240114T225022Z
UID:10001168-1844860500-1844867700@qlibrary.org
SUMMARY:Prime Timers Bookclub
DESCRIPTION:This monthly book club is a subgroup of the Twin Cities Prime Timers Club\, which is affiliated with the state and national organizations. It meets each third Saturday of the month at Quatrefoil from 1:15pm – 3:15pm. \nBook of the month:
URL:https://qlibrary.org/event/prime-timers-bookclub-4-2/2028-06-17/
LOCATION:Quatrefoil Library\, 1220 East Lake Street\, Minneapolis\, MN\, 55407\, United States
END:VEVENT
BEGIN:VEVENT
DTSTART;TZID=America/Chicago:20280715T131500
DTEND;TZID=America/Chicago:20280715T151500
DTSTAMP:20260423T040908
CREATED:20240114T221451Z
LAST-MODIFIED:20240114T225022Z
UID:10001169-1847279700-1847286900@qlibrary.org
SUMMARY:Prime Timers Bookclub
DESCRIPTION:This monthly book club is a subgroup of the Twin Cities Prime Timers Club\, which is affiliated with the state and national organizations. It meets each third Saturday of the month at Quatrefoil from 1:15pm – 3:15pm. \nBook of the month:
URL:https://qlibrary.org/event/prime-timers-bookclub-4-2/2028-07-15/
LOCATION:Quatrefoil Library\, 1220 East Lake Street\, Minneapolis\, MN\, 55407\, United States
END:VEVENT
BEGIN:VEVENT
DTSTART;TZID=America/Chicago:20280819T131500
DTEND;TZID=America/Chicago:20280819T151500
DTSTAMP:20260423T040908
CREATED:20240114T221451Z
LAST-MODIFIED:20240114T225022Z
UID:10001170-1850303700-1850310900@qlibrary.org
SUMMARY:Prime Timers Bookclub
DESCRIPTION:This monthly book club is a subgroup of the Twin Cities Prime Timers Club\, which is affiliated with the state and national organizations. It meets each third Saturday of the month at Quatrefoil from 1:15pm – 3:15pm. \nBook of the month:
URL:https://qlibrary.org/event/prime-timers-bookclub-4-2/2028-08-19/
LOCATION:Quatrefoil Library\, 1220 East Lake Street\, Minneapolis\, MN\, 55407\, United States
END:VEVENT
BEGIN:VEVENT
DTSTART;TZID=America/Chicago:20280916T131500
DTEND;TZID=America/Chicago:20280916T151500
DTSTAMP:20260423T040908
CREATED:20240114T221451Z
LAST-MODIFIED:20240114T225022Z
UID:10001171-1852722900-1852730100@qlibrary.org
SUMMARY:Prime Timers Bookclub
DESCRIPTION:This monthly book club is a subgroup of the Twin Cities Prime Timers Club\, which is affiliated with the state and national organizations. It meets each third Saturday of the month at Quatrefoil from 1:15pm – 3:15pm. \nBook of the month:
URL:https://qlibrary.org/event/prime-timers-bookclub-4-2/2028-09-16/
LOCATION:Quatrefoil Library\, 1220 East Lake Street\, Minneapolis\, MN\, 55407\, United States
END:VEVENT
BEGIN:VEVENT
DTSTART;TZID=America/Chicago:20281021T131500
DTEND;TZID=America/Chicago:20281021T151500
DTSTAMP:20260423T040908
CREATED:20240114T221451Z
LAST-MODIFIED:20240114T225022Z
UID:10001172-1855746900-1855754100@qlibrary.org
SUMMARY:Prime Timers Bookclub
DESCRIPTION:This monthly book club is a subgroup of the Twin Cities Prime Timers Club\, which is affiliated with the state and national organizations. It meets each third Saturday of the month at Quatrefoil from 1:15pm – 3:15pm. \nBook of the month:
URL:https://qlibrary.org/event/prime-timers-bookclub-4-2/2028-10-21/
LOCATION:Quatrefoil Library\, 1220 East Lake Street\, Minneapolis\, MN\, 55407\, United States
END:VEVENT
END:VCALENDAR