BEGIN:VCALENDAR
VERSION:2.0
PRODID:-//Quatrefoil Library - ECPv6.15.20//NONSGML v1.0//EN
CALSCALE:GREGORIAN
METHOD:PUBLISH
X-WR-CALNAME:Quatrefoil Library
X-ORIGINAL-URL:https://qlibrary.org
X-WR-CALDESC:Events for Quatrefoil Library
REFRESH-INTERVAL;VALUE=DURATION:PT1H
X-Robots-Tag:noindex
X-PUBLISHED-TTL:PT1H
BEGIN:VTIMEZONE
TZID:America/Chicago
BEGIN:DAYLIGHT
TZOFFSETFROM:-0600
TZOFFSETTO:-0500
TZNAME:CDT
DTSTART:20250309T080000
END:DAYLIGHT
BEGIN:STANDARD
TZOFFSETFROM:-0500
TZOFFSETTO:-0600
TZNAME:CST
DTSTART:20251102T070000
END:STANDARD
BEGIN:DAYLIGHT
TZOFFSETFROM:-0600
TZOFFSETTO:-0500
TZNAME:CDT
DTSTART:20260308T080000
END:DAYLIGHT
BEGIN:STANDARD
TZOFFSETFROM:-0500
TZOFFSETTO:-0600
TZNAME:CST
DTSTART:20261101T070000
END:STANDARD
BEGIN:DAYLIGHT
TZOFFSETFROM:-0600
TZOFFSETTO:-0500
TZNAME:CDT
DTSTART:20270314T080000
END:DAYLIGHT
BEGIN:STANDARD
TZOFFSETFROM:-0500
TZOFFSETTO:-0600
TZNAME:CST
DTSTART:20271107T070000
END:STANDARD
BEGIN:DAYLIGHT
TZOFFSETFROM:-0600
TZOFFSETTO:-0500
TZNAME:CDT
DTSTART:20280312T080000
END:DAYLIGHT
BEGIN:STANDARD
TZOFFSETFROM:-0500
TZOFFSETTO:-0600
TZNAME:CST
DTSTART:20281105T070000
END:STANDARD
BEGIN:DAYLIGHT
TZOFFSETFROM:-0600
TZOFFSETTO:-0500
TZNAME:CDT
DTSTART:20290311T080000
END:DAYLIGHT
BEGIN:STANDARD
TZOFFSETFROM:-0500
TZOFFSETTO:-0600
TZNAME:CST
DTSTART:20291104T070000
END:STANDARD
END:VTIMEZONE
BEGIN:VEVENT
DTSTART;TZID=America/Chicago:20260427T173000
DTEND;TZID=America/Chicago:20260427T183000
DTSTAMP:20260423T041948
CREATED:20240324T163158Z
LAST-MODIFIED:20240407T163136Z
UID:10001748-1777311000-1777314600@qlibrary.org
SUMMARY:Volunteer Committee Meeting
DESCRIPTION:Our volunteer committee is responsible for recruiting and training volunteers. They also maintain our volunteer schedule\, for operating hours and special events. \nAnyone is welcome to stop in if interested in joining\, or to share constructive ideas. You can also sign up via our volunteer form. \nThis meeting is held in the library space\, with a virtual option available.
URL:https://qlibrary.org/event/volunteer-committee-meeting-3/2026-04-27/
LOCATION:Quatrefoil Library\, 1220 East Lake Street\, Minneapolis\, MN\, 55407\, United States
CATEGORIES:Committee Meetings
END:VEVENT
BEGIN:VEVENT
DTSTART;TZID=America/Chicago:20260525T173000
DTEND;TZID=America/Chicago:20260525T183000
DTSTAMP:20260423T041948
CREATED:20240324T163158Z
LAST-MODIFIED:20240407T163136Z
UID:10001749-1779730200-1779733800@qlibrary.org
SUMMARY:Volunteer Committee Meeting
DESCRIPTION:Our volunteer committee is responsible for recruiting and training volunteers. They also maintain our volunteer schedule\, for operating hours and special events. \nAnyone is welcome to stop in if interested in joining\, or to share constructive ideas. You can also sign up via our volunteer form. \nThis meeting is held in the library space\, with a virtual option available.
URL:https://qlibrary.org/event/volunteer-committee-meeting-3/2026-05-25/
LOCATION:Quatrefoil Library\, 1220 East Lake Street\, Minneapolis\, MN\, 55407\, United States
CATEGORIES:Committee Meetings
END:VEVENT
BEGIN:VEVENT
DTSTART;TZID=America/Chicago:20260622T173000
DTEND;TZID=America/Chicago:20260622T183000
DTSTAMP:20260423T041948
CREATED:20240324T163158Z
LAST-MODIFIED:20240407T163136Z
UID:10001750-1782149400-1782153000@qlibrary.org
SUMMARY:Volunteer Committee Meeting
DESCRIPTION:Our volunteer committee is responsible for recruiting and training volunteers. They also maintain our volunteer schedule\, for operating hours and special events. \nAnyone is welcome to stop in if interested in joining\, or to share constructive ideas. You can also sign up via our volunteer form. \nThis meeting is held in the library space\, with a virtual option available.
URL:https://qlibrary.org/event/volunteer-committee-meeting-3/2026-06-22/
LOCATION:Quatrefoil Library\, 1220 East Lake Street\, Minneapolis\, MN\, 55407\, United States
CATEGORIES:Committee Meetings
END:VEVENT
BEGIN:VEVENT
DTSTART;TZID=America/Chicago:20260727T173000
DTEND;TZID=America/Chicago:20260727T183000
DTSTAMP:20260423T041948
CREATED:20240324T163158Z
LAST-MODIFIED:20240407T163136Z
UID:10001751-1785173400-1785177000@qlibrary.org
SUMMARY:Volunteer Committee Meeting
DESCRIPTION:Our volunteer committee is responsible for recruiting and training volunteers. They also maintain our volunteer schedule\, for operating hours and special events. \nAnyone is welcome to stop in if interested in joining\, or to share constructive ideas. You can also sign up via our volunteer form. \nThis meeting is held in the library space\, with a virtual option available.
URL:https://qlibrary.org/event/volunteer-committee-meeting-3/2026-07-27/
LOCATION:Quatrefoil Library\, 1220 East Lake Street\, Minneapolis\, MN\, 55407\, United States
CATEGORIES:Committee Meetings
END:VEVENT
BEGIN:VEVENT
DTSTART;TZID=America/Chicago:20260824T173000
DTEND;TZID=America/Chicago:20260824T183000
DTSTAMP:20260423T041948
CREATED:20240324T163158Z
LAST-MODIFIED:20240407T163136Z
UID:10001752-1787592600-1787596200@qlibrary.org
SUMMARY:Volunteer Committee Meeting
DESCRIPTION:Our volunteer committee is responsible for recruiting and training volunteers. They also maintain our volunteer schedule\, for operating hours and special events. \nAnyone is welcome to stop in if interested in joining\, or to share constructive ideas. You can also sign up via our volunteer form. \nThis meeting is held in the library space\, with a virtual option available.
URL:https://qlibrary.org/event/volunteer-committee-meeting-3/2026-08-24/
LOCATION:Quatrefoil Library\, 1220 East Lake Street\, Minneapolis\, MN\, 55407\, United States
CATEGORIES:Committee Meetings
END:VEVENT
BEGIN:VEVENT
DTSTART;TZID=America/Chicago:20260928T173000
DTEND;TZID=America/Chicago:20260928T183000
DTSTAMP:20260423T041948
CREATED:20240324T163158Z
LAST-MODIFIED:20240407T163136Z
UID:10001753-1790616600-1790620200@qlibrary.org
SUMMARY:Volunteer Committee Meeting
DESCRIPTION:Our volunteer committee is responsible for recruiting and training volunteers. They also maintain our volunteer schedule\, for operating hours and special events. \nAnyone is welcome to stop in if interested in joining\, or to share constructive ideas. You can also sign up via our volunteer form. \nThis meeting is held in the library space\, with a virtual option available.
URL:https://qlibrary.org/event/volunteer-committee-meeting-3/2026-09-28/
LOCATION:Quatrefoil Library\, 1220 East Lake Street\, Minneapolis\, MN\, 55407\, United States
CATEGORIES:Committee Meetings
END:VEVENT
BEGIN:VEVENT
DTSTART;TZID=America/Chicago:20261026T173000
DTEND;TZID=America/Chicago:20261026T183000
DTSTAMP:20260423T041948
CREATED:20240324T163158Z
LAST-MODIFIED:20240407T163136Z
UID:10001754-1793035800-1793039400@qlibrary.org
SUMMARY:Volunteer Committee Meeting
DESCRIPTION:Our volunteer committee is responsible for recruiting and training volunteers. They also maintain our volunteer schedule\, for operating hours and special events. \nAnyone is welcome to stop in if interested in joining\, or to share constructive ideas. You can also sign up via our volunteer form. \nThis meeting is held in the library space\, with a virtual option available.
URL:https://qlibrary.org/event/volunteer-committee-meeting-3/2026-10-26/
LOCATION:Quatrefoil Library\, 1220 East Lake Street\, Minneapolis\, MN\, 55407\, United States
CATEGORIES:Committee Meetings
END:VEVENT
BEGIN:VEVENT
DTSTART;TZID=America/Chicago:20261123T173000
DTEND;TZID=America/Chicago:20261123T183000
DTSTAMP:20260423T041948
CREATED:20240324T163158Z
LAST-MODIFIED:20240407T163136Z
UID:10001755-1795455000-1795458600@qlibrary.org
SUMMARY:Volunteer Committee Meeting
DESCRIPTION:Our volunteer committee is responsible for recruiting and training volunteers. They also maintain our volunteer schedule\, for operating hours and special events. \nAnyone is welcome to stop in if interested in joining\, or to share constructive ideas. You can also sign up via our volunteer form. \nThis meeting is held in the library space\, with a virtual option available.
URL:https://qlibrary.org/event/volunteer-committee-meeting-3/2026-11-23/
LOCATION:Quatrefoil Library\, 1220 East Lake Street\, Minneapolis\, MN\, 55407\, United States
CATEGORIES:Committee Meetings
END:VEVENT
BEGIN:VEVENT
DTSTART;TZID=America/Chicago:20261228T173000
DTEND;TZID=America/Chicago:20261228T183000
DTSTAMP:20260423T041948
CREATED:20240324T163158Z
LAST-MODIFIED:20240407T163136Z
UID:10001756-1798479000-1798482600@qlibrary.org
SUMMARY:Volunteer Committee Meeting
DESCRIPTION:Our volunteer committee is responsible for recruiting and training volunteers. They also maintain our volunteer schedule\, for operating hours and special events. \nAnyone is welcome to stop in if interested in joining\, or to share constructive ideas. You can also sign up via our volunteer form. \nThis meeting is held in the library space\, with a virtual option available.
URL:https://qlibrary.org/event/volunteer-committee-meeting-3/2026-12-28/
LOCATION:Quatrefoil Library\, 1220 East Lake Street\, Minneapolis\, MN\, 55407\, United States
CATEGORIES:Committee Meetings
END:VEVENT
BEGIN:VEVENT
DTSTART;TZID=America/Chicago:20270125T173000
DTEND;TZID=America/Chicago:20270125T183000
DTSTAMP:20260423T041948
CREATED:20240324T163158Z
LAST-MODIFIED:20240407T163136Z
UID:10001757-1800898200-1800901800@qlibrary.org
SUMMARY:Volunteer Committee Meeting
DESCRIPTION:Our volunteer committee is responsible for recruiting and training volunteers. They also maintain our volunteer schedule\, for operating hours and special events. \nAnyone is welcome to stop in if interested in joining\, or to share constructive ideas. You can also sign up via our volunteer form. \nThis meeting is held in the library space\, with a virtual option available.
URL:https://qlibrary.org/event/volunteer-committee-meeting-3/2027-01-25/
LOCATION:Quatrefoil Library\, 1220 East Lake Street\, Minneapolis\, MN\, 55407\, United States
CATEGORIES:Committee Meetings
END:VEVENT
BEGIN:VEVENT
DTSTART;TZID=America/Chicago:20270222T173000
DTEND;TZID=America/Chicago:20270222T183000
DTSTAMP:20260423T041948
CREATED:20240324T163158Z
LAST-MODIFIED:20240407T163136Z
UID:10001758-1803317400-1803321000@qlibrary.org
SUMMARY:Volunteer Committee Meeting
DESCRIPTION:Our volunteer committee is responsible for recruiting and training volunteers. They also maintain our volunteer schedule\, for operating hours and special events. \nAnyone is welcome to stop in if interested in joining\, or to share constructive ideas. You can also sign up via our volunteer form. \nThis meeting is held in the library space\, with a virtual option available.
URL:https://qlibrary.org/event/volunteer-committee-meeting-3/2027-02-22/
LOCATION:Quatrefoil Library\, 1220 East Lake Street\, Minneapolis\, MN\, 55407\, United States
CATEGORIES:Committee Meetings
END:VEVENT
BEGIN:VEVENT
DTSTART;TZID=America/Chicago:20270322T173000
DTEND;TZID=America/Chicago:20270322T183000
DTSTAMP:20260423T041948
CREATED:20240324T163158Z
LAST-MODIFIED:20240407T163136Z
UID:10001759-1805736600-1805740200@qlibrary.org
SUMMARY:Volunteer Committee Meeting
DESCRIPTION:Our volunteer committee is responsible for recruiting and training volunteers. They also maintain our volunteer schedule\, for operating hours and special events. \nAnyone is welcome to stop in if interested in joining\, or to share constructive ideas. You can also sign up via our volunteer form. \nThis meeting is held in the library space\, with a virtual option available.
URL:https://qlibrary.org/event/volunteer-committee-meeting-3/2027-03-22/
LOCATION:Quatrefoil Library\, 1220 East Lake Street\, Minneapolis\, MN\, 55407\, United States
CATEGORIES:Committee Meetings
END:VEVENT
BEGIN:VEVENT
DTSTART;TZID=America/Chicago:20270426T173000
DTEND;TZID=America/Chicago:20270426T183000
DTSTAMP:20260423T041948
CREATED:20240324T163158Z
LAST-MODIFIED:20240407T163136Z
UID:10001760-1808760600-1808764200@qlibrary.org
SUMMARY:Volunteer Committee Meeting
DESCRIPTION:Our volunteer committee is responsible for recruiting and training volunteers. They also maintain our volunteer schedule\, for operating hours and special events. \nAnyone is welcome to stop in if interested in joining\, or to share constructive ideas. You can also sign up via our volunteer form. \nThis meeting is held in the library space\, with a virtual option available.
URL:https://qlibrary.org/event/volunteer-committee-meeting-3/2027-04-26/
LOCATION:Quatrefoil Library\, 1220 East Lake Street\, Minneapolis\, MN\, 55407\, United States
CATEGORIES:Committee Meetings
END:VEVENT
BEGIN:VEVENT
DTSTART;TZID=America/Chicago:20270524T173000
DTEND;TZID=America/Chicago:20270524T183000
DTSTAMP:20260423T041948
CREATED:20240324T163158Z
LAST-MODIFIED:20240407T163136Z
UID:10001761-1811179800-1811183400@qlibrary.org
SUMMARY:Volunteer Committee Meeting
DESCRIPTION:Our volunteer committee is responsible for recruiting and training volunteers. They also maintain our volunteer schedule\, for operating hours and special events. \nAnyone is welcome to stop in if interested in joining\, or to share constructive ideas. You can also sign up via our volunteer form. \nThis meeting is held in the library space\, with a virtual option available.
URL:https://qlibrary.org/event/volunteer-committee-meeting-3/2027-05-24/
LOCATION:Quatrefoil Library\, 1220 East Lake Street\, Minneapolis\, MN\, 55407\, United States
CATEGORIES:Committee Meetings
END:VEVENT
BEGIN:VEVENT
DTSTART;TZID=America/Chicago:20270628T173000
DTEND;TZID=America/Chicago:20270628T183000
DTSTAMP:20260423T041948
CREATED:20240324T163158Z
LAST-MODIFIED:20240407T163136Z
UID:10001762-1814203800-1814207400@qlibrary.org
SUMMARY:Volunteer Committee Meeting
DESCRIPTION:Our volunteer committee is responsible for recruiting and training volunteers. They also maintain our volunteer schedule\, for operating hours and special events. \nAnyone is welcome to stop in if interested in joining\, or to share constructive ideas. You can also sign up via our volunteer form. \nThis meeting is held in the library space\, with a virtual option available.
URL:https://qlibrary.org/event/volunteer-committee-meeting-3/2027-06-28/
LOCATION:Quatrefoil Library\, 1220 East Lake Street\, Minneapolis\, MN\, 55407\, United States
CATEGORIES:Committee Meetings
END:VEVENT
BEGIN:VEVENT
DTSTART;TZID=America/Chicago:20270726T173000
DTEND;TZID=America/Chicago:20270726T183000
DTSTAMP:20260423T041948
CREATED:20240324T163158Z
LAST-MODIFIED:20240407T163136Z
UID:10001763-1816623000-1816626600@qlibrary.org
SUMMARY:Volunteer Committee Meeting
DESCRIPTION:Our volunteer committee is responsible for recruiting and training volunteers. They also maintain our volunteer schedule\, for operating hours and special events. \nAnyone is welcome to stop in if interested in joining\, or to share constructive ideas. You can also sign up via our volunteer form. \nThis meeting is held in the library space\, with a virtual option available.
URL:https://qlibrary.org/event/volunteer-committee-meeting-3/2027-07-26/
LOCATION:Quatrefoil Library\, 1220 East Lake Street\, Minneapolis\, MN\, 55407\, United States
CATEGORIES:Committee Meetings
END:VEVENT
BEGIN:VEVENT
DTSTART;TZID=America/Chicago:20270823T173000
DTEND;TZID=America/Chicago:20270823T183000
DTSTAMP:20260423T041948
CREATED:20240324T163158Z
LAST-MODIFIED:20240407T163136Z
UID:10001764-1819042200-1819045800@qlibrary.org
SUMMARY:Volunteer Committee Meeting
DESCRIPTION:Our volunteer committee is responsible for recruiting and training volunteers. They also maintain our volunteer schedule\, for operating hours and special events. \nAnyone is welcome to stop in if interested in joining\, or to share constructive ideas. You can also sign up via our volunteer form. \nThis meeting is held in the library space\, with a virtual option available.
URL:https://qlibrary.org/event/volunteer-committee-meeting-3/2027-08-23/
LOCATION:Quatrefoil Library\, 1220 East Lake Street\, Minneapolis\, MN\, 55407\, United States
CATEGORIES:Committee Meetings
END:VEVENT
BEGIN:VEVENT
DTSTART;TZID=America/Chicago:20270927T173000
DTEND;TZID=America/Chicago:20270927T183000
DTSTAMP:20260423T041948
CREATED:20240324T163158Z
LAST-MODIFIED:20240407T163136Z
UID:10001765-1822066200-1822069800@qlibrary.org
SUMMARY:Volunteer Committee Meeting
DESCRIPTION:Our volunteer committee is responsible for recruiting and training volunteers. They also maintain our volunteer schedule\, for operating hours and special events. \nAnyone is welcome to stop in if interested in joining\, or to share constructive ideas. You can also sign up via our volunteer form. \nThis meeting is held in the library space\, with a virtual option available.
URL:https://qlibrary.org/event/volunteer-committee-meeting-3/2027-09-27/
LOCATION:Quatrefoil Library\, 1220 East Lake Street\, Minneapolis\, MN\, 55407\, United States
CATEGORIES:Committee Meetings
END:VEVENT
BEGIN:VEVENT
DTSTART;TZID=America/Chicago:20271025T173000
DTEND;TZID=America/Chicago:20271025T183000
DTSTAMP:20260423T041948
CREATED:20240324T163158Z
LAST-MODIFIED:20240407T163136Z
UID:10001766-1824485400-1824489000@qlibrary.org
SUMMARY:Volunteer Committee Meeting
DESCRIPTION:Our volunteer committee is responsible for recruiting and training volunteers. They also maintain our volunteer schedule\, for operating hours and special events. \nAnyone is welcome to stop in if interested in joining\, or to share constructive ideas. You can also sign up via our volunteer form. \nThis meeting is held in the library space\, with a virtual option available.
URL:https://qlibrary.org/event/volunteer-committee-meeting-3/2027-10-25/
LOCATION:Quatrefoil Library\, 1220 East Lake Street\, Minneapolis\, MN\, 55407\, United States
CATEGORIES:Committee Meetings
END:VEVENT
BEGIN:VEVENT
DTSTART;TZID=America/Chicago:20271122T173000
DTEND;TZID=America/Chicago:20271122T183000
DTSTAMP:20260423T041948
CREATED:20240324T163158Z
LAST-MODIFIED:20240407T163136Z
UID:10001767-1826904600-1826908200@qlibrary.org
SUMMARY:Volunteer Committee Meeting
DESCRIPTION:Our volunteer committee is responsible for recruiting and training volunteers. They also maintain our volunteer schedule\, for operating hours and special events. \nAnyone is welcome to stop in if interested in joining\, or to share constructive ideas. You can also sign up via our volunteer form. \nThis meeting is held in the library space\, with a virtual option available.
URL:https://qlibrary.org/event/volunteer-committee-meeting-3/2027-11-22/
LOCATION:Quatrefoil Library\, 1220 East Lake Street\, Minneapolis\, MN\, 55407\, United States
CATEGORIES:Committee Meetings
END:VEVENT
BEGIN:VEVENT
DTSTART;TZID=America/Chicago:20271227T173000
DTEND;TZID=America/Chicago:20271227T183000
DTSTAMP:20260423T041948
CREATED:20240324T163158Z
LAST-MODIFIED:20240407T163136Z
UID:10001768-1829928600-1829932200@qlibrary.org
SUMMARY:Volunteer Committee Meeting
DESCRIPTION:Our volunteer committee is responsible for recruiting and training volunteers. They also maintain our volunteer schedule\, for operating hours and special events. \nAnyone is welcome to stop in if interested in joining\, or to share constructive ideas. You can also sign up via our volunteer form. \nThis meeting is held in the library space\, with a virtual option available.
URL:https://qlibrary.org/event/volunteer-committee-meeting-3/2027-12-27/
LOCATION:Quatrefoil Library\, 1220 East Lake Street\, Minneapolis\, MN\, 55407\, United States
CATEGORIES:Committee Meetings
END:VEVENT
BEGIN:VEVENT
DTSTART;TZID=America/Chicago:20280124T173000
DTEND;TZID=America/Chicago:20280124T183000
DTSTAMP:20260423T041948
CREATED:20240324T163158Z
LAST-MODIFIED:20240407T163136Z
UID:10001769-1832347800-1832351400@qlibrary.org
SUMMARY:Volunteer Committee Meeting
DESCRIPTION:Our volunteer committee is responsible for recruiting and training volunteers. They also maintain our volunteer schedule\, for operating hours and special events. \nAnyone is welcome to stop in if interested in joining\, or to share constructive ideas. You can also sign up via our volunteer form. \nThis meeting is held in the library space\, with a virtual option available.
URL:https://qlibrary.org/event/volunteer-committee-meeting-3/2028-01-24/
LOCATION:Quatrefoil Library\, 1220 East Lake Street\, Minneapolis\, MN\, 55407\, United States
CATEGORIES:Committee Meetings
END:VEVENT
BEGIN:VEVENT
DTSTART;TZID=America/Chicago:20280228T173000
DTEND;TZID=America/Chicago:20280228T183000
DTSTAMP:20260423T041948
CREATED:20240324T163158Z
LAST-MODIFIED:20240407T163136Z
UID:10001770-1835371800-1835375400@qlibrary.org
SUMMARY:Volunteer Committee Meeting
DESCRIPTION:Our volunteer committee is responsible for recruiting and training volunteers. They also maintain our volunteer schedule\, for operating hours and special events. \nAnyone is welcome to stop in if interested in joining\, or to share constructive ideas. You can also sign up via our volunteer form. \nThis meeting is held in the library space\, with a virtual option available.
URL:https://qlibrary.org/event/volunteer-committee-meeting-3/2028-02-28/
LOCATION:Quatrefoil Library\, 1220 East Lake Street\, Minneapolis\, MN\, 55407\, United States
CATEGORIES:Committee Meetings
END:VEVENT
BEGIN:VEVENT
DTSTART;TZID=America/Chicago:20280327T173000
DTEND;TZID=America/Chicago:20280327T183000
DTSTAMP:20260423T041948
CREATED:20240324T163158Z
LAST-MODIFIED:20240407T163136Z
UID:10001771-1837791000-1837794600@qlibrary.org
SUMMARY:Volunteer Committee Meeting
DESCRIPTION:Our volunteer committee is responsible for recruiting and training volunteers. They also maintain our volunteer schedule\, for operating hours and special events. \nAnyone is welcome to stop in if interested in joining\, or to share constructive ideas. You can also sign up via our volunteer form. \nThis meeting is held in the library space\, with a virtual option available.
URL:https://qlibrary.org/event/volunteer-committee-meeting-3/2028-03-27/
LOCATION:Quatrefoil Library\, 1220 East Lake Street\, Minneapolis\, MN\, 55407\, United States
CATEGORIES:Committee Meetings
END:VEVENT
BEGIN:VEVENT
DTSTART;TZID=America/Chicago:20280424T173000
DTEND;TZID=America/Chicago:20280424T183000
DTSTAMP:20260423T041948
CREATED:20240324T163158Z
LAST-MODIFIED:20240407T163136Z
UID:10001772-1840210200-1840213800@qlibrary.org
SUMMARY:Volunteer Committee Meeting
DESCRIPTION:Our volunteer committee is responsible for recruiting and training volunteers. They also maintain our volunteer schedule\, for operating hours and special events. \nAnyone is welcome to stop in if interested in joining\, or to share constructive ideas. You can also sign up via our volunteer form. \nThis meeting is held in the library space\, with a virtual option available.
URL:https://qlibrary.org/event/volunteer-committee-meeting-3/2028-04-24/
LOCATION:Quatrefoil Library\, 1220 East Lake Street\, Minneapolis\, MN\, 55407\, United States
CATEGORIES:Committee Meetings
END:VEVENT
BEGIN:VEVENT
DTSTART;TZID=America/Chicago:20280522T173000
DTEND;TZID=America/Chicago:20280522T183000
DTSTAMP:20260423T041948
CREATED:20240324T163158Z
LAST-MODIFIED:20240407T163136Z
UID:10001773-1842629400-1842633000@qlibrary.org
SUMMARY:Volunteer Committee Meeting
DESCRIPTION:Our volunteer committee is responsible for recruiting and training volunteers. They also maintain our volunteer schedule\, for operating hours and special events. \nAnyone is welcome to stop in if interested in joining\, or to share constructive ideas. You can also sign up via our volunteer form. \nThis meeting is held in the library space\, with a virtual option available.
URL:https://qlibrary.org/event/volunteer-committee-meeting-3/2028-05-22/
LOCATION:Quatrefoil Library\, 1220 East Lake Street\, Minneapolis\, MN\, 55407\, United States
CATEGORIES:Committee Meetings
END:VEVENT
BEGIN:VEVENT
DTSTART;TZID=America/Chicago:20280626T173000
DTEND;TZID=America/Chicago:20280626T183000
DTSTAMP:20260423T041948
CREATED:20240324T163158Z
LAST-MODIFIED:20240407T163136Z
UID:10001774-1845653400-1845657000@qlibrary.org
SUMMARY:Volunteer Committee Meeting
DESCRIPTION:Our volunteer committee is responsible for recruiting and training volunteers. They also maintain our volunteer schedule\, for operating hours and special events. \nAnyone is welcome to stop in if interested in joining\, or to share constructive ideas. You can also sign up via our volunteer form. \nThis meeting is held in the library space\, with a virtual option available.
URL:https://qlibrary.org/event/volunteer-committee-meeting-3/2028-06-26/
LOCATION:Quatrefoil Library\, 1220 East Lake Street\, Minneapolis\, MN\, 55407\, United States
CATEGORIES:Committee Meetings
END:VEVENT
BEGIN:VEVENT
DTSTART;TZID=America/Chicago:20280724T173000
DTEND;TZID=America/Chicago:20280724T183000
DTSTAMP:20260423T041948
CREATED:20240324T163158Z
LAST-MODIFIED:20240407T163136Z
UID:10001775-1848072600-1848076200@qlibrary.org
SUMMARY:Volunteer Committee Meeting
DESCRIPTION:Our volunteer committee is responsible for recruiting and training volunteers. They also maintain our volunteer schedule\, for operating hours and special events. \nAnyone is welcome to stop in if interested in joining\, or to share constructive ideas. You can also sign up via our volunteer form. \nThis meeting is held in the library space\, with a virtual option available.
URL:https://qlibrary.org/event/volunteer-committee-meeting-3/2028-07-24/
LOCATION:Quatrefoil Library\, 1220 East Lake Street\, Minneapolis\, MN\, 55407\, United States
CATEGORIES:Committee Meetings
END:VEVENT
BEGIN:VEVENT
DTSTART;TZID=America/Chicago:20280828T173000
DTEND;TZID=America/Chicago:20280828T183000
DTSTAMP:20260423T041948
CREATED:20240324T163158Z
LAST-MODIFIED:20240407T163136Z
UID:10001776-1851096600-1851100200@qlibrary.org
SUMMARY:Volunteer Committee Meeting
DESCRIPTION:Our volunteer committee is responsible for recruiting and training volunteers. They also maintain our volunteer schedule\, for operating hours and special events. \nAnyone is welcome to stop in if interested in joining\, or to share constructive ideas. You can also sign up via our volunteer form. \nThis meeting is held in the library space\, with a virtual option available.
URL:https://qlibrary.org/event/volunteer-committee-meeting-3/2028-08-28/
LOCATION:Quatrefoil Library\, 1220 East Lake Street\, Minneapolis\, MN\, 55407\, United States
CATEGORIES:Committee Meetings
END:VEVENT
BEGIN:VEVENT
DTSTART;TZID=America/Chicago:20280925T173000
DTEND;TZID=America/Chicago:20280925T183000
DTSTAMP:20260423T041948
CREATED:20240324T163158Z
LAST-MODIFIED:20240407T163136Z
UID:10001777-1853515800-1853519400@qlibrary.org
SUMMARY:Volunteer Committee Meeting
DESCRIPTION:Our volunteer committee is responsible for recruiting and training volunteers. They also maintain our volunteer schedule\, for operating hours and special events. \nAnyone is welcome to stop in if interested in joining\, or to share constructive ideas. You can also sign up via our volunteer form. \nThis meeting is held in the library space\, with a virtual option available.
URL:https://qlibrary.org/event/volunteer-committee-meeting-3/2028-09-25/
LOCATION:Quatrefoil Library\, 1220 East Lake Street\, Minneapolis\, MN\, 55407\, United States
CATEGORIES:Committee Meetings
END:VEVENT
END:VCALENDAR