BEGIN:VCALENDAR
VERSION:2.0
PRODID:-//Quatrefoil Library - ECPv6.15.20//NONSGML v1.0//EN
CALSCALE:GREGORIAN
METHOD:PUBLISH
X-WR-CALNAME:Quatrefoil Library
X-ORIGINAL-URL:https://qlibrary.org
X-WR-CALDESC:Events for Quatrefoil Library
REFRESH-INTERVAL;VALUE=DURATION:PT1H
X-Robots-Tag:noindex
X-PUBLISHED-TTL:PT1H
BEGIN:VTIMEZONE
TZID:America/Chicago
BEGIN:DAYLIGHT
TZOFFSETFROM:-0600
TZOFFSETTO:-0500
TZNAME:CDT
DTSTART:20250309T080000
END:DAYLIGHT
BEGIN:STANDARD
TZOFFSETFROM:-0500
TZOFFSETTO:-0600
TZNAME:CST
DTSTART:20251102T070000
END:STANDARD
BEGIN:DAYLIGHT
TZOFFSETFROM:-0600
TZOFFSETTO:-0500
TZNAME:CDT
DTSTART:20260308T080000
END:DAYLIGHT
BEGIN:STANDARD
TZOFFSETFROM:-0500
TZOFFSETTO:-0600
TZNAME:CST
DTSTART:20261101T070000
END:STANDARD
BEGIN:DAYLIGHT
TZOFFSETFROM:-0600
TZOFFSETTO:-0500
TZNAME:CDT
DTSTART:20270314T080000
END:DAYLIGHT
BEGIN:STANDARD
TZOFFSETFROM:-0500
TZOFFSETTO:-0600
TZNAME:CST
DTSTART:20271107T070000
END:STANDARD
BEGIN:DAYLIGHT
TZOFFSETFROM:-0600
TZOFFSETTO:-0500
TZNAME:CDT
DTSTART:20280312T080000
END:DAYLIGHT
BEGIN:STANDARD
TZOFFSETFROM:-0500
TZOFFSETTO:-0600
TZNAME:CST
DTSTART:20281105T070000
END:STANDARD
BEGIN:DAYLIGHT
TZOFFSETFROM:-0600
TZOFFSETTO:-0500
TZNAME:CDT
DTSTART:20290311T080000
END:DAYLIGHT
BEGIN:STANDARD
TZOFFSETFROM:-0500
TZOFFSETTO:-0600
TZNAME:CST
DTSTART:20291104T070000
END:STANDARD
END:VTIMEZONE
BEGIN:VEVENT
DTSTART;TZID=America/Chicago:20260513T190000
DTEND;TZID=America/Chicago:20260513T200000
DTSTAMP:20260423T040908
CREATED:20260124T211424Z
LAST-MODIFIED:20260124T211425Z
UID:10000948-1778698800-1778702400@qlibrary.org
SUMMARY:Moon Palace Queer Book Club
DESCRIPTION:Event by Moon Palace Books \nPublic  ·  Join us for Queer Book Club every second Wednesday from 7-8pm at Quatrefoil Library\, 1220 East Lake Street\, Minneapolis\, MN 55407! (Please note that in the summer we will only meet at Quatrefoil if it rains. Otherwise we will meet at Brackett Park.) \n\n\n\n\n\n\n\n\n\n\n\n\n\n\n\n\n\n\n\n\nBuy Books
URL:https://qlibrary.org/event/moon-palace-queer-book-club-2-2-2-2-2/2026-05-13/
LOCATION:Quatrefoil Library\, 1220 East Lake Street\, Minneapolis\, MN\, 55407\, United States
CATEGORIES:Book Club
END:VEVENT
BEGIN:VEVENT
DTSTART;TZID=America/Chicago:20260610T190000
DTEND;TZID=America/Chicago:20260610T200000
DTSTAMP:20260423T040908
CREATED:20260124T211424Z
LAST-MODIFIED:20260124T211425Z
UID:10000949-1781118000-1781121600@qlibrary.org
SUMMARY:Moon Palace Queer Book Club
DESCRIPTION:Event by Moon Palace Books \nPublic  ·  Join us for Queer Book Club every second Wednesday from 7-8pm at Quatrefoil Library\, 1220 East Lake Street\, Minneapolis\, MN 55407! (Please note that in the summer we will only meet at Quatrefoil if it rains. Otherwise we will meet at Brackett Park.) \n\n\n\n\n\n\n\n\n\n\n\n\n\n\n\n\n\n\n\n\nBuy Books
URL:https://qlibrary.org/event/moon-palace-queer-book-club-2-2-2-2-2/2026-06-10/
LOCATION:Quatrefoil Library\, 1220 East Lake Street\, Minneapolis\, MN\, 55407\, United States
CATEGORIES:Book Club
END:VEVENT
BEGIN:VEVENT
DTSTART;TZID=America/Chicago:20260708T190000
DTEND;TZID=America/Chicago:20260708T200000
DTSTAMP:20260423T040908
CREATED:20260124T211424Z
LAST-MODIFIED:20260124T211425Z
UID:10000950-1783537200-1783540800@qlibrary.org
SUMMARY:Moon Palace Queer Book Club
DESCRIPTION:Event by Moon Palace Books \nPublic  ·  Join us for Queer Book Club every second Wednesday from 7-8pm at Quatrefoil Library\, 1220 East Lake Street\, Minneapolis\, MN 55407! (Please note that in the summer we will only meet at Quatrefoil if it rains. Otherwise we will meet at Brackett Park.) \n\n\n\n\n\n\n\n\n\n\n\n\n\n\n\n\n\n\n\n\nBuy Books
URL:https://qlibrary.org/event/moon-palace-queer-book-club-2-2-2-2-2/2026-07-08/
LOCATION:Quatrefoil Library\, 1220 East Lake Street\, Minneapolis\, MN\, 55407\, United States
CATEGORIES:Book Club
END:VEVENT
BEGIN:VEVENT
DTSTART;TZID=America/Chicago:20260812T190000
DTEND;TZID=America/Chicago:20260812T200000
DTSTAMP:20260423T040908
CREATED:20260124T211424Z
LAST-MODIFIED:20260124T211425Z
UID:10000951-1786561200-1786564800@qlibrary.org
SUMMARY:Moon Palace Queer Book Club
DESCRIPTION:Event by Moon Palace Books \nPublic  ·  Join us for Queer Book Club every second Wednesday from 7-8pm at Quatrefoil Library\, 1220 East Lake Street\, Minneapolis\, MN 55407! (Please note that in the summer we will only meet at Quatrefoil if it rains. Otherwise we will meet at Brackett Park.) \n\n\n\n\n\n\n\n\n\n\n\n\n\n\n\n\n\n\n\n\nBuy Books
URL:https://qlibrary.org/event/moon-palace-queer-book-club-2-2-2-2-2/2026-08-12/
LOCATION:Quatrefoil Library\, 1220 East Lake Street\, Minneapolis\, MN\, 55407\, United States
CATEGORIES:Book Club
END:VEVENT
BEGIN:VEVENT
DTSTART;TZID=America/Chicago:20260909T190000
DTEND;TZID=America/Chicago:20260909T200000
DTSTAMP:20260423T040908
CREATED:20260124T211424Z
LAST-MODIFIED:20260124T211425Z
UID:10000952-1788980400-1788984000@qlibrary.org
SUMMARY:Moon Palace Queer Book Club
DESCRIPTION:Event by Moon Palace Books \nPublic  ·  Join us for Queer Book Club every second Wednesday from 7-8pm at Quatrefoil Library\, 1220 East Lake Street\, Minneapolis\, MN 55407! (Please note that in the summer we will only meet at Quatrefoil if it rains. Otherwise we will meet at Brackett Park.) \n\n\n\n\n\n\n\n\n\n\n\n\n\n\n\n\n\n\n\n\nBuy Books
URL:https://qlibrary.org/event/moon-palace-queer-book-club-2-2-2-2-2/2026-09-09/
LOCATION:Quatrefoil Library\, 1220 East Lake Street\, Minneapolis\, MN\, 55407\, United States
CATEGORIES:Book Club
END:VEVENT
BEGIN:VEVENT
DTSTART;TZID=America/Chicago:20261014T190000
DTEND;TZID=America/Chicago:20261014T200000
DTSTAMP:20260423T040908
CREATED:20260124T211424Z
LAST-MODIFIED:20260124T211425Z
UID:10000953-1792004400-1792008000@qlibrary.org
SUMMARY:Moon Palace Queer Book Club
DESCRIPTION:Event by Moon Palace Books \nPublic  ·  Join us for Queer Book Club every second Wednesday from 7-8pm at Quatrefoil Library\, 1220 East Lake Street\, Minneapolis\, MN 55407! (Please note that in the summer we will only meet at Quatrefoil if it rains. Otherwise we will meet at Brackett Park.) \n\n\n\n\n\n\n\n\n\n\n\n\n\n\n\n\n\n\n\n\nBuy Books
URL:https://qlibrary.org/event/moon-palace-queer-book-club-2-2-2-2-2/2026-10-14/
LOCATION:Quatrefoil Library\, 1220 East Lake Street\, Minneapolis\, MN\, 55407\, United States
CATEGORIES:Book Club
END:VEVENT
BEGIN:VEVENT
DTSTART;TZID=America/Chicago:20261111T190000
DTEND;TZID=America/Chicago:20261111T200000
DTSTAMP:20260423T040908
CREATED:20260124T211424Z
LAST-MODIFIED:20260124T211425Z
UID:10000954-1794423600-1794427200@qlibrary.org
SUMMARY:Moon Palace Queer Book Club
DESCRIPTION:Event by Moon Palace Books \nPublic  ·  Join us for Queer Book Club every second Wednesday from 7-8pm at Quatrefoil Library\, 1220 East Lake Street\, Minneapolis\, MN 55407! (Please note that in the summer we will only meet at Quatrefoil if it rains. Otherwise we will meet at Brackett Park.) \n\n\n\n\n\n\n\n\n\n\n\n\n\n\n\n\n\n\n\n\nBuy Books
URL:https://qlibrary.org/event/moon-palace-queer-book-club-2-2-2-2-2/2026-11-11/
LOCATION:Quatrefoil Library\, 1220 East Lake Street\, Minneapolis\, MN\, 55407\, United States
CATEGORIES:Book Club
END:VEVENT
BEGIN:VEVENT
DTSTART;TZID=America/Chicago:20261209T190000
DTEND;TZID=America/Chicago:20261209T200000
DTSTAMP:20260423T040908
CREATED:20260124T211424Z
LAST-MODIFIED:20260124T211425Z
UID:10000955-1796842800-1796846400@qlibrary.org
SUMMARY:Moon Palace Queer Book Club
DESCRIPTION:Event by Moon Palace Books \nPublic  ·  Join us for Queer Book Club every second Wednesday from 7-8pm at Quatrefoil Library\, 1220 East Lake Street\, Minneapolis\, MN 55407! (Please note that in the summer we will only meet at Quatrefoil if it rains. Otherwise we will meet at Brackett Park.) \n\n\n\n\n\n\n\n\n\n\n\n\n\n\n\n\n\n\n\n\nBuy Books
URL:https://qlibrary.org/event/moon-palace-queer-book-club-2-2-2-2-2/2026-12-09/
LOCATION:Quatrefoil Library\, 1220 East Lake Street\, Minneapolis\, MN\, 55407\, United States
CATEGORIES:Book Club
END:VEVENT
BEGIN:VEVENT
DTSTART;TZID=America/Chicago:20270113T190000
DTEND;TZID=America/Chicago:20270113T200000
DTSTAMP:20260423T040908
CREATED:20260124T211424Z
LAST-MODIFIED:20260124T211425Z
UID:10000956-1799866800-1799870400@qlibrary.org
SUMMARY:Moon Palace Queer Book Club
DESCRIPTION:Event by Moon Palace Books \nPublic  ·  Join us for Queer Book Club every second Wednesday from 7-8pm at Quatrefoil Library\, 1220 East Lake Street\, Minneapolis\, MN 55407! (Please note that in the summer we will only meet at Quatrefoil if it rains. Otherwise we will meet at Brackett Park.) \n\n\n\n\n\n\n\n\n\n\n\n\n\n\n\n\n\n\n\n\nBuy Books
URL:https://qlibrary.org/event/moon-palace-queer-book-club-2-2-2-2-2/2027-01-13/
LOCATION:Quatrefoil Library\, 1220 East Lake Street\, Minneapolis\, MN\, 55407\, United States
CATEGORIES:Book Club
END:VEVENT
BEGIN:VEVENT
DTSTART;TZID=America/Chicago:20270210T190000
DTEND;TZID=America/Chicago:20270210T200000
DTSTAMP:20260423T040908
CREATED:20260124T211424Z
LAST-MODIFIED:20260124T211425Z
UID:10000957-1802286000-1802289600@qlibrary.org
SUMMARY:Moon Palace Queer Book Club
DESCRIPTION:Event by Moon Palace Books \nPublic  ·  Join us for Queer Book Club every second Wednesday from 7-8pm at Quatrefoil Library\, 1220 East Lake Street\, Minneapolis\, MN 55407! (Please note that in the summer we will only meet at Quatrefoil if it rains. Otherwise we will meet at Brackett Park.) \n\n\n\n\n\n\n\n\n\n\n\n\n\n\n\n\n\n\n\n\nBuy Books
URL:https://qlibrary.org/event/moon-palace-queer-book-club-2-2-2-2-2/2027-02-10/
LOCATION:Quatrefoil Library\, 1220 East Lake Street\, Minneapolis\, MN\, 55407\, United States
CATEGORIES:Book Club
END:VEVENT
BEGIN:VEVENT
DTSTART;TZID=America/Chicago:20270310T190000
DTEND;TZID=America/Chicago:20270310T200000
DTSTAMP:20260423T040908
CREATED:20260124T211424Z
LAST-MODIFIED:20260124T211425Z
UID:10000958-1804705200-1804708800@qlibrary.org
SUMMARY:Moon Palace Queer Book Club
DESCRIPTION:Event by Moon Palace Books \nPublic  ·  Join us for Queer Book Club every second Wednesday from 7-8pm at Quatrefoil Library\, 1220 East Lake Street\, Minneapolis\, MN 55407! (Please note that in the summer we will only meet at Quatrefoil if it rains. Otherwise we will meet at Brackett Park.) \n\n\n\n\n\n\n\n\n\n\n\n\n\n\n\n\n\n\n\n\nBuy Books
URL:https://qlibrary.org/event/moon-palace-queer-book-club-2-2-2-2-2/2027-03-10/
LOCATION:Quatrefoil Library\, 1220 East Lake Street\, Minneapolis\, MN\, 55407\, United States
CATEGORIES:Book Club
END:VEVENT
BEGIN:VEVENT
DTSTART;TZID=America/Chicago:20270414T190000
DTEND;TZID=America/Chicago:20270414T200000
DTSTAMP:20260423T040908
CREATED:20260124T211424Z
LAST-MODIFIED:20260124T211425Z
UID:10000959-1807729200-1807732800@qlibrary.org
SUMMARY:Moon Palace Queer Book Club
DESCRIPTION:Event by Moon Palace Books \nPublic  ·  Join us for Queer Book Club every second Wednesday from 7-8pm at Quatrefoil Library\, 1220 East Lake Street\, Minneapolis\, MN 55407! (Please note that in the summer we will only meet at Quatrefoil if it rains. Otherwise we will meet at Brackett Park.) \n\n\n\n\n\n\n\n\n\n\n\n\n\n\n\n\n\n\n\n\nBuy Books
URL:https://qlibrary.org/event/moon-palace-queer-book-club-2-2-2-2-2/2027-04-14/
LOCATION:Quatrefoil Library\, 1220 East Lake Street\, Minneapolis\, MN\, 55407\, United States
CATEGORIES:Book Club
END:VEVENT
BEGIN:VEVENT
DTSTART;TZID=America/Chicago:20270512T190000
DTEND;TZID=America/Chicago:20270512T200000
DTSTAMP:20260423T040908
CREATED:20260124T211424Z
LAST-MODIFIED:20260124T211425Z
UID:10000960-1810148400-1810152000@qlibrary.org
SUMMARY:Moon Palace Queer Book Club
DESCRIPTION:Event by Moon Palace Books \nPublic  ·  Join us for Queer Book Club every second Wednesday from 7-8pm at Quatrefoil Library\, 1220 East Lake Street\, Minneapolis\, MN 55407! (Please note that in the summer we will only meet at Quatrefoil if it rains. Otherwise we will meet at Brackett Park.) \n\n\n\n\n\n\n\n\n\n\n\n\n\n\n\n\n\n\n\n\nBuy Books
URL:https://qlibrary.org/event/moon-palace-queer-book-club-2-2-2-2-2/2027-05-12/
LOCATION:Quatrefoil Library\, 1220 East Lake Street\, Minneapolis\, MN\, 55407\, United States
CATEGORIES:Book Club
END:VEVENT
BEGIN:VEVENT
DTSTART;TZID=America/Chicago:20270609T190000
DTEND;TZID=America/Chicago:20270609T200000
DTSTAMP:20260423T040908
CREATED:20260124T211424Z
LAST-MODIFIED:20260124T211425Z
UID:10000961-1812567600-1812571200@qlibrary.org
SUMMARY:Moon Palace Queer Book Club
DESCRIPTION:Event by Moon Palace Books \nPublic  ·  Join us for Queer Book Club every second Wednesday from 7-8pm at Quatrefoil Library\, 1220 East Lake Street\, Minneapolis\, MN 55407! (Please note that in the summer we will only meet at Quatrefoil if it rains. Otherwise we will meet at Brackett Park.) \n\n\n\n\n\n\n\n\n\n\n\n\n\n\n\n\n\n\n\n\nBuy Books
URL:https://qlibrary.org/event/moon-palace-queer-book-club-2-2-2-2-2/2027-06-09/
LOCATION:Quatrefoil Library\, 1220 East Lake Street\, Minneapolis\, MN\, 55407\, United States
CATEGORIES:Book Club
END:VEVENT
BEGIN:VEVENT
DTSTART;TZID=America/Chicago:20270714T190000
DTEND;TZID=America/Chicago:20270714T200000
DTSTAMP:20260423T040908
CREATED:20260124T211424Z
LAST-MODIFIED:20260124T211425Z
UID:10000962-1815591600-1815595200@qlibrary.org
SUMMARY:Moon Palace Queer Book Club
DESCRIPTION:Event by Moon Palace Books \nPublic  ·  Join us for Queer Book Club every second Wednesday from 7-8pm at Quatrefoil Library\, 1220 East Lake Street\, Minneapolis\, MN 55407! (Please note that in the summer we will only meet at Quatrefoil if it rains. Otherwise we will meet at Brackett Park.) \n\n\n\n\n\n\n\n\n\n\n\n\n\n\n\n\n\n\n\n\nBuy Books
URL:https://qlibrary.org/event/moon-palace-queer-book-club-2-2-2-2-2/2027-07-14/
LOCATION:Quatrefoil Library\, 1220 East Lake Street\, Minneapolis\, MN\, 55407\, United States
CATEGORIES:Book Club
END:VEVENT
BEGIN:VEVENT
DTSTART;TZID=America/Chicago:20270811T190000
DTEND;TZID=America/Chicago:20270811T200000
DTSTAMP:20260423T040908
CREATED:20260124T211424Z
LAST-MODIFIED:20260124T211425Z
UID:10000963-1818010800-1818014400@qlibrary.org
SUMMARY:Moon Palace Queer Book Club
DESCRIPTION:Event by Moon Palace Books \nPublic  ·  Join us for Queer Book Club every second Wednesday from 7-8pm at Quatrefoil Library\, 1220 East Lake Street\, Minneapolis\, MN 55407! (Please note that in the summer we will only meet at Quatrefoil if it rains. Otherwise we will meet at Brackett Park.) \n\n\n\n\n\n\n\n\n\n\n\n\n\n\n\n\n\n\n\n\nBuy Books
URL:https://qlibrary.org/event/moon-palace-queer-book-club-2-2-2-2-2/2027-08-11/
LOCATION:Quatrefoil Library\, 1220 East Lake Street\, Minneapolis\, MN\, 55407\, United States
CATEGORIES:Book Club
END:VEVENT
BEGIN:VEVENT
DTSTART;TZID=America/Chicago:20270908T190000
DTEND;TZID=America/Chicago:20270908T200000
DTSTAMP:20260423T040908
CREATED:20260124T211424Z
LAST-MODIFIED:20260124T211425Z
UID:10000964-1820430000-1820433600@qlibrary.org
SUMMARY:Moon Palace Queer Book Club
DESCRIPTION:Event by Moon Palace Books \nPublic  ·  Join us for Queer Book Club every second Wednesday from 7-8pm at Quatrefoil Library\, 1220 East Lake Street\, Minneapolis\, MN 55407! (Please note that in the summer we will only meet at Quatrefoil if it rains. Otherwise we will meet at Brackett Park.) \n\n\n\n\n\n\n\n\n\n\n\n\n\n\n\n\n\n\n\n\nBuy Books
URL:https://qlibrary.org/event/moon-palace-queer-book-club-2-2-2-2-2/2027-09-08/
LOCATION:Quatrefoil Library\, 1220 East Lake Street\, Minneapolis\, MN\, 55407\, United States
CATEGORIES:Book Club
END:VEVENT
BEGIN:VEVENT
DTSTART;TZID=America/Chicago:20271013T190000
DTEND;TZID=America/Chicago:20271013T200000
DTSTAMP:20260423T040908
CREATED:20260124T211424Z
LAST-MODIFIED:20260124T211425Z
UID:10000965-1823454000-1823457600@qlibrary.org
SUMMARY:Moon Palace Queer Book Club
DESCRIPTION:Event by Moon Palace Books \nPublic  ·  Join us for Queer Book Club every second Wednesday from 7-8pm at Quatrefoil Library\, 1220 East Lake Street\, Minneapolis\, MN 55407! (Please note that in the summer we will only meet at Quatrefoil if it rains. Otherwise we will meet at Brackett Park.) \n\n\n\n\n\n\n\n\n\n\n\n\n\n\n\n\n\n\n\n\nBuy Books
URL:https://qlibrary.org/event/moon-palace-queer-book-club-2-2-2-2-2/2027-10-13/
LOCATION:Quatrefoil Library\, 1220 East Lake Street\, Minneapolis\, MN\, 55407\, United States
CATEGORIES:Book Club
END:VEVENT
BEGIN:VEVENT
DTSTART;TZID=America/Chicago:20271110T190000
DTEND;TZID=America/Chicago:20271110T200000
DTSTAMP:20260423T040908
CREATED:20260124T211424Z
LAST-MODIFIED:20260124T211425Z
UID:10000966-1825873200-1825876800@qlibrary.org
SUMMARY:Moon Palace Queer Book Club
DESCRIPTION:Event by Moon Palace Books \nPublic  ·  Join us for Queer Book Club every second Wednesday from 7-8pm at Quatrefoil Library\, 1220 East Lake Street\, Minneapolis\, MN 55407! (Please note that in the summer we will only meet at Quatrefoil if it rains. Otherwise we will meet at Brackett Park.) \n\n\n\n\n\n\n\n\n\n\n\n\n\n\n\n\n\n\n\n\nBuy Books
URL:https://qlibrary.org/event/moon-palace-queer-book-club-2-2-2-2-2/2027-11-10/
LOCATION:Quatrefoil Library\, 1220 East Lake Street\, Minneapolis\, MN\, 55407\, United States
CATEGORIES:Book Club
END:VEVENT
BEGIN:VEVENT
DTSTART;TZID=America/Chicago:20271208T190000
DTEND;TZID=America/Chicago:20271208T200000
DTSTAMP:20260423T040908
CREATED:20260124T211424Z
LAST-MODIFIED:20260124T211425Z
UID:10000967-1828292400-1828296000@qlibrary.org
SUMMARY:Moon Palace Queer Book Club
DESCRIPTION:Event by Moon Palace Books \nPublic  ·  Join us for Queer Book Club every second Wednesday from 7-8pm at Quatrefoil Library\, 1220 East Lake Street\, Minneapolis\, MN 55407! (Please note that in the summer we will only meet at Quatrefoil if it rains. Otherwise we will meet at Brackett Park.) \n\n\n\n\n\n\n\n\n\n\n\n\n\n\n\n\n\n\n\n\nBuy Books
URL:https://qlibrary.org/event/moon-palace-queer-book-club-2-2-2-2-2/2027-12-08/
LOCATION:Quatrefoil Library\, 1220 East Lake Street\, Minneapolis\, MN\, 55407\, United States
CATEGORIES:Book Club
END:VEVENT
BEGIN:VEVENT
DTSTART;TZID=America/Chicago:20280112T190000
DTEND;TZID=America/Chicago:20280112T200000
DTSTAMP:20260423T040908
CREATED:20260124T211424Z
LAST-MODIFIED:20260124T211425Z
UID:10000968-1831316400-1831320000@qlibrary.org
SUMMARY:Moon Palace Queer Book Club
DESCRIPTION:Event by Moon Palace Books \nPublic  ·  Join us for Queer Book Club every second Wednesday from 7-8pm at Quatrefoil Library\, 1220 East Lake Street\, Minneapolis\, MN 55407! (Please note that in the summer we will only meet at Quatrefoil if it rains. Otherwise we will meet at Brackett Park.) \n\n\n\n\n\n\n\n\n\n\n\n\n\n\n\n\n\n\n\n\nBuy Books
URL:https://qlibrary.org/event/moon-palace-queer-book-club-2-2-2-2-2/2028-01-12/
LOCATION:Quatrefoil Library\, 1220 East Lake Street\, Minneapolis\, MN\, 55407\, United States
CATEGORIES:Book Club
END:VEVENT
BEGIN:VEVENT
DTSTART;TZID=America/Chicago:20280209T190000
DTEND;TZID=America/Chicago:20280209T200000
DTSTAMP:20260423T040909
CREATED:20260124T211424Z
LAST-MODIFIED:20260124T211425Z
UID:10000969-1833735600-1833739200@qlibrary.org
SUMMARY:Moon Palace Queer Book Club
DESCRIPTION:Event by Moon Palace Books \nPublic  ·  Join us for Queer Book Club every second Wednesday from 7-8pm at Quatrefoil Library\, 1220 East Lake Street\, Minneapolis\, MN 55407! (Please note that in the summer we will only meet at Quatrefoil if it rains. Otherwise we will meet at Brackett Park.) \n\n\n\n\n\n\n\n\n\n\n\n\n\n\n\n\n\n\n\n\nBuy Books
URL:https://qlibrary.org/event/moon-palace-queer-book-club-2-2-2-2-2/2028-02-09/
LOCATION:Quatrefoil Library\, 1220 East Lake Street\, Minneapolis\, MN\, 55407\, United States
CATEGORIES:Book Club
END:VEVENT
BEGIN:VEVENT
DTSTART;TZID=America/Chicago:20280308T190000
DTEND;TZID=America/Chicago:20280308T200000
DTSTAMP:20260423T040909
CREATED:20260124T211424Z
LAST-MODIFIED:20260124T211425Z
UID:10000970-1836154800-1836158400@qlibrary.org
SUMMARY:Moon Palace Queer Book Club
DESCRIPTION:Event by Moon Palace Books \nPublic  ·  Join us for Queer Book Club every second Wednesday from 7-8pm at Quatrefoil Library\, 1220 East Lake Street\, Minneapolis\, MN 55407! (Please note that in the summer we will only meet at Quatrefoil if it rains. Otherwise we will meet at Brackett Park.) \n\n\n\n\n\n\n\n\n\n\n\n\n\n\n\n\n\n\n\n\nBuy Books
URL:https://qlibrary.org/event/moon-palace-queer-book-club-2-2-2-2-2/2028-03-08/
LOCATION:Quatrefoil Library\, 1220 East Lake Street\, Minneapolis\, MN\, 55407\, United States
CATEGORIES:Book Club
END:VEVENT
BEGIN:VEVENT
DTSTART;TZID=America/Chicago:20280412T190000
DTEND;TZID=America/Chicago:20280412T200000
DTSTAMP:20260423T040909
CREATED:20260124T211424Z
LAST-MODIFIED:20260124T211425Z
UID:10000971-1839178800-1839182400@qlibrary.org
SUMMARY:Moon Palace Queer Book Club
DESCRIPTION:Event by Moon Palace Books \nPublic  ·  Join us for Queer Book Club every second Wednesday from 7-8pm at Quatrefoil Library\, 1220 East Lake Street\, Minneapolis\, MN 55407! (Please note that in the summer we will only meet at Quatrefoil if it rains. Otherwise we will meet at Brackett Park.) \n\n\n\n\n\n\n\n\n\n\n\n\n\n\n\n\n\n\n\n\nBuy Books
URL:https://qlibrary.org/event/moon-palace-queer-book-club-2-2-2-2-2/2028-04-12/
LOCATION:Quatrefoil Library\, 1220 East Lake Street\, Minneapolis\, MN\, 55407\, United States
CATEGORIES:Book Club
END:VEVENT
BEGIN:VEVENT
DTSTART;TZID=America/Chicago:20280510T190000
DTEND;TZID=America/Chicago:20280510T200000
DTSTAMP:20260423T040909
CREATED:20260124T211424Z
LAST-MODIFIED:20260124T211425Z
UID:10000972-1841598000-1841601600@qlibrary.org
SUMMARY:Moon Palace Queer Book Club
DESCRIPTION:Event by Moon Palace Books \nPublic  ·  Join us for Queer Book Club every second Wednesday from 7-8pm at Quatrefoil Library\, 1220 East Lake Street\, Minneapolis\, MN 55407! (Please note that in the summer we will only meet at Quatrefoil if it rains. Otherwise we will meet at Brackett Park.) \n\n\n\n\n\n\n\n\n\n\n\n\n\n\n\n\n\n\n\n\nBuy Books
URL:https://qlibrary.org/event/moon-palace-queer-book-club-2-2-2-2-2/2028-05-10/
LOCATION:Quatrefoil Library\, 1220 East Lake Street\, Minneapolis\, MN\, 55407\, United States
CATEGORIES:Book Club
END:VEVENT
BEGIN:VEVENT
DTSTART;TZID=America/Chicago:20280614T190000
DTEND;TZID=America/Chicago:20280614T200000
DTSTAMP:20260423T040909
CREATED:20260124T211424Z
LAST-MODIFIED:20260124T211425Z
UID:10000973-1844622000-1844625600@qlibrary.org
SUMMARY:Moon Palace Queer Book Club
DESCRIPTION:Event by Moon Palace Books \nPublic  ·  Join us for Queer Book Club every second Wednesday from 7-8pm at Quatrefoil Library\, 1220 East Lake Street\, Minneapolis\, MN 55407! (Please note that in the summer we will only meet at Quatrefoil if it rains. Otherwise we will meet at Brackett Park.) \n\n\n\n\n\n\n\n\n\n\n\n\n\n\n\n\n\n\n\n\nBuy Books
URL:https://qlibrary.org/event/moon-palace-queer-book-club-2-2-2-2-2/2028-06-14/
LOCATION:Quatrefoil Library\, 1220 East Lake Street\, Minneapolis\, MN\, 55407\, United States
CATEGORIES:Book Club
END:VEVENT
BEGIN:VEVENT
DTSTART;TZID=America/Chicago:20280712T190000
DTEND;TZID=America/Chicago:20280712T200000
DTSTAMP:20260423T040909
CREATED:20260124T211424Z
LAST-MODIFIED:20260124T211425Z
UID:10000974-1847041200-1847044800@qlibrary.org
SUMMARY:Moon Palace Queer Book Club
DESCRIPTION:Event by Moon Palace Books \nPublic  ·  Join us for Queer Book Club every second Wednesday from 7-8pm at Quatrefoil Library\, 1220 East Lake Street\, Minneapolis\, MN 55407! (Please note that in the summer we will only meet at Quatrefoil if it rains. Otherwise we will meet at Brackett Park.) \n\n\n\n\n\n\n\n\n\n\n\n\n\n\n\n\n\n\n\n\nBuy Books
URL:https://qlibrary.org/event/moon-palace-queer-book-club-2-2-2-2-2/2028-07-12/
LOCATION:Quatrefoil Library\, 1220 East Lake Street\, Minneapolis\, MN\, 55407\, United States
CATEGORIES:Book Club
END:VEVENT
BEGIN:VEVENT
DTSTART;TZID=America/Chicago:20280809T190000
DTEND;TZID=America/Chicago:20280809T200000
DTSTAMP:20260423T040909
CREATED:20260124T211424Z
LAST-MODIFIED:20260124T211425Z
UID:10000975-1849460400-1849464000@qlibrary.org
SUMMARY:Moon Palace Queer Book Club
DESCRIPTION:Event by Moon Palace Books \nPublic  ·  Join us for Queer Book Club every second Wednesday from 7-8pm at Quatrefoil Library\, 1220 East Lake Street\, Minneapolis\, MN 55407! (Please note that in the summer we will only meet at Quatrefoil if it rains. Otherwise we will meet at Brackett Park.) \n\n\n\n\n\n\n\n\n\n\n\n\n\n\n\n\n\n\n\n\nBuy Books
URL:https://qlibrary.org/event/moon-palace-queer-book-club-2-2-2-2-2/2028-08-09/
LOCATION:Quatrefoil Library\, 1220 East Lake Street\, Minneapolis\, MN\, 55407\, United States
CATEGORIES:Book Club
END:VEVENT
BEGIN:VEVENT
DTSTART;TZID=America/Chicago:20280913T190000
DTEND;TZID=America/Chicago:20280913T200000
DTSTAMP:20260423T040909
CREATED:20260124T211424Z
LAST-MODIFIED:20260124T211425Z
UID:10000976-1852484400-1852488000@qlibrary.org
SUMMARY:Moon Palace Queer Book Club
DESCRIPTION:Event by Moon Palace Books \nPublic  ·  Join us for Queer Book Club every second Wednesday from 7-8pm at Quatrefoil Library\, 1220 East Lake Street\, Minneapolis\, MN 55407! (Please note that in the summer we will only meet at Quatrefoil if it rains. Otherwise we will meet at Brackett Park.) \n\n\n\n\n\n\n\n\n\n\n\n\n\n\n\n\n\n\n\n\nBuy Books
URL:https://qlibrary.org/event/moon-palace-queer-book-club-2-2-2-2-2/2028-09-13/
LOCATION:Quatrefoil Library\, 1220 East Lake Street\, Minneapolis\, MN\, 55407\, United States
CATEGORIES:Book Club
END:VEVENT
BEGIN:VEVENT
DTSTART;TZID=America/Chicago:20281011T190000
DTEND;TZID=America/Chicago:20281011T200000
DTSTAMP:20260423T040909
CREATED:20260124T211424Z
LAST-MODIFIED:20260124T211425Z
UID:10000977-1854903600-1854907200@qlibrary.org
SUMMARY:Moon Palace Queer Book Club
DESCRIPTION:Event by Moon Palace Books \nPublic  ·  Join us for Queer Book Club every second Wednesday from 7-8pm at Quatrefoil Library\, 1220 East Lake Street\, Minneapolis\, MN 55407! (Please note that in the summer we will only meet at Quatrefoil if it rains. Otherwise we will meet at Brackett Park.) \n\n\n\n\n\n\n\n\n\n\n\n\n\n\n\n\n\n\n\n\nBuy Books
URL:https://qlibrary.org/event/moon-palace-queer-book-club-2-2-2-2-2/2028-10-11/
LOCATION:Quatrefoil Library\, 1220 East Lake Street\, Minneapolis\, MN\, 55407\, United States
CATEGORIES:Book Club
END:VEVENT
END:VCALENDAR