BEGIN:VCALENDAR
VERSION:2.0
PRODID:-//Quatrefoil Library - ECPv6.15.20//NONSGML v1.0//EN
CALSCALE:GREGORIAN
METHOD:PUBLISH
X-WR-CALNAME:Quatrefoil Library
X-ORIGINAL-URL:https://qlibrary.org
X-WR-CALDESC:Events for Quatrefoil Library
REFRESH-INTERVAL;VALUE=DURATION:PT1H
X-Robots-Tag:noindex
X-PUBLISHED-TTL:PT1H
BEGIN:VTIMEZONE
TZID:America/Chicago
BEGIN:DAYLIGHT
TZOFFSETFROM:-0600
TZOFFSETTO:-0500
TZNAME:CDT
DTSTART:20250309T080000
END:DAYLIGHT
BEGIN:STANDARD
TZOFFSETFROM:-0500
TZOFFSETTO:-0600
TZNAME:CST
DTSTART:20251102T070000
END:STANDARD
BEGIN:DAYLIGHT
TZOFFSETFROM:-0600
TZOFFSETTO:-0500
TZNAME:CDT
DTSTART:20260308T080000
END:DAYLIGHT
BEGIN:STANDARD
TZOFFSETFROM:-0500
TZOFFSETTO:-0600
TZNAME:CST
DTSTART:20261101T070000
END:STANDARD
BEGIN:DAYLIGHT
TZOFFSETFROM:-0600
TZOFFSETTO:-0500
TZNAME:CDT
DTSTART:20270314T080000
END:DAYLIGHT
BEGIN:STANDARD
TZOFFSETFROM:-0500
TZOFFSETTO:-0600
TZNAME:CST
DTSTART:20271107T070000
END:STANDARD
BEGIN:DAYLIGHT
TZOFFSETFROM:-0600
TZOFFSETTO:-0500
TZNAME:CDT
DTSTART:20280312T080000
END:DAYLIGHT
BEGIN:STANDARD
TZOFFSETFROM:-0500
TZOFFSETTO:-0600
TZNAME:CST
DTSTART:20281105T070000
END:STANDARD
BEGIN:DAYLIGHT
TZOFFSETFROM:-0600
TZOFFSETTO:-0500
TZNAME:CDT
DTSTART:20290311T080000
END:DAYLIGHT
BEGIN:STANDARD
TZOFFSETFROM:-0500
TZOFFSETTO:-0600
TZNAME:CST
DTSTART:20291104T070000
END:STANDARD
END:VTIMEZONE
BEGIN:VEVENT
DTSTART;TZID=America/Chicago:20260517T130000
DTEND;TZID=America/Chicago:20260517T160000
DTSTAMP:20260423T041001
CREATED:20231118T021214Z
LAST-MODIFIED:20231118T021255Z
UID:10000886-1779022800-1779033600@qlibrary.org
SUMMARY:Prime Timers Dominoes
DESCRIPTION:Join the Prime Timers for an afternoon of dominoes. Feel free to bring a snack to share and your dominoes set\, though not required.
URL:https://qlibrary.org/event/prime-timers-dominoes-5-2/2026-05-17/
END:VEVENT
BEGIN:VEVENT
DTSTART;TZID=America/Chicago:20260621T130000
DTEND;TZID=America/Chicago:20260621T160000
DTSTAMP:20260423T041001
CREATED:20231118T021214Z
LAST-MODIFIED:20231118T021255Z
UID:10000887-1782046800-1782057600@qlibrary.org
SUMMARY:Prime Timers Dominoes
DESCRIPTION:Join the Prime Timers for an afternoon of dominoes. Feel free to bring a snack to share and your dominoes set\, though not required.
URL:https://qlibrary.org/event/prime-timers-dominoes-5-2/2026-06-21/
END:VEVENT
BEGIN:VEVENT
DTSTART;TZID=America/Chicago:20260719T130000
DTEND;TZID=America/Chicago:20260719T160000
DTSTAMP:20260423T041001
CREATED:20231118T021214Z
LAST-MODIFIED:20231118T021255Z
UID:10000888-1784466000-1784476800@qlibrary.org
SUMMARY:Prime Timers Dominoes
DESCRIPTION:Join the Prime Timers for an afternoon of dominoes. Feel free to bring a snack to share and your dominoes set\, though not required.
URL:https://qlibrary.org/event/prime-timers-dominoes-5-2/2026-07-19/
END:VEVENT
BEGIN:VEVENT
DTSTART;TZID=America/Chicago:20260816T130000
DTEND;TZID=America/Chicago:20260816T160000
DTSTAMP:20260423T041002
CREATED:20231118T021214Z
LAST-MODIFIED:20231118T021255Z
UID:10000889-1786885200-1786896000@qlibrary.org
SUMMARY:Prime Timers Dominoes
DESCRIPTION:Join the Prime Timers for an afternoon of dominoes. Feel free to bring a snack to share and your dominoes set\, though not required.
URL:https://qlibrary.org/event/prime-timers-dominoes-5-2/2026-08-16/
END:VEVENT
BEGIN:VEVENT
DTSTART;TZID=America/Chicago:20260920T130000
DTEND;TZID=America/Chicago:20260920T160000
DTSTAMP:20260423T041002
CREATED:20231118T021214Z
LAST-MODIFIED:20231118T021255Z
UID:10000890-1789909200-1789920000@qlibrary.org
SUMMARY:Prime Timers Dominoes
DESCRIPTION:Join the Prime Timers for an afternoon of dominoes. Feel free to bring a snack to share and your dominoes set\, though not required.
URL:https://qlibrary.org/event/prime-timers-dominoes-5-2/2026-09-20/
END:VEVENT
BEGIN:VEVENT
DTSTART;TZID=America/Chicago:20261018T130000
DTEND;TZID=America/Chicago:20261018T160000
DTSTAMP:20260423T041002
CREATED:20231118T021214Z
LAST-MODIFIED:20231118T021255Z
UID:10000891-1792328400-1792339200@qlibrary.org
SUMMARY:Prime Timers Dominoes
DESCRIPTION:Join the Prime Timers for an afternoon of dominoes. Feel free to bring a snack to share and your dominoes set\, though not required.
URL:https://qlibrary.org/event/prime-timers-dominoes-5-2/2026-10-18/
END:VEVENT
BEGIN:VEVENT
DTSTART;TZID=America/Chicago:20261115T130000
DTEND;TZID=America/Chicago:20261115T160000
DTSTAMP:20260423T041002
CREATED:20231118T021214Z
LAST-MODIFIED:20231118T021255Z
UID:10000892-1794747600-1794758400@qlibrary.org
SUMMARY:Prime Timers Dominoes
DESCRIPTION:Join the Prime Timers for an afternoon of dominoes. Feel free to bring a snack to share and your dominoes set\, though not required.
URL:https://qlibrary.org/event/prime-timers-dominoes-5-2/2026-11-15/
END:VEVENT
BEGIN:VEVENT
DTSTART;TZID=America/Chicago:20261220T130000
DTEND;TZID=America/Chicago:20261220T160000
DTSTAMP:20260423T041002
CREATED:20231118T021214Z
LAST-MODIFIED:20231118T021255Z
UID:10000893-1797771600-1797782400@qlibrary.org
SUMMARY:Prime Timers Dominoes
DESCRIPTION:Join the Prime Timers for an afternoon of dominoes. Feel free to bring a snack to share and your dominoes set\, though not required.
URL:https://qlibrary.org/event/prime-timers-dominoes-5-2/2026-12-20/
END:VEVENT
BEGIN:VEVENT
DTSTART;TZID=America/Chicago:20270117T130000
DTEND;TZID=America/Chicago:20270117T160000
DTSTAMP:20260423T041002
CREATED:20231118T021214Z
LAST-MODIFIED:20231118T021255Z
UID:10000894-1800190800-1800201600@qlibrary.org
SUMMARY:Prime Timers Dominoes
DESCRIPTION:Join the Prime Timers for an afternoon of dominoes. Feel free to bring a snack to share and your dominoes set\, though not required.
URL:https://qlibrary.org/event/prime-timers-dominoes-5-2/2027-01-17/
END:VEVENT
BEGIN:VEVENT
DTSTART;TZID=America/Chicago:20270221T130000
DTEND;TZID=America/Chicago:20270221T160000
DTSTAMP:20260423T041002
CREATED:20231118T021214Z
LAST-MODIFIED:20231118T021255Z
UID:10000895-1803214800-1803225600@qlibrary.org
SUMMARY:Prime Timers Dominoes
DESCRIPTION:Join the Prime Timers for an afternoon of dominoes. Feel free to bring a snack to share and your dominoes set\, though not required.
URL:https://qlibrary.org/event/prime-timers-dominoes-5-2/2027-02-21/
END:VEVENT
BEGIN:VEVENT
DTSTART;TZID=America/Chicago:20270321T130000
DTEND;TZID=America/Chicago:20270321T160000
DTSTAMP:20260423T041002
CREATED:20231118T021214Z
LAST-MODIFIED:20231118T021255Z
UID:10000896-1805634000-1805644800@qlibrary.org
SUMMARY:Prime Timers Dominoes
DESCRIPTION:Join the Prime Timers for an afternoon of dominoes. Feel free to bring a snack to share and your dominoes set\, though not required.
URL:https://qlibrary.org/event/prime-timers-dominoes-5-2/2027-03-21/
END:VEVENT
BEGIN:VEVENT
DTSTART;TZID=America/Chicago:20270418T130000
DTEND;TZID=America/Chicago:20270418T160000
DTSTAMP:20260423T041002
CREATED:20231118T021214Z
LAST-MODIFIED:20231118T021255Z
UID:10000897-1808053200-1808064000@qlibrary.org
SUMMARY:Prime Timers Dominoes
DESCRIPTION:Join the Prime Timers for an afternoon of dominoes. Feel free to bring a snack to share and your dominoes set\, though not required.
URL:https://qlibrary.org/event/prime-timers-dominoes-5-2/2027-04-18/
END:VEVENT
BEGIN:VEVENT
DTSTART;TZID=America/Chicago:20270516T130000
DTEND;TZID=America/Chicago:20270516T160000
DTSTAMP:20260423T041002
CREATED:20231118T021214Z
LAST-MODIFIED:20231118T021255Z
UID:10000898-1810472400-1810483200@qlibrary.org
SUMMARY:Prime Timers Dominoes
DESCRIPTION:Join the Prime Timers for an afternoon of dominoes. Feel free to bring a snack to share and your dominoes set\, though not required.
URL:https://qlibrary.org/event/prime-timers-dominoes-5-2/2027-05-16/
END:VEVENT
BEGIN:VEVENT
DTSTART;TZID=America/Chicago:20270620T130000
DTEND;TZID=America/Chicago:20270620T160000
DTSTAMP:20260423T041002
CREATED:20231118T021214Z
LAST-MODIFIED:20231118T021255Z
UID:10000899-1813496400-1813507200@qlibrary.org
SUMMARY:Prime Timers Dominoes
DESCRIPTION:Join the Prime Timers for an afternoon of dominoes. Feel free to bring a snack to share and your dominoes set\, though not required.
URL:https://qlibrary.org/event/prime-timers-dominoes-5-2/2027-06-20/
END:VEVENT
BEGIN:VEVENT
DTSTART;TZID=America/Chicago:20270718T130000
DTEND;TZID=America/Chicago:20270718T160000
DTSTAMP:20260423T041002
CREATED:20231118T021214Z
LAST-MODIFIED:20231118T021255Z
UID:10000900-1815915600-1815926400@qlibrary.org
SUMMARY:Prime Timers Dominoes
DESCRIPTION:Join the Prime Timers for an afternoon of dominoes. Feel free to bring a snack to share and your dominoes set\, though not required.
URL:https://qlibrary.org/event/prime-timers-dominoes-5-2/2027-07-18/
END:VEVENT
BEGIN:VEVENT
DTSTART;TZID=America/Chicago:20270815T130000
DTEND;TZID=America/Chicago:20270815T160000
DTSTAMP:20260423T041002
CREATED:20231118T021214Z
LAST-MODIFIED:20231118T021255Z
UID:10000901-1818334800-1818345600@qlibrary.org
SUMMARY:Prime Timers Dominoes
DESCRIPTION:Join the Prime Timers for an afternoon of dominoes. Feel free to bring a snack to share and your dominoes set\, though not required.
URL:https://qlibrary.org/event/prime-timers-dominoes-5-2/2027-08-15/
END:VEVENT
BEGIN:VEVENT
DTSTART;TZID=America/Chicago:20270919T130000
DTEND;TZID=America/Chicago:20270919T160000
DTSTAMP:20260423T041002
CREATED:20231118T021214Z
LAST-MODIFIED:20231118T021255Z
UID:10000902-1821358800-1821369600@qlibrary.org
SUMMARY:Prime Timers Dominoes
DESCRIPTION:Join the Prime Timers for an afternoon of dominoes. Feel free to bring a snack to share and your dominoes set\, though not required.
URL:https://qlibrary.org/event/prime-timers-dominoes-5-2/2027-09-19/
END:VEVENT
BEGIN:VEVENT
DTSTART;TZID=America/Chicago:20271017T130000
DTEND;TZID=America/Chicago:20271017T160000
DTSTAMP:20260423T041002
CREATED:20231118T021214Z
LAST-MODIFIED:20231118T021255Z
UID:10000903-1823778000-1823788800@qlibrary.org
SUMMARY:Prime Timers Dominoes
DESCRIPTION:Join the Prime Timers for an afternoon of dominoes. Feel free to bring a snack to share and your dominoes set\, though not required.
URL:https://qlibrary.org/event/prime-timers-dominoes-5-2/2027-10-17/
END:VEVENT
BEGIN:VEVENT
DTSTART;TZID=America/Chicago:20271121T130000
DTEND;TZID=America/Chicago:20271121T160000
DTSTAMP:20260423T041002
CREATED:20231118T021214Z
LAST-MODIFIED:20231118T021255Z
UID:10000904-1826802000-1826812800@qlibrary.org
SUMMARY:Prime Timers Dominoes
DESCRIPTION:Join the Prime Timers for an afternoon of dominoes. Feel free to bring a snack to share and your dominoes set\, though not required.
URL:https://qlibrary.org/event/prime-timers-dominoes-5-2/2027-11-21/
END:VEVENT
BEGIN:VEVENT
DTSTART;TZID=America/Chicago:20271219T130000
DTEND;TZID=America/Chicago:20271219T160000
DTSTAMP:20260423T041002
CREATED:20231118T021214Z
LAST-MODIFIED:20231118T021255Z
UID:10000905-1829221200-1829232000@qlibrary.org
SUMMARY:Prime Timers Dominoes
DESCRIPTION:Join the Prime Timers for an afternoon of dominoes. Feel free to bring a snack to share and your dominoes set\, though not required.
URL:https://qlibrary.org/event/prime-timers-dominoes-5-2/2027-12-19/
END:VEVENT
BEGIN:VEVENT
DTSTART;TZID=America/Chicago:20280116T130000
DTEND;TZID=America/Chicago:20280116T160000
DTSTAMP:20260423T041002
CREATED:20231118T021214Z
LAST-MODIFIED:20231118T021255Z
UID:10000906-1831640400-1831651200@qlibrary.org
SUMMARY:Prime Timers Dominoes
DESCRIPTION:Join the Prime Timers for an afternoon of dominoes. Feel free to bring a snack to share and your dominoes set\, though not required.
URL:https://qlibrary.org/event/prime-timers-dominoes-5-2/2028-01-16/
END:VEVENT
BEGIN:VEVENT
DTSTART;TZID=America/Chicago:20280220T130000
DTEND;TZID=America/Chicago:20280220T160000
DTSTAMP:20260423T041002
CREATED:20231118T021214Z
LAST-MODIFIED:20231118T021255Z
UID:10000907-1834664400-1834675200@qlibrary.org
SUMMARY:Prime Timers Dominoes
DESCRIPTION:Join the Prime Timers for an afternoon of dominoes. Feel free to bring a snack to share and your dominoes set\, though not required.
URL:https://qlibrary.org/event/prime-timers-dominoes-5-2/2028-02-20/
END:VEVENT
BEGIN:VEVENT
DTSTART;TZID=America/Chicago:20280319T130000
DTEND;TZID=America/Chicago:20280319T160000
DTSTAMP:20260423T041002
CREATED:20231118T021214Z
LAST-MODIFIED:20231118T021255Z
UID:10000908-1837083600-1837094400@qlibrary.org
SUMMARY:Prime Timers Dominoes
DESCRIPTION:Join the Prime Timers for an afternoon of dominoes. Feel free to bring a snack to share and your dominoes set\, though not required.
URL:https://qlibrary.org/event/prime-timers-dominoes-5-2/2028-03-19/
END:VEVENT
BEGIN:VEVENT
DTSTART;TZID=America/Chicago:20280416T130000
DTEND;TZID=America/Chicago:20280416T160000
DTSTAMP:20260423T041002
CREATED:20231118T021214Z
LAST-MODIFIED:20231118T021255Z
UID:10000909-1839502800-1839513600@qlibrary.org
SUMMARY:Prime Timers Dominoes
DESCRIPTION:Join the Prime Timers for an afternoon of dominoes. Feel free to bring a snack to share and your dominoes set\, though not required.
URL:https://qlibrary.org/event/prime-timers-dominoes-5-2/2028-04-16/
END:VEVENT
BEGIN:VEVENT
DTSTART;TZID=America/Chicago:20280521T130000
DTEND;TZID=America/Chicago:20280521T160000
DTSTAMP:20260423T041002
CREATED:20231118T021214Z
LAST-MODIFIED:20231118T021255Z
UID:10000910-1842526800-1842537600@qlibrary.org
SUMMARY:Prime Timers Dominoes
DESCRIPTION:Join the Prime Timers for an afternoon of dominoes. Feel free to bring a snack to share and your dominoes set\, though not required.
URL:https://qlibrary.org/event/prime-timers-dominoes-5-2/2028-05-21/
END:VEVENT
BEGIN:VEVENT
DTSTART;TZID=America/Chicago:20280618T130000
DTEND;TZID=America/Chicago:20280618T160000
DTSTAMP:20260423T041002
CREATED:20231118T021214Z
LAST-MODIFIED:20231118T021255Z
UID:10000911-1844946000-1844956800@qlibrary.org
SUMMARY:Prime Timers Dominoes
DESCRIPTION:Join the Prime Timers for an afternoon of dominoes. Feel free to bring a snack to share and your dominoes set\, though not required.
URL:https://qlibrary.org/event/prime-timers-dominoes-5-2/2028-06-18/
END:VEVENT
BEGIN:VEVENT
DTSTART;TZID=America/Chicago:20280716T130000
DTEND;TZID=America/Chicago:20280716T160000
DTSTAMP:20260423T041002
CREATED:20231118T021214Z
LAST-MODIFIED:20231118T021255Z
UID:10000912-1847365200-1847376000@qlibrary.org
SUMMARY:Prime Timers Dominoes
DESCRIPTION:Join the Prime Timers for an afternoon of dominoes. Feel free to bring a snack to share and your dominoes set\, though not required.
URL:https://qlibrary.org/event/prime-timers-dominoes-5-2/2028-07-16/
END:VEVENT
BEGIN:VEVENT
DTSTART;TZID=America/Chicago:20280820T130000
DTEND;TZID=America/Chicago:20280820T160000
DTSTAMP:20260423T041002
CREATED:20231118T021214Z
LAST-MODIFIED:20231118T021255Z
UID:10000913-1850389200-1850400000@qlibrary.org
SUMMARY:Prime Timers Dominoes
DESCRIPTION:Join the Prime Timers for an afternoon of dominoes. Feel free to bring a snack to share and your dominoes set\, though not required.
URL:https://qlibrary.org/event/prime-timers-dominoes-5-2/2028-08-20/
END:VEVENT
BEGIN:VEVENT
DTSTART;TZID=America/Chicago:20280917T130000
DTEND;TZID=America/Chicago:20280917T160000
DTSTAMP:20260423T041002
CREATED:20231118T021214Z
LAST-MODIFIED:20231118T021255Z
UID:10000914-1852808400-1852819200@qlibrary.org
SUMMARY:Prime Timers Dominoes
DESCRIPTION:Join the Prime Timers for an afternoon of dominoes. Feel free to bring a snack to share and your dominoes set\, though not required.
URL:https://qlibrary.org/event/prime-timers-dominoes-5-2/2028-09-17/
END:VEVENT
BEGIN:VEVENT
DTSTART;TZID=America/Chicago:20281015T130000
DTEND;TZID=America/Chicago:20281015T160000
DTSTAMP:20260423T041002
CREATED:20231118T021214Z
LAST-MODIFIED:20231118T021255Z
UID:10000915-1855227600-1855238400@qlibrary.org
SUMMARY:Prime Timers Dominoes
DESCRIPTION:Join the Prime Timers for an afternoon of dominoes. Feel free to bring a snack to share and your dominoes set\, though not required.
URL:https://qlibrary.org/event/prime-timers-dominoes-5-2/2028-10-15/
END:VEVENT
END:VCALENDAR