BEGIN:VCALENDAR
VERSION:2.0
PRODID:-//Quatrefoil Library - ECPv6.15.20//NONSGML v1.0//EN
CALSCALE:GREGORIAN
METHOD:PUBLISH
X-WR-CALNAME:Quatrefoil Library
X-ORIGINAL-URL:https://qlibrary.org
X-WR-CALDESC:Events for Quatrefoil Library
REFRESH-INTERVAL;VALUE=DURATION:PT1H
X-Robots-Tag:noindex
X-PUBLISHED-TTL:PT1H
BEGIN:VTIMEZONE
TZID:America/Chicago
BEGIN:DAYLIGHT
TZOFFSETFROM:-0600
TZOFFSETTO:-0500
TZNAME:CDT
DTSTART:20250309T080000
END:DAYLIGHT
BEGIN:STANDARD
TZOFFSETFROM:-0500
TZOFFSETTO:-0600
TZNAME:CST
DTSTART:20251102T070000
END:STANDARD
BEGIN:DAYLIGHT
TZOFFSETFROM:-0600
TZOFFSETTO:-0500
TZNAME:CDT
DTSTART:20260308T080000
END:DAYLIGHT
BEGIN:STANDARD
TZOFFSETFROM:-0500
TZOFFSETTO:-0600
TZNAME:CST
DTSTART:20261101T070000
END:STANDARD
BEGIN:DAYLIGHT
TZOFFSETFROM:-0600
TZOFFSETTO:-0500
TZNAME:CDT
DTSTART:20270314T080000
END:DAYLIGHT
BEGIN:STANDARD
TZOFFSETFROM:-0500
TZOFFSETTO:-0600
TZNAME:CST
DTSTART:20271107T070000
END:STANDARD
END:VTIMEZONE
BEGIN:VEVENT
DTSTART;TZID=America/Chicago:20260601T173000
DTEND;TZID=America/Chicago:20260601T190000
DTSTAMP:20260423T054929
CREATED:20260406T202954Z
LAST-MODIFIED:20260406T202954Z
UID:10004505-1780335000-1780340400@qlibrary.org
SUMMARY:Finance & Development Committee Meeting
DESCRIPTION:The Finance and Development committees meet hybrid on the first Monday of each month. Contact development@quatrefoil.org if you are interested in joining!
URL:https://qlibrary.org/event/finance-development-committee-meeting/2026-06-01/
LOCATION:Quatrefoil Library\, 1220 East Lake Street\, Minneapolis\, MN\, 55407\, United States
CATEGORIES:Committee Meetings
END:VEVENT
BEGIN:VEVENT
DTSTART;TZID=America/Chicago:20260602T190000
DTEND;TZID=America/Chicago:20260602T203000
DTSTAMP:20260423T054929
CREATED:20250527T225421Z
LAST-MODIFIED:20250527T225421Z
UID:10003377-1780426800-1780432200@qlibrary.org
SUMMARY:Technology Committee Meeting
DESCRIPTION:The tech committee meets hybrid on the first Tuesday of each month. Contact technology@quatrefoil.org if you are interested in joining!
URL:https://qlibrary.org/event/technology-committee-meeting/2026-06-02/
LOCATION:Quatrefoil Library\, 1220 East Lake Street\, Minneapolis\, MN\, 55407\, United States
CATEGORIES:Committee Meetings
END:VEVENT
BEGIN:VEVENT
DTSTART;TZID=America/Chicago:20260603T190000
DTEND;TZID=America/Chicago:20260603T210000
DTSTAMP:20260423T054929
CREATED:20240324T164527Z
LAST-MODIFIED:20240324T164545Z
UID:10001621-1780513200-1780520400@qlibrary.org
SUMMARY:Queer Threads
DESCRIPTION:Queer threads: a weekly intergenerational craft night for LGBTQ people of all genders \nwhat: a weekly craft night for knitting\, crochet\, embroidery\, mending\, quilting\, and other portable crafts \nwhy: find community and camaraderie with other LGBTQ crafters \nwho: for all ages and genders. Kids are welcome\, but childcare is not provided. \nwhere: Quatrefoil Library at 1220 E Lake St Minneapolis. \nwhen: 1st and 3rd Wednesday nights from 7-9 pm \naccessibility: please wear a mask. \nhelp us cultivate a welcoming group: crafting is for all gender identities and types of gender expression; ask for (rather than assume) pronouns; all types of yarn and materials\, experience levels\, and portable craft projects are welcome.
URL:https://qlibrary.org/event/queer-threads-6/2026-06-03/
LOCATION:Quatrefoil Library: Spirit on Lake Community Room\, 1220 E Lake St\, Minneapolis\, MN\, 55407\, United States
CATEGORIES:Community Club
END:VEVENT
BEGIN:VEVENT
DTSTART;TZID=America/Chicago:20260604T183000
DTEND;TZID=America/Chicago:20260604T200000
DTSTAMP:20260423T054929
CREATED:20260108T021858Z
LAST-MODIFIED:20260108T021858Z
UID:10004360-1780597800-1780603200@qlibrary.org
SUMMARY:Quatrefoil Board Meeting
DESCRIPTION:The Quatrefoil Board meets monthly on the first Thursday of the month in the Community Room.
URL:https://qlibrary.org/event/quatrefoil-board-meeting-2-2-2/2026-06-04/
LOCATION:Quatrefoil Library\, 1220 East Lake Street\, Minneapolis\, MN\, 55407\, United States
CATEGORIES:Committee Meetings
END:VEVENT
BEGIN:VEVENT
DTSTART;TZID=America/Chicago:20260606T110000
DTEND;TZID=America/Chicago:20260606T130000
DTSTAMP:20260423T054929
CREATED:20251025T161732Z
LAST-MODIFIED:20251025T161952Z
UID:10003948-1780743600-1780750800@qlibrary.org
SUMMARY:Religious Trauma Support Group
DESCRIPTION:A Monthly Religious Trauma Support Group Facilitated by an LGBTQIA+ Certified Peer Support Specialist \nAre you navigating the aftermath of religious trauma\, spiritual abuse\, or the painful intersections of faith and identity? You’re not alone. \nThis peer-led support group offers a safe\, affirming space for individuals who have experienced religious trauma—particularly those from LGBTQIA+ communities. Facilitated by a certified peer support specialist with lived experience and specialized training in both religious trauma and LGBTQIA+ issues\, this group provides a judgment-free environment to share\, heal\, and grow. \nTogether\, we explore topics such as: \nReclaiming identity and self-worth\nProcessing grief\, fear\, and shame\nDeconstructing harmful beliefs\nNavigating relationships with family and community\nCultivating new spiritual or secular paths\nWhether you’re newly deconstructing or have been on this journey for years\, you’re welcome here. \nConfidential. Peer-led. Affirming. Healing. \n 
URL:https://qlibrary.org/event/religious-trauma-support-group/2026-06-06/
LOCATION:Quatrefoil Library\, 1220 East Lake Street\, Minneapolis\, MN\, 55407\, United States
END:VEVENT
BEGIN:VEVENT
DTSTART;TZID=America/Chicago:20260607T110000
DTEND;TZID=America/Chicago:20260607T130000
DTSTAMP:20260423T054929
CREATED:20241028T215403Z
LAST-MODIFIED:20241028T215403Z
UID:10002411-1780830000-1780837200@qlibrary.org
SUMMARY:Rainbow Reads
DESCRIPTION:Queer reading party (not a book club) that meets in the Library on the first Sunday of every month. This group allows people to share what they have been reading and interested in\, rather than discuss one book everyone has read.
URL:https://qlibrary.org/event/rainbow-reads-2/2026-06-07/
LOCATION:Quatrefoil Library\, 1220 East Lake Street\, Minneapolis\, MN\, 55407\, United States
CATEGORIES:Book Club
END:VEVENT
BEGIN:VEVENT
DTSTART;TZID=America/Chicago:20260607T133000
DTEND;TZID=America/Chicago:20260607T153000
DTSTAMP:20260423T054929
CREATED:20250909T212153Z
LAST-MODIFIED:20250909T212155Z
UID:10002623-1780839000-1780846200@qlibrary.org
SUMMARY:Twin Cities Aroace Solidarity Group
DESCRIPTION:Twin Cities Aroace Solidarity group is a joyful\, embracing 21+ creative community for progressive aroace-spec (aromantic and/or asexual spectrum) and queer allies to share mutual aid and friendship. We gather to socialize and discuss queer media. \nFind us on Meetup at: meetup.com/twin-cities-aroace-solidarity
URL:https://qlibrary.org/event/twin-cities-aroace-solidarity-group-4/2026-06-07/
LOCATION:Quatrefoil Library\, 1220 East Lake Street\, Minneapolis\, MN\, 55407\, United States
CATEGORIES:Community Club
END:VEVENT
BEGIN:VEVENT
DTSTART;TZID=America/Chicago:20260608T173000
DTEND;TZID=America/Chicago:20260608T183000
DTSTAMP:20260423T054929
CREATED:20260406T203149Z
LAST-MODIFIED:20260406T203149Z
UID:10004565-1780939800-1780943400@qlibrary.org
SUMMARY:Volunteer Committee Meeting
DESCRIPTION:Our volunteer committee is responsible for recruiting and training volunteers. They also maintain our volunteer schedule\, for operating hours and special events. \nAnyone is welcome to stop in if interested in joining\, or to share constructive ideas. You can also sign up via our volunteer form. \nThis meeting is held in the library space\, with a virtual option available.
URL:https://qlibrary.org/event/volunteer-committee-meeting-4/2026-06-08/
LOCATION:Quatrefoil Library\, 1220 East Lake Street\, Minneapolis\, MN\, 55407\, United States
CATEGORIES:Committee Meetings
END:VEVENT
BEGIN:VEVENT
DTSTART;TZID=America/Chicago:20260609T180000
DTEND;TZID=America/Chicago:20260609T190000
DTSTAMP:20260423T054929
CREATED:20251207T180057Z
LAST-MODIFIED:20251207T180057Z
UID:10003650-1781028000-1781031600@qlibrary.org
SUMMARY:Programming Committee Meeting
DESCRIPTION:*Programming is on break from December 2025- January 2026. We will resume regular meeting times in February. If interested in joining in the new year\, reach out to Programming via email.* \nRegular meeting of the Quatrefoil Programming Committee. Committee meets every second and fourth Tuesday in the library (with a virtual option available for committee members) from 6:00 – 7:00pm. Reach out to programming@quatrefoil.org if you are interested in joining.
URL:https://qlibrary.org/event/programming-committee-meeting-6-2-2-2-2/2026-06-09/
LOCATION:Quatrefoil Library\, 1220 East Lake Street\, Minneapolis\, MN\, 55407\, United States
CATEGORIES:Committee Meetings
END:VEVENT
BEGIN:VEVENT
DTSTART;TZID=America/Chicago:20260609T190000
DTEND;TZID=America/Chicago:20260609T203000
DTSTAMP:20260423T054929
CREATED:20250211T005150Z
LAST-MODIFIED:20250211T005150Z
UID:10003158-1781031600-1781037000@qlibrary.org
SUMMARY:North Country Gaylaxians Book Club (Online)
DESCRIPTION:The meeting of the Twin Cities chapter of the Gaylactic Network\, an organization for the GLBT fan community\, whether it be science fiction\, fantasy\, horror\, comics\, or gaming. We read and discuss books of speculative fiction with GLBT or similar content or by GLBT authors. We meet the second Tuesday of the month at 7:00 pm on Zoom. Also\, monthly gaming get-togethers in a private home. \n  \nInfo on events can be found on their Facebook page:    https://www.facebook.com/groups/NorthCountryGaylaxians/
URL:https://qlibrary.org/event/north-country-gaylaxians-book-club-online/2026-06-09/
LOCATION:Quatrefoil Library\, 1220 East Lake Street\, Minneapolis\, MN\, 55407\, United States
CATEGORIES:Book Club,Online Events
END:VEVENT
BEGIN:VEVENT
DTSTART;TZID=America/Chicago:20260610T190000
DTEND;TZID=America/Chicago:20260610T200000
DTSTAMP:20260423T054929
CREATED:20260124T211424Z
LAST-MODIFIED:20260124T211425Z
UID:10000949-1781118000-1781121600@qlibrary.org
SUMMARY:Moon Palace Queer Book Club
DESCRIPTION:Event by Moon Palace Books \nPublic  ·  Join us for Queer Book Club every second Wednesday from 7-8pm at Quatrefoil Library\, 1220 East Lake Street\, Minneapolis\, MN 55407! (Please note that in the summer we will only meet at Quatrefoil if it rains. Otherwise we will meet at Brackett Park.) \n\n\n\n\n\n\n\n\n\n\n\n\n\n\n\n\n\n\n\n\nBuy Books
URL:https://qlibrary.org/event/moon-palace-queer-book-club-2-2-2-2-2/2026-06-10/
LOCATION:Quatrefoil Library\, 1220 East Lake Street\, Minneapolis\, MN\, 55407\, United States
CATEGORIES:Book Club
END:VEVENT
BEGIN:VEVENT
DTSTART;TZID=America/Chicago:20260611T190000
DTEND;TZID=America/Chicago:20260611T200000
DTSTAMP:20260423T054929
CREATED:20250527T225555Z
LAST-MODIFIED:20250527T225556Z
UID:10003436-1781204400-1781208000@qlibrary.org
SUMMARY:Library Patron's Union Meeting
DESCRIPTION:The Library Patrons Union is an explicitly leftist\, community-run union of Hennepin County Library patrons\, organizing for more just public libraries. https://librarypatronsunion.com \nEmail librarypatronsunion@gmail.com with questions.
URL:https://qlibrary.org/event/library-patrons-union-meeting-2-2-2/2026-06-11/
LOCATION:Quatrefoil Library\, 1220 East Lake Street\, Minneapolis\, MN\, 55407\, United States
CATEGORIES:Community Club
END:VEVENT
BEGIN:VEVENT
DTSTART;TZID=America/Chicago:20260613T120000
DTEND;TZID=America/Chicago:20260613T140000
DTSTAMP:20260423T054929
CREATED:20250130T234137Z
LAST-MODIFIED:20250130T234630Z
UID:10003039-1781352000-1781359200@qlibrary.org
SUMMARY:Radical Queer Tarot Reading Group
DESCRIPTION:Radical Queer Tarot Reading Group is a space for novice to expert tarot readers to gather in non-hierarchical community to explore applying the wisdom of the tarot to apocalyptic times. We’ll focus on reading BIPOC/Queer/Leftist/Radical/Anti-Capitalist authors of tarot interpretation\, discussing what we’re learning\, & doing tarot spreads together to experience & interpret our new ideas. From tarot-curious to tarot master — if this offering speaks to you\, please join us. Contact radicalqueertarotreadinggroup@gmail.com for more information.
URL:https://qlibrary.org/event/radical-queer-tarot-reading-group/2026-06-13/
LOCATION:Quatrefoil Library\, 1220 East Lake Street\, Minneapolis\, MN\, 55407\, United States
CATEGORIES:Community Club
END:VEVENT
BEGIN:VEVENT
DTSTART;TZID=America/Chicago:20260613T183000
DTEND;TZID=America/Chicago:20260613T213000
DTSTAMP:20260423T054929
CREATED:20241028T215649Z
LAST-MODIFIED:20241028T220924Z
UID:10002472-1781375400-1781386200@qlibrary.org
SUMMARY:Quatrefoil Game Night
DESCRIPTION:
URL:https://qlibrary.org/event/quatrefoil-game-night/2026-06-13/
LOCATION:Quatrefoil Library\, 1220 East Lake Street\, Minneapolis\, MN\, 55407\, United States
CATEGORIES:Community Club
END:VEVENT
BEGIN:VEVENT
DTSTART;TZID=America/Chicago:20260617T190000
DTEND;TZID=America/Chicago:20260617T210000
DTSTAMP:20260423T054929
CREATED:20240114T181948Z
LAST-MODIFIED:20240324T164415Z
UID:10001560-1781722800-1781730000@qlibrary.org
SUMMARY:Queer Threads
DESCRIPTION:Queer threads: a weekly intergenerational craft night for LGBTQ people of all genders \nwhat: a weekly craft night for knitting\, crochet\, embroidery\, mending\, quilting\, and other portable crafts \nwhy: find community and camaraderie with other LGBTQ crafters \nwho: for all ages and genders. Kids are welcome\, but childcare is not provided. \nwhere: Quatrefoil Library at 1220 E Lake St Minneapolis. \nwhen: Wednesday nights from 7-9 pm \naccessibility: please wear a mask. \nhelp us cultivate a welcoming group: crafting is for all gender identities and types of gender expression; ask for (rather than assume) pronouns; all types of yarn and materials\, experience levels\, and portable craft projects are welcome.
URL:https://qlibrary.org/event/queer-threads-4/2026-06-17/
LOCATION:Quatrefoil Library\, 1220 East Lake Street\, Minneapolis\, MN\, 55407\, United States
CATEGORIES:Community Club
END:VEVENT
BEGIN:VEVENT
DTSTART;TZID=America/Chicago:20260617T190000
DTEND;TZID=America/Chicago:20260617T210000
DTSTAMP:20260423T054929
CREATED:20260108T012658Z
LAST-MODIFIED:20260108T013340Z
UID:10001228-1781722800-1781730000@qlibrary.org
SUMMARY:Twin Cities Lesbian Fiction Book Club (Online)
DESCRIPTION:Virtual Book Club that meets online via Zoom – please direct all questions and requests for the Zoom link to jchandlerauthor@gmail.com \nYou are welcome to attend even if you didn’t read the book\, or didn’t like it. We enjoy staying in touch with our friends! \nBook of the month: \n2026 \nJanuary—SWITCH by Ann McMann AND SAFEKEEP by Yael Van Der Wouden \nFebruary—ATMOSPHERE by Taylor Jenkins Reid \nMarch—POSTCARDS FROM ONKEL HENRY by Lou Bender \nApril—CLEAN KILL by Anne Laughlin (she just might be featured in the This Queer Book Saved My Life Podcast too) \nMay—ANNIE ON MY MIND by Nancy Garden (a throwback—1982—and homage to lesbian authors upon whose shoulders we stand) \nJune—ART OF DECEPTION by Riley Cooper
URL:https://qlibrary.org/event/twin-cities-lesbian-fiction-book-club-5-2-2-2/2026-06-17/
LOCATION:Online Events
CATEGORIES:Book Club,Online Events
END:VEVENT
BEGIN:VEVENT
DTSTART;TZID=America/Chicago:20260620T131500
DTEND;TZID=America/Chicago:20260620T151500
DTSTAMP:20260423T054930
CREATED:20240114T221451Z
LAST-MODIFIED:20240114T225022Z
UID:10001144-1781961300-1781968500@qlibrary.org
SUMMARY:Prime Timers Bookclub
DESCRIPTION:This monthly book club is a subgroup of the Twin Cities Prime Timers Club\, which is affiliated with the state and national organizations. It meets each third Saturday of the month at Quatrefoil from 1:15pm – 3:15pm. \nBook of the month:
URL:https://qlibrary.org/event/prime-timers-bookclub-4-2/2026-06-20/
LOCATION:Quatrefoil Library\, 1220 East Lake Street\, Minneapolis\, MN\, 55407\, United States
END:VEVENT
BEGIN:VEVENT
DTSTART;TZID=America/Chicago:20260621T130000
DTEND;TZID=America/Chicago:20260621T160000
DTSTAMP:20260423T054930
CREATED:20231118T021214Z
LAST-MODIFIED:20231118T021255Z
UID:10000887-1782046800-1782057600@qlibrary.org
SUMMARY:Prime Timers Dominoes
DESCRIPTION:Join the Prime Timers for an afternoon of dominoes. Feel free to bring a snack to share and your dominoes set\, though not required.
URL:https://qlibrary.org/event/prime-timers-dominoes-5-2/2026-06-21/
LOCATION:MN
END:VEVENT
BEGIN:VEVENT
DTSTART;TZID=America/Chicago:20260622T173000
DTEND;TZID=America/Chicago:20260622T183000
DTSTAMP:20260423T054930
CREATED:20240324T163158Z
LAST-MODIFIED:20240407T163136Z
UID:10001750-1782149400-1782153000@qlibrary.org
SUMMARY:Volunteer Committee Meeting
DESCRIPTION:Our volunteer committee is responsible for recruiting and training volunteers. They also maintain our volunteer schedule\, for operating hours and special events. \nAnyone is welcome to stop in if interested in joining\, or to share constructive ideas. You can also sign up via our volunteer form. \nThis meeting is held in the library space\, with a virtual option available.
URL:https://qlibrary.org/event/volunteer-committee-meeting-3/2026-06-22/
LOCATION:Quatrefoil Library\, 1220 East Lake Street\, Minneapolis\, MN\, 55407\, United States
CATEGORIES:Committee Meetings
END:VEVENT
BEGIN:VEVENT
DTSTART;TZID=America/Chicago:20260623T180000
DTEND;TZID=America/Chicago:20260623T190000
DTSTAMP:20260423T054930
CREATED:20250909T212404Z
LAST-MODIFIED:20250909T212404Z
UID:10003775-1782237600-1782241200@qlibrary.org
SUMMARY:Programming Committee Meeting
DESCRIPTION:Regular meeting of the Quatrefoil Programming Committee. Committee meets every second and fourth Tuesday in the library (with a virtual option available for committee members) from 6:00 – 7:00pm. Reach out to programming@quatrefoil.org if you are interested in joining.
URL:https://qlibrary.org/event/programming-committee-meeting-8-2/2026-06-23/
LOCATION:Quatrefoil Library\, 1220 East Lake Street\, Minneapolis\, MN\, 55407\, United States
CATEGORIES:Committee Meetings
END:VEVENT
BEGIN:VEVENT
DTSTART;TZID=America/Chicago:20260624T183000
DTEND;TZID=America/Chicago:20260624T203000
DTSTAMP:20260423T054930
CREATED:20250825T002742Z
LAST-MODIFIED:20250825T002743Z
UID:10003529-1782325800-1782333000@qlibrary.org
SUMMARY:OFFSITE - Twin Cities Queer Transplant Group
DESCRIPTION:NOTE: The Twin Cities Queer Transplant Group is currently meeting at the Pride Cultural Arts Center. \nThe Twin Cities Queer Transplant Group is a new community meetup for folks who have recently relocated to the Twin Cities. Drop by to meet new people\, learn about local LGBTQIA+ resources\, chat\, and share your favorite Twin Cities discoveries! Locals\, partners\, and family welcome. Meetings hosted every 4th Wednesday at PCAC. \n  \nQuestions and information requests can be sent to TCTransplants@gmail.com
URL:https://qlibrary.org/event/twin-cities-queer-transplant-group-2-2-3/2026-06-24/
LOCATION:Pride Cultural Arts Center\, 1201 Harmon Pl Ste 104\, Minneapolis\, MN\, 55403
CATEGORIES:Community Club
END:VEVENT
BEGIN:VEVENT
DTSTART;TZID=America/Chicago:20260624T190000
DTEND;TZID=America/Chicago:20260624T210000
DTSTAMP:20260423T054930
CREATED:20260108T010721Z
LAST-MODIFIED:20260108T010721Z
UID:10004198-1782327600-1782334800@qlibrary.org
SUMMARY:MNPoly Community Building Event
DESCRIPTION:Let’s bring the MNPoly community together on a monthly basis with some exercises designed to build connections. \nWe will have an ice breaker as a whole group\, then break up into groups of 4-5 to perform a team building exercise that helps us really get to know each other a bit more. We’ll scramble the groups and do a second exercise. Then\, we’ll get back together as one big group to discuss what might change for next time. To conclude the night we will finish with an open mingling session to hang with some of your new-found friends!
URL:https://qlibrary.org/event/mnpoly-community-building-event-2-2/2026-06-24/
LOCATION:Quatrefoil Library\, 1220 East Lake Street\, Minneapolis\, MN\, 55407\, United States
CATEGORIES:Community Club,Polyamory
END:VEVENT
BEGIN:VEVENT
DTSTART;TZID=America/Chicago:20260625T190000
DTEND;TZID=America/Chicago:20260625T210000
DTSTAMP:20260423T054930
CREATED:20260108T013423Z
LAST-MODIFIED:20260108T021529Z
UID:10004302-1782414000-1782421200@qlibrary.org
SUMMARY:BiblioFemmes Book Club
DESCRIPTION:BiblioFemmes is a group of queer femmes who love books. We have a monthly book club at Quatrefoil and other events throughout the month\, including pottery making\, game nights\, social hours\, and more. We meet regularly with the express intention of creating a community\, so if you are looking for a book club AND some new friends\, we might be the right fit for you.  \n\n\n\nEveryone who describes themselves as a femme (small doses count) and who has done the reading is welcome to attend a book club (RSVPs appreciated but not required). If you are interested in the group\, but want to meet without homework\, please reach out to the email address listed below and we’ll add you to our Discord server and mailing list. \n\n\n\nContact: bibliofemmes.mn@gmail.com
URL:https://qlibrary.org/event/bibliofemmes-book-club-2-2/2026-06-25/
LOCATION:MN
END:VEVENT
BEGIN:VEVENT
DTSTART;TZID=America/Chicago:20260627T183000
DTEND;TZID=America/Chicago:20260627T213000
DTSTAMP:20260423T054930
CREATED:20241028T215739Z
LAST-MODIFIED:20241028T215739Z
UID:10002532-1782585000-1782595800@qlibrary.org
SUMMARY:Quatrefoil Game Night
DESCRIPTION:
URL:https://qlibrary.org/event/quatrefoil-game-night-2/2026-06-27/
LOCATION:Quatrefoil Library\, 1220 East Lake Street\, Minneapolis\, MN\, 55407\, United States
CATEGORIES:Community Club
END:VEVENT
BEGIN:VEVENT
DTSTART;TZID=America/Chicago:20260628T130000
DTEND;TZID=America/Chicago:20260628T140000
DTSTAMP:20260423T054930
CREATED:20260108T024423Z
LAST-MODIFIED:20260108T024609Z
UID:10004421-1782651600-1782655200@qlibrary.org
SUMMARY:Transgender Book Club
DESCRIPTION:The Transgender Book Club meets the fourth Sunday of the month from 1-2pm to discuss books by and about trans people. We welcome people of all genders\, orientations\, and backgrounds! \n1/25 Model Home by Rivers Solomon \n2/22 The Four Profound Weaves by R.B. Lemberg \n3/22 Hot Girls with Balls by Benedict Nguyen \n4/26 Rules for Ghosting by Shelley Jay Shore \n5/24 Horse Barbie by Geena Rocero \n6/21 Trans History by Alex L. Combs \n7/26 Just Shy of Ordinary by A.J. Sass \n8/23 Bellies by Nicola Dinan \n9/27 So Many Stars by Caro de Robertis \n10/25 Old Wounds by Logan-Ashley Kisner \n11/22 Call Me Max by Kyle Lukoff \n  \nFind us on Facebook at “Transgender Book Club at Quatrefoil Library” and on Instagram at “tc_transbookclub”
URL:https://qlibrary.org/event/transgender-book-club-7/2026-06-28/
LOCATION:Quatrefoil Library\, 1220 East Lake Street\, Minneapolis\, MN\, 55407\, United States
CATEGORIES:Book Club
END:VEVENT
END:VCALENDAR