BEGIN:VCALENDAR
VERSION:2.0
PRODID:-//Quatrefoil Library - ECPv6.15.20//NONSGML v1.0//EN
CALSCALE:GREGORIAN
METHOD:PUBLISH
X-ORIGINAL-URL:https://qlibrary.org
X-WR-CALDESC:Events for Quatrefoil Library
REFRESH-INTERVAL;VALUE=DURATION:PT1H
X-Robots-Tag:noindex
X-PUBLISHED-TTL:PT1H
BEGIN:VTIMEZONE
TZID:America/Chicago
BEGIN:DAYLIGHT
TZOFFSETFROM:-0600
TZOFFSETTO:-0500
TZNAME:CDT
DTSTART:20240310T080000
END:DAYLIGHT
BEGIN:STANDARD
TZOFFSETFROM:-0500
TZOFFSETTO:-0600
TZNAME:CST
DTSTART:20241103T070000
END:STANDARD
BEGIN:DAYLIGHT
TZOFFSETFROM:-0600
TZOFFSETTO:-0500
TZNAME:CDT
DTSTART:20250309T080000
END:DAYLIGHT
BEGIN:STANDARD
TZOFFSETFROM:-0500
TZOFFSETTO:-0600
TZNAME:CST
DTSTART:20251102T070000
END:STANDARD
BEGIN:DAYLIGHT
TZOFFSETFROM:-0600
TZOFFSETTO:-0500
TZNAME:CDT
DTSTART:20260308T080000
END:DAYLIGHT
BEGIN:STANDARD
TZOFFSETFROM:-0500
TZOFFSETTO:-0600
TZNAME:CST
DTSTART:20261101T070000
END:STANDARD
END:VTIMEZONE
BEGIN:VEVENT
DTSTART;TZID=America/Chicago:20250701T190000
DTEND;TZID=America/Chicago:20250701T203000
DTSTAMP:20260423T161435
CREATED:20250527T225421Z
LAST-MODIFIED:20250527T225421Z
UID:10003366-1751396400-1751401800@qlibrary.org
SUMMARY:Technology Committee Meeting
DESCRIPTION:The tech committee meets hybrid on the first Tuesday of each month. Contact technology@quatrefoil.org if you are interested in joining!
URL:https://qlibrary.org/event/technology-committee-meeting/2025-07-01/
LOCATION:Quatrefoil Library\, 1220 East Lake Street\, Minneapolis\, MN\, 55407\, United States
CATEGORIES:Committee Meetings
END:VEVENT
BEGIN:VEVENT
DTSTART;TZID=America/Chicago:20250702T190000
DTEND;TZID=America/Chicago:20250702T210000
DTSTAMP:20260423T161435
CREATED:20240324T164527Z
LAST-MODIFIED:20240324T164545Z
UID:10001610-1751482800-1751490000@qlibrary.org
SUMMARY:Queer Threads
DESCRIPTION:Queer threads: a weekly intergenerational craft night for LGBTQ people of all genders \nwhat: a weekly craft night for knitting\, crochet\, embroidery\, mending\, quilting\, and other portable crafts \nwhy: find community and camaraderie with other LGBTQ crafters \nwho: for all ages and genders. Kids are welcome\, but childcare is not provided. \nwhere: Quatrefoil Library at 1220 E Lake St Minneapolis. \nwhen: 1st and 3rd Wednesday nights from 7-9 pm \naccessibility: please wear a mask. \nhelp us cultivate a welcoming group: crafting is for all gender identities and types of gender expression; ask for (rather than assume) pronouns; all types of yarn and materials\, experience levels\, and portable craft projects are welcome.
URL:https://qlibrary.org/event/queer-threads-6/2025-07-02/
LOCATION:Quatrefoil Library: Spirit on Lake Community Room\, 1220 E Lake St\, Minneapolis\, MN\, 55407\, United States
CATEGORIES:Community Club
END:VEVENT
BEGIN:VEVENT
DTSTART;TZID=America/Chicago:20250703T183000
DTEND;TZID=America/Chicago:20250703T200000
DTSTAMP:20260423T161435
CREATED:20250320T214400Z
LAST-MODIFIED:20250320T214400Z
UID:10003296-1751567400-1751572800@qlibrary.org
SUMMARY:Quatrefoil Board Meeting
DESCRIPTION:The Quatrefoil Board meets monthly on the first Thursday of the month in the Community Room.
URL:https://qlibrary.org/event/quatrefoil-board-meeting-2/2025-07-03/
LOCATION:Quatrefoil Library\, 1220 East Lake Street\, Minneapolis\, MN\, 55407\, United States
CATEGORIES:Committee Meetings
END:VEVENT
BEGIN:VEVENT
DTSTART;TZID=America/Chicago:20250706T110000
DTEND;TZID=America/Chicago:20250706T130000
DTSTAMP:20260423T161435
CREATED:20241028T215403Z
LAST-MODIFIED:20241028T215403Z
UID:10002400-1751799600-1751806800@qlibrary.org
SUMMARY:Rainbow Reads
DESCRIPTION:Queer reading party (not a book club) that meets in the Library on the first Sunday of every month. This group allows people to share what they have been reading and interested in\, rather than discuss one book everyone has read.
URL:https://qlibrary.org/event/rainbow-reads-2/2025-07-06/
LOCATION:Quatrefoil Library\, 1220 East Lake Street\, Minneapolis\, MN\, 55407\, United States
CATEGORIES:Book Club
END:VEVENT
BEGIN:VEVENT
DTSTART;TZID=America/Chicago:20250706T133000
DTEND;TZID=America/Chicago:20250706T153000
DTSTAMP:20260423T161435
CREATED:20241109T190017Z
LAST-MODIFIED:20241109T190017Z
UID:10002612-1751808600-1751815800@qlibrary.org
SUMMARY:Twin Cities Aroace Solidarity Group
DESCRIPTION:Twin Cities Aroace Solidarity group is a joyful\, embracing 21+ creative community for progressive aroace-spec (aromantic and/or asexual spectrum) and queer allies to share mutual aid and friendship; creative/artistic exchange; and learning\, peer education & guidance across gender\, age\, income level\, ethnicity & other lines of social difference. We gather at Quatrefoil monthly to socialize and discuss queer media.\n\n\nPlease email or text group organizer Amy Brooks at abbrooks77@icloud.com | (937) 901-9205
URL:https://qlibrary.org/event/twin-cities-aroace-solidarity-group/2025-07-06/
LOCATION:Quatrefoil Library\, 1220 East Lake Street\, Minneapolis\, MN\, 55407\, United States
CATEGORIES:Community Club
END:VEVENT
BEGIN:VEVENT
DTSTART;TZID=America/Chicago:20250708T190000
DTEND;TZID=America/Chicago:20250708T203000
DTSTAMP:20260423T161435
CREATED:20250211T005150Z
LAST-MODIFIED:20250211T005150Z
UID:10003147-1752001200-1752006600@qlibrary.org
SUMMARY:North Country Gaylaxians Book Club (Online)
DESCRIPTION:The meeting of the Twin Cities chapter of the Gaylactic Network\, an organization for the GLBT fan community\, whether it be science fiction\, fantasy\, horror\, comics\, or gaming. We read and discuss books of speculative fiction with GLBT or similar content or by GLBT authors. We meet the second Tuesday of the month at 7:00 pm on Zoom. Also\, monthly gaming get-togethers in a private home. \n  \nInfo on events can be found on their Facebook page:    https://www.facebook.com/groups/NorthCountryGaylaxians/
URL:https://qlibrary.org/event/north-country-gaylaxians-book-club-online/2025-07-08/
LOCATION:Quatrefoil Library\, 1220 East Lake Street\, Minneapolis\, MN\, 55407\, United States
CATEGORIES:Book Club,Online Events
END:VEVENT
BEGIN:VEVENT
DTSTART;TZID=America/Chicago:20250709T190000
DTEND;TZID=America/Chicago:20250709T200000
DTSTAMP:20260423T161435
CREATED:20250114T004229Z
LAST-MODIFIED:20250114T004622Z
UID:10000938-1752087600-1752091200@qlibrary.org
SUMMARY:Moon Palace Queer Book Club
DESCRIPTION:Event by Moon Palace Books \nPublic  ·  Join us for Queer Book Club every second Wednesday from 7-8pm at Quatrefoil Library\, 1220 East Lake Street\, Minneapolis\, MN 55407! (Please note that in the summer we will only meet at Quatrefoil if it rains. Otherwise we will meet at Brackett Park.) \n  \n\n\n\n\n\n\n\nQueer Book Club April\n\n\n\nWednesday Apr 9th\, 2025\n\n\n7:00 PM\n\n\n–\n\n\n8:00 PM\n\n\n Quatrefoil Library\, 1220 East Lake Street\, Minneapolis\, MN 55407\n\n\n\n\n\n\n\nJoin us for Queer Book Club on Wednesday\, April 9th\, at 7:00pm at Quatrefoil Library\, 1220 East Lake Street\, Minneapolis\, MN 55407. We’ll be discussing Blood Orange by Mx. Yaffa. Anyone is welcome to join whether you’ve read the whole book or just skimmed a few pages. We meet the second Wednesdays of every month! \n“Blood Orange” is a highly emotional\, important and timely poetry collection by Mx. Yaffa (They/She)\, a trans Muslim displaced Indigenous Palestinian. Their writings probe the yearning for home\, belonging\, mental health\, queerness\, transness\, and other dimensions of marginalization while nurturing dreams of utopia against the background of ongoing displacement and genocide of indigenous Palestinians. \nThis highly charged and cathartic body of work confronts the anguish and loss inflicted by genocide but also embraces a vision of a world free of it. The poems within “Blood Orange” were a means of working through and processing the grief caused by recent events and serve as an act of protest and defiance against settler colonialism as a whole. \n\n\n\n\n\n\n\n\n\n\n\nBuy Books
URL:https://qlibrary.org/event/moon-palace-queer-book-club-2-2-2-2/2025-07-09/
LOCATION:Quatrefoil Library\, 1220 East Lake Street\, Minneapolis\, MN\, 55407\, United States
CATEGORIES:Book Club
END:VEVENT
BEGIN:VEVENT
DTSTART;TZID=America/Chicago:20250710T190000
DTEND;TZID=America/Chicago:20250710T200000
DTSTAMP:20260423T161435
CREATED:20250527T225555Z
LAST-MODIFIED:20250527T225556Z
UID:10003425-1752174000-1752177600@qlibrary.org
SUMMARY:Library Patron's Union Meeting
DESCRIPTION:The Library Patrons Union is an explicitly leftist\, community-run union of Hennepin County Library patrons\, organizing for more just public libraries. https://librarypatronsunion.com \nEmail librarypatronsunion@gmail.com with questions.
URL:https://qlibrary.org/event/library-patrons-union-meeting-2-2-2/2025-07-10/
LOCATION:Quatrefoil Library\, 1220 East Lake Street\, Minneapolis\, MN\, 55407\, United States
CATEGORIES:Community Club
END:VEVENT
BEGIN:VEVENT
DTSTART;TZID=America/Chicago:20250712T120000
DTEND;TZID=America/Chicago:20250712T140000
DTSTAMP:20260423T161436
CREATED:20250130T234137Z
LAST-MODIFIED:20250130T234630Z
UID:10003028-1752321600-1752328800@qlibrary.org
SUMMARY:Radical Queer Tarot Reading Group
DESCRIPTION:Radical Queer Tarot Reading Group is a space for novice to expert tarot readers to gather in non-hierarchical community to explore applying the wisdom of the tarot to apocalyptic times. We’ll focus on reading BIPOC/Queer/Leftist/Radical/Anti-Capitalist authors of tarot interpretation\, discussing what we’re learning\, & doing tarot spreads together to experience & interpret our new ideas. From tarot-curious to tarot master — if this offering speaks to you\, please join us. Contact radicalqueertarotreadinggroup@gmail.com for more information.
URL:https://qlibrary.org/event/radical-queer-tarot-reading-group/2025-07-12/
LOCATION:Quatrefoil Library\, 1220 East Lake Street\, Minneapolis\, MN\, 55407\, United States
CATEGORIES:Community Club
END:VEVENT
BEGIN:VEVENT
DTSTART;TZID=America/Chicago:20250712T143000
DTEND;TZID=America/Chicago:20250712T160000
DTSTAMP:20260423T161436
CREATED:20250605T225931Z
LAST-MODIFIED:20250605T225931Z
UID:10003494-1752330600-1752336000@qlibrary.org
SUMMARY:Crossroads Conversations: End-of-Life Hopes\, Fears\, & Curiosities
DESCRIPTION:Crossroads Conversations – Quatrefoil \nSaturday\, July 12\, 2:30-4:00pm \n  \nWhat happens—physically\, spiritually—when we die? How can I be more prepared for\, and less fearful of\, this natural life event? What practical things do I need to know when my loved one dies? How can I avoid being overwhelmed by grief? \n  \nCrossroads Conversations provides a comfortable space in which to explore your hopes\, fears\, and questions related to death. Although our culture conditions us to be fearful\, end of life can be a time of clarity about what is important and other deeply meaningful personal and spiritual lessons. Contemplating our own impermanence can help us to live more consciously. This discussion group has no agenda\, no planned presentation\, and no prerequisite other than being a mortal human. Simply come as you are to join a relaxed community conversation about a profound topic that is relevant to all of us. \n  \nRegistration is not required\, but it is helpful. If you plan to attend\, please send an email to the facilitator at Michael.PresentPurpose@gmail.com. If you have a question—about the event or that you hope to discuss at the event—reach out to him. Or simply show up. \n  \nMichael Sala has been a wellness\, care\, and support professional for over 30 years. As a special education and later hospice social worker\, he has served individuals from age 4 to 104. Now retired from social work\, he offers a holistic array of services for wellbeing throughout life and at end of life\, including end-of-life care as a death midwife\, spiritual guidance\, Thai bodywork\, and yoga classes. He is also a poetry enthusiast and a proponent of radical unconditional love. Learn more about his offerings at presentpurpose.weebly.com and imagineabetterfuture.weebly.com. \n 
URL:https://qlibrary.org/event/crossroads-conversations-end-of-life-hopes-fears-curiosities/
LOCATION:Quatrefoil Library\, 1220 East Lake Street\, Minneapolis\, MN\, 55407\, United States
END:VEVENT
BEGIN:VEVENT
DTSTART;TZID=America/Chicago:20250712T183000
DTEND;TZID=America/Chicago:20250712T213000
DTSTAMP:20260423T161436
CREATED:20241028T215649Z
LAST-MODIFIED:20241028T220924Z
UID:10002461-1752345000-1752355800@qlibrary.org
SUMMARY:Quatrefoil Game Night
DESCRIPTION:
URL:https://qlibrary.org/event/quatrefoil-game-night/2025-07-12/
LOCATION:Quatrefoil Library\, 1220 East Lake Street\, Minneapolis\, MN\, 55407\, United States
CATEGORIES:Community Club
END:VEVENT
BEGIN:VEVENT
DTSTART;TZID=America/Chicago:20250714T183000
DTEND;TZID=America/Chicago:20250714T200000
DTSTAMP:20260423T161436
CREATED:20250211T004600Z
LAST-MODIFIED:20250211T004600Z
UID:10003087-1752517800-1752523200@qlibrary.org
SUMMARY:Programming Committee Meeting
DESCRIPTION:Regular meeting of the Quatrefoil Programming Committee. Committee meets every second and fourth Monday in the library (with a virtual option available for committee members) from 6:30 – 8:00pm. Reach out to programming@quatrefoil.org if you are interested in joining.
URL:https://qlibrary.org/event/programming-committee-meeting-6-2-2/2025-07-14/
LOCATION:Quatrefoil Library\, 1220 East Lake Street\, Minneapolis\, MN\, 55407\, United States
CATEGORIES:Committee Meetings
END:VEVENT
BEGIN:VEVENT
DTSTART;TZID=America/Chicago:20250716T190000
DTEND;TZID=America/Chicago:20250716T210000
DTSTAMP:20260423T161436
CREATED:20240114T181948Z
LAST-MODIFIED:20240324T164415Z
UID:10001549-1752692400-1752699600@qlibrary.org
SUMMARY:Queer Threads
DESCRIPTION:Queer threads: a weekly intergenerational craft night for LGBTQ people of all genders \nwhat: a weekly craft night for knitting\, crochet\, embroidery\, mending\, quilting\, and other portable crafts \nwhy: find community and camaraderie with other LGBTQ crafters \nwho: for all ages and genders. Kids are welcome\, but childcare is not provided. \nwhere: Quatrefoil Library at 1220 E Lake St Minneapolis. \nwhen: Wednesday nights from 7-9 pm \naccessibility: please wear a mask. \nhelp us cultivate a welcoming group: crafting is for all gender identities and types of gender expression; ask for (rather than assume) pronouns; all types of yarn and materials\, experience levels\, and portable craft projects are welcome.
URL:https://qlibrary.org/event/queer-threads-4/2025-07-16/
LOCATION:Quatrefoil Library\, 1220 East Lake Street\, Minneapolis\, MN\, 55407\, United States
CATEGORIES:Community Club
END:VEVENT
BEGIN:VEVENT
DTSTART;TZID=America/Chicago:20250716T190000
DTEND;TZID=America/Chicago:20250716T210000
DTSTAMP:20260423T161436
CREATED:20250124T021406Z
LAST-MODIFIED:20250211T005424Z
UID:10001217-1752692400-1752699600@qlibrary.org
SUMMARY:Twin Cities Lesbian Fiction Book Club (Online)
DESCRIPTION:Virtual Book Club that meets online via Zoom – please direct all questions and requests for the Zoom link to jchandlerauthor@gmail.com \nYou are welcome to attend even if you didn’t read the book\, or didn’t like it. We enjoy staying in touch with our friends! \nBook of the month: \n2025 \nJanuary—CHRISTMASSED by Blythe H. Warren \nFebruary—DEVIL’S BREATH by Anna Paxton \nMarch—JONES by Gerri Hill \nApril—HALF IN by Felice Cohen \nMay—PULL OF THE STARS by Emma Donoghue \nJune—FALLS FROM GRACE by Ruby Landers \nJuly—LAST CHANCE CHICAGO by Diana DiGangi \nAugust—SCORCHED GRACE by Margo Douaihy \nSeptember—WATERLOGGED by Nance Sparks \nOctober—THE SAFEKEEP by Yael Van der Wouden (in hardcover now\, but will be out in paperback May 27th)
URL:https://qlibrary.org/event/twin-cities-lesbian-fiction-book-club-5/2025-07-16/
LOCATION:Online Events
CATEGORIES:Book Club,Online Events
END:VEVENT
BEGIN:VEVENT
DTSTART;TZID=America/Chicago:20250717T190000
DTEND;TZID=America/Chicago:20250717T210000
DTSTAMP:20260423T161436
CREATED:20250527T230646Z
LAST-MODIFIED:20250527T230646Z
UID:10003486-1752778800-1752786000@qlibrary.org
SUMMARY:Intergenerational LGBTQIA Watercolor Club
DESCRIPTION:Intergenerational LGBTQAI Watercolor Club is a time to relax\, paint\, and be in community. Open to adults of any age with any level of artistic experience. Supplies will be provided. Wear clothes suitable for painting in. Hosted by Alison Nowak\, an illustration professor from Minneapolis.
URL:https://qlibrary.org/event/intergenerational-lgbtqia-watercolor-club/
LOCATION:Quatrefoil Library\, 1220 East Lake Street\, Minneapolis\, MN\, 55407\, United States
END:VEVENT
BEGIN:VEVENT
DTSTART;TZID=America/Chicago:20250719T131500
DTEND;TZID=America/Chicago:20250719T151500
DTSTAMP:20260423T161436
CREATED:20240114T221451Z
LAST-MODIFIED:20240114T225022Z
UID:10001133-1752930900-1752938100@qlibrary.org
SUMMARY:Prime Timers Bookclub
DESCRIPTION:This monthly book club is a subgroup of the Twin Cities Prime Timers Club\, which is affiliated with the state and national organizations. It meets each third Saturday of the month at Quatrefoil from 1:15pm – 3:15pm. \nBook of the month:
URL:https://qlibrary.org/event/prime-timers-bookclub-4-2/2025-07-19/
LOCATION:Quatrefoil Library\, 1220 East Lake Street\, Minneapolis\, MN\, 55407\, United States
END:VEVENT
BEGIN:VEVENT
DTSTART;TZID=America/Chicago:20250719T131500
DTEND;TZID=America/Chicago:20250719T151500
DTSTAMP:20260423T161436
CREATED:20250123T234922Z
LAST-MODIFIED:20250123T234922Z
UID:10002808-1752930900-1752938100@qlibrary.org
SUMMARY:Prime Timers Book Club
DESCRIPTION:This monthly book club is a subgroup of the Twin Cities Prime Timers Club\, which is affiliated with the state and national organizations. It meets each third Saturday of the month at Quatrefoil from 1:15pm – 3:15pm. \nMarch Book of the Month: Shortest Way Home By Peter Buttigieg
URL:https://qlibrary.org/event/prime-timers-book-club-2/2025-07-19/
LOCATION:Quatrefoil Library\, 1220 East Lake Street\, Minneapolis\, MN\, 55407\, United States
CATEGORIES:Book Club
END:VEVENT
BEGIN:VEVENT
DTSTART;TZID=America/Chicago:20250720T130000
DTEND;TZID=America/Chicago:20250720T160000
DTSTAMP:20260423T161436
CREATED:20231118T021214Z
LAST-MODIFIED:20231118T021255Z
UID:10000876-1753016400-1753027200@qlibrary.org
SUMMARY:Prime Timers Dominoes
DESCRIPTION:Join the Prime Timers for an afternoon of dominoes. Feel free to bring a snack to share and your dominoes set\, though not required.
URL:https://qlibrary.org/event/prime-timers-dominoes-5-2/2025-07-20/
LOCATION:MN
END:VEVENT
BEGIN:VEVENT
DTSTART;TZID=America/Chicago:20250723T190000
DTEND;TZID=America/Chicago:20250723T210000
DTSTAMP:20260423T161436
CREATED:20250421T222240Z
LAST-MODIFIED:20250421T222240Z
UID:10001283-1753297200-1753304400@qlibrary.org
SUMMARY:OFFSITE - Twin Cities Queer Transplant Group
DESCRIPTION:NOTE: The Twin Cities Queer Transplant Group is currently meeting at the Pride Cultural Arts Center. \nThe Twin Cities Queer Transplant Group is a new community meetup for folks who have recently relocated to the Twin Cities. Drop by to meet new people\, learn about local LGBTQIA+ resources\, chat\, and share your favorite Twin Cities discoveries! Locals\, partners\, and family welcome. Meetings hosted every 4th Wednesday at PCAC. \n  \nQuestions and information requests can be sent to TCTransplants@gmail.com
URL:https://qlibrary.org/event/twin-cities-queer-transplant-group-2-2/2025-07-23/
LOCATION:Pride Cultural Arts Center\, 1201 Harmon Pl Ste 104\, Minneapolis\, MN\, 55403
CATEGORIES:Community Club
END:VEVENT
BEGIN:VEVENT
DTSTART;TZID=America/Chicago:20250724T190000
DTEND;TZID=America/Chicago:20250724T210000
DTSTAMP:20260423T161436
CREATED:20250130T231559Z
LAST-MODIFIED:20250130T233251Z
UID:10002908-1753383600-1753390800@qlibrary.org
SUMMARY:BiblioFemmes Book Club
DESCRIPTION:BiblioFemmes is a group of queer femmes who love books. We have a monthly book club at Quatrefoil and other events throughout the month\, including pottery making\, game nights\, social hours\, and more. We meet regularly with the express intention of creating a community\, so if you are looking for a book club AND some new friends\, we might be the right fit for you.  \n\n\n\nEveryone who describes themselves as a femme (small doses count) and who has done the reading is welcome to attend a book club (RSVPs appreciated but not required). If you are interested in the group\, but want to meet without homework\, please reach out to the email address listed below and we’ll add you to our Discord server and mailing list. \n\n\n\nContact: bibliofemmes.mn@gmail.com
URL:https://qlibrary.org/event/bibliofemmes-book-club/2025-07-24/
LOCATION:MN
END:VEVENT
BEGIN:VEVENT
DTSTART;TZID=America/Chicago:20250726T130000
DTEND;TZID=America/Chicago:20250726T170000
DTSTAMP:20260423T161436
CREATED:20250421T222036Z
LAST-MODIFIED:20250625T022919Z
UID:10003361-1753534800-1753549200@qlibrary.org
SUMMARY:CANCELLED: Queer Teen Pathfinder (TTRPG) Academy
DESCRIPTION:Event Name: \nQueer Teen Pathfinder (TTRPG) Academy \nEvent Description:  \nA world of adventure awaits\, but it needs you to be the hero! Learn to play the Pathfinder TTRPG (2nd Edition) alongside other queer teens as part of the Pathfinder Society\, a legendary league of adventurers dedicated to discovering and chronicling the greatest mysteries and wonders of an ancient world. \nPlease RSVP at https://forms.gle/RwNCS9Lgpp6amUey7 to reserve your seat and help us know how many adventurers to plan for. Walk-ins will be welcome until we reach capacity. \nFor more information\, contact Sammi at samantha@kablantha.org
URL:https://qlibrary.org/event/queer-teen-pathfinder-ttrpg-academy/
LOCATION:Quatrefoil Library\, 1220 East Lake Street\, Minneapolis\, MN\, 55407\, United States
END:VEVENT
BEGIN:VEVENT
DTSTART;TZID=America/Chicago:20250726T183000
DTEND;TZID=America/Chicago:20250726T213000
DTSTAMP:20260423T161436
CREATED:20241028T215739Z
LAST-MODIFIED:20241028T215739Z
UID:10002521-1753554600-1753565400@qlibrary.org
SUMMARY:Quatrefoil Game Night
DESCRIPTION:
URL:https://qlibrary.org/event/quatrefoil-game-night-2/2025-07-26/
LOCATION:Quatrefoil Library\, 1220 East Lake Street\, Minneapolis\, MN\, 55407\, United States
CATEGORIES:Community Club
END:VEVENT
BEGIN:VEVENT
DTSTART;TZID=America/Chicago:20250727T130000
DTEND;TZID=America/Chicago:20250727T140000
DTSTAMP:20260423T161436
CREATED:20250210T235432Z
LAST-MODIFIED:20250211T005738Z
UID:10003208-1753621200-1753624800@qlibrary.org
SUMMARY:Transgender Book Club
DESCRIPTION:The Transgender Book Club meets the fourth Sunday of the month from 1-2pm to discuss books by and about trans people. We welcome people of all genders\, orientations\, and backgrounds! \n2025 Meeting Calendar: \n1/26 Bitter by Akwaeke Emezi2/23 Lunar Boy by Jes and Cin Wibowo3/23 Bluff by Danez Smith4/27 Pageboy by Elliot Page5/25 Girlmode by Magdalene Visaggio6/22 We Won’t Be Here Tomorrow by Margaret Killjoy7/27 A Shore Thing by Joanna Lowell8/24 The Dawnhounds by Sascha Stronach9/28 Just Happy to Be Here by Naomi Kanakia10/26 Dead Collections by Isaac Fellman11/23 Marley’s Pride by Joelle Retener
URL:https://qlibrary.org/event/transgender-book-club-6-2/2025-07-27/
LOCATION:Quatrefoil Library\, 1220 East Lake Street\, Minneapolis\, MN\, 55407\, United States
CATEGORIES:Book Club
END:VEVENT
BEGIN:VEVENT
DTSTART;TZID=America/Chicago:20250728T173000
DTEND;TZID=America/Chicago:20250728T183000
DTSTAMP:20260423T161436
CREATED:20240324T163158Z
LAST-MODIFIED:20240407T163136Z
UID:10001739-1753723800-1753727400@qlibrary.org
SUMMARY:Volunteer Committee Meeting
DESCRIPTION:Our volunteer committee is responsible for recruiting and training volunteers. They also maintain our volunteer schedule\, for operating hours and special events. \nAnyone is welcome to stop in if interested in joining\, or to share constructive ideas. You can also sign up via our volunteer form. \nThis meeting is held in the library space\, with a virtual option available.
URL:https://qlibrary.org/event/volunteer-committee-meeting-3/2025-07-28/
LOCATION:Quatrefoil Library\, 1220 East Lake Street\, Minneapolis\, MN\, 55407\, United States
CATEGORIES:Committee Meetings
END:VEVENT
BEGIN:VEVENT
DTSTART;TZID=America/Chicago:20250728T183000
DTEND;TZID=America/Chicago:20250728T200000
DTSTAMP:20260423T161436
CREATED:20240923T150102Z
LAST-MODIFIED:20240923T150102Z
UID:10002278-1753727400-1753732800@qlibrary.org
SUMMARY:Programming Committee Meeting
DESCRIPTION:Regular meeting of the Quatrefoil Programming Committee. Committee meets every second and fourth Monday in the library (with a virtual option available for committee members) from 6:30 – 8:00pm. Reach out to programming@quatrefoil.org if you are interested in joining.
URL:https://qlibrary.org/event/programming-committee-meeting-8/2025-07-28/
LOCATION:Quatrefoil Library\, 1220 East Lake Street\, Minneapolis\, MN\, 55407\, United States
CATEGORIES:Committee Meetings
END:VEVENT
END:VCALENDAR