BEGIN:VCALENDAR
VERSION:2.0
PRODID:-//Quatrefoil Library - ECPv6.15.20//NONSGML v1.0//EN
CALSCALE:GREGORIAN
METHOD:PUBLISH
X-WR-CALNAME:Quatrefoil Library
X-ORIGINAL-URL:https://qlibrary.org
X-WR-CALDESC:Events for Quatrefoil Library
REFRESH-INTERVAL;VALUE=DURATION:PT1H
X-Robots-Tag:noindex
X-PUBLISHED-TTL:PT1H
BEGIN:VTIMEZONE
TZID:America/Chicago
BEGIN:DAYLIGHT
TZOFFSETFROM:-0600
TZOFFSETTO:-0500
TZNAME:CDT
DTSTART:20230312T080000
END:DAYLIGHT
BEGIN:STANDARD
TZOFFSETFROM:-0500
TZOFFSETTO:-0600
TZNAME:CST
DTSTART:20231105T070000
END:STANDARD
BEGIN:DAYLIGHT
TZOFFSETFROM:-0600
TZOFFSETTO:-0500
TZNAME:CDT
DTSTART:20240310T080000
END:DAYLIGHT
BEGIN:STANDARD
TZOFFSETFROM:-0500
TZOFFSETTO:-0600
TZNAME:CST
DTSTART:20241103T070000
END:STANDARD
BEGIN:DAYLIGHT
TZOFFSETFROM:-0600
TZOFFSETTO:-0500
TZNAME:CDT
DTSTART:20250309T080000
END:DAYLIGHT
BEGIN:STANDARD
TZOFFSETFROM:-0500
TZOFFSETTO:-0600
TZNAME:CST
DTSTART:20251102T070000
END:STANDARD
END:VTIMEZONE
BEGIN:VEVENT
DTSTART;TZID=America/Chicago:20240929T120000
DTEND;TZID=America/Chicago:20240929T140000
DTSTAMP:20260425T062419
CREATED:20240916T210557Z
LAST-MODIFIED:20240916T210557Z
UID:10002237-1727611200-1727618400@qlibrary.org
SUMMARY:Book Reading: Bodies in Transition
DESCRIPTION:Enjoy a book reading by local poet G. Gazelka! \nBodies in Transition is a collection of poems about the transition of spaces and bodies. Capturing memories as early as childhood\, G. Gazelka covers fundamental periods of development in their queer and trans identity and reckoning with social justice. In 2006\, their father\, at the time a member of the Minnesota House of Representatives\, introduced a bill to define marriage as between one man and one woman while they were just discovering their queer identity. He sent them to a clinic which has been accused of practicing conversion therapy. Unchanged\, their parents kicked them out of the family. They spent 10 years away from their family’s home struggling to find systems of support\, survive\, and become a man. Many of these poems deal with their social and physical transition after they returned to Minnesota in 2017. Due to the issues of legality surround trans identities\, one of the poems “Everyone Bleeds” even references how they were sent out of state to North Dakota for a diagnosis of mental illness after speaking to reporters about how they had and were experiencing conversion therapy for their sex and sexual identity. At the forefront of the fight for equality\, G. Gazelka believes these poems dealing with discrimination\, longing for love\, and belonging will resonate with their readers. \nhttps://www.magersandquinn.com/product/BODIES-IN-TRANSITION/27012950 \n 
URL:https://qlibrary.org/event/book-reading-bodies-in-transition/
LOCATION:Quatrefoil Library\, 1220 East Lake Street\, Minneapolis\, MN\, 55407\, United States
CATEGORIES:Reading
END:VEVENT
BEGIN:VEVENT
DTSTART;TZID=America/Chicago:20240925T190000
DTEND;TZID=America/Chicago:20240925T200000
DTSTAMP:20260425T062419
CREATED:20240120T001553Z
LAST-MODIFIED:20240324T162721Z
UID:10001273-1727290800-1727294400@qlibrary.org
SUMMARY:Twin Cities Queer Transplant Group
DESCRIPTION:The Twin Cities Queer Transplant Group is a new community meetup for folks who have recently relocated to the Twin Cities. Drop by to meet new people\, learn about local LGBTQIA+ resources\, chat\, and share your favorite Twin Cities discoveries! Locals\, partners\, and family welcome. Meetings hosted every 4th Wednesday at Quatrefoil Library. Questions and information requests can be sent to TCTransplants@gmail.com
URL:https://qlibrary.org/event/twin-cities-queer-transplant-group/2024-09-25/
LOCATION:Quatrefoil Library\, 1220 East Lake Street\, Minneapolis\, MN\, 55407\, United States
CATEGORIES:Community Club
END:VEVENT
BEGIN:VEVENT
DTSTART;TZID=America/Chicago:20240924T180000
DTEND;TZID=America/Chicago:20240924T200000
DTSTAMP:20260425T062419
CREATED:20240916T210212Z
LAST-MODIFIED:20240916T210212Z
UID:10002236-1727200800-1727208000@qlibrary.org
SUMMARY:MNTIRN Trans Refuge Coalition Meeting
DESCRIPTION:https://mntirnetwork.org/
URL:https://qlibrary.org/event/mntirn-trans-refuge-coalition-meeting/
LOCATION:Quatrefoil Library\, 1220 East Lake Street\, Minneapolis\, MN\, 55407\, United States
END:VEVENT
BEGIN:VEVENT
DTSTART;TZID=America/Chicago:20240923T183000
DTEND;TZID=America/Chicago:20240923T200000
DTSTAMP:20260425T062419
CREATED:20240923T150102Z
LAST-MODIFIED:20240923T150102Z
UID:10002268-1727116200-1727121600@qlibrary.org
SUMMARY:Programming Committee Meeting
DESCRIPTION:Regular meeting of the Quatrefoil Programming Committee. Committee meets every second and fourth Monday in the library (with a virtual option available for committee members) from 6:30 – 8:00pm. Reach out to programming@quatrefoil.org if you are interested in joining.
URL:https://qlibrary.org/event/programming-committee-meeting-8/2024-09-23/
LOCATION:Quatrefoil Library\, 1220 East Lake Street\, Minneapolis\, MN\, 55407\, United States
CATEGORIES:Committee Meetings
END:VEVENT
BEGIN:VEVENT
DTSTART;TZID=America/Chicago:20240923T173000
DTEND;TZID=America/Chicago:20240923T183000
DTSTAMP:20260425T062419
CREATED:20240324T163158Z
LAST-MODIFIED:20240407T163136Z
UID:10001729-1727112600-1727116200@qlibrary.org
SUMMARY:Volunteer Committee Meeting
DESCRIPTION:Our volunteer committee is responsible for recruiting and training volunteers. They also maintain our volunteer schedule\, for operating hours and special events. \nAnyone is welcome to stop in if interested in joining\, or to share constructive ideas. You can also sign up via our volunteer form. \nThis meeting is held in the library space\, with a virtual option available.
URL:https://qlibrary.org/event/volunteer-committee-meeting-3/2024-09-23/
LOCATION:Quatrefoil Library\, 1220 East Lake Street\, Minneapolis\, MN\, 55407\, United States
CATEGORIES:Committee Meetings
END:VEVENT
BEGIN:VEVENT
DTSTART;TZID=America/Chicago:20240922T130000
DTEND;TZID=America/Chicago:20240922T150000
DTSTAMP:20260425T062419
CREATED:20240110T193410Z
LAST-MODIFIED:20240114T224609Z
UID:10001043-1727010000-1727017200@qlibrary.org
SUMMARY:Transgender Book Club
DESCRIPTION:The Transgender Book Club meets the fourth Sunday of the month from 1-2pm to discuss books by and about trans people. We welcome people of all genders\, orientations\, and backgrounds! \n2024 Schedule: \n1/28 Nimona by ND Stevenson\n2/25 Freshwater by Akwaeke Emezi\n3/24 Hell Followed With Us by Andrew Joseph White\n4/28 Nobody Needs to Know by Pidgeon Pagonis\n5/26 The Lamb Will Slaughter the Lion by Margaret Killjoy\n6/23 Summer Fun by Jeanne Thornton\n7/28 Drag Me Up by RM Virtues\n8/25 How Far the Light Reaches by Sabrina Imbler\n9/22 Confluence by Nyri Bakkalian\n10/27 Mimosa by Archie Bongiovanni\n11/24 Bye Bye Binary by Eric Geron \nFind us on Facebook: “Transgender Book Club at Quatrefoil Library”\nFor more information\, email Kai at kaigottschalk101@gmail.com.
URL:https://qlibrary.org/event/transgender-book-club-5/2024-09-22/
LOCATION:Quatrefoil Library\, 1220 East Lake Street\, Minneapolis\, MN\, 55407\, United States
END:VEVENT
BEGIN:VEVENT
DTSTART;TZID=America/Chicago:20240921T131500
DTEND;TZID=America/Chicago:20240921T151500
DTSTAMP:20260425T062419
CREATED:20240114T221451Z
LAST-MODIFIED:20240114T225022Z
UID:10001123-1726924500-1726931700@qlibrary.org
SUMMARY:Prime Timers Bookclub
DESCRIPTION:This monthly book club is a subgroup of the Twin Cities Prime Timers Club\, which is affiliated with the state and national organizations. It meets each third Saturday of the month at Quatrefoil from 1:15pm – 3:15pm. \nBook of the month:
URL:https://qlibrary.org/event/prime-timers-bookclub-4-2/2024-09-21/
LOCATION:Quatrefoil Library\, 1220 East Lake Street\, Minneapolis\, MN\, 55407\, United States
END:VEVENT
BEGIN:VEVENT
DTSTART;TZID=America/Chicago:20240918T190000
DTEND;TZID=America/Chicago:20240918T210000
DTSTAMP:20260425T062419
CREATED:20240216T011749Z
LAST-MODIFIED:20240216T011808Z
UID:10001207-1726686000-1726693200@qlibrary.org
SUMMARY:Twin Cities Lesbian Fiction Book Club
DESCRIPTION:Virtual Book Club that meets online via Zoom – please direct all questions and requests for the Zoom link to jchandlerauthor@gmail.com \nYou are welcome to attend even if you didn’t read the book\, or didn’t like it. We enjoy staying in touch with our friends! \nBook of the month and description: \nMay—To Be Determined\nJune—Shanghai Murder by Jessie Chandler\nJuly—Out at the Plate by Lynn Ames (Bio of one of the best softball catchers of all time) I’m going to try and see if the author would join us for this meeting!\nAugust—Devil’s Slide by Stacy Lynn Miller (if we liked FUZE\, I thought we could read this adventure romance and compare and contrast the writing style and substance with FUZE\, the March book. Also\, it’s possible I might be able to arrange for Stacy to visit us during this zoom.\nSeptember—The Senator’s Wife by Jen Lyon (It’s well recommended romance) \n 
URL:https://qlibrary.org/event/twin-cities-lesbian-fiction-book-club-4-5/2024-09-18/
LOCATION:Online Events
CATEGORIES:Book Club
END:VEVENT
BEGIN:VEVENT
DTSTART;TZID=America/Chicago:20240918T190000
DTEND;TZID=America/Chicago:20240918T210000
DTSTAMP:20260425T062419
CREATED:20240114T181948Z
LAST-MODIFIED:20240324T164415Z
UID:10001539-1726686000-1726693200@qlibrary.org
SUMMARY:Queer Threads
DESCRIPTION:Queer threads: a weekly intergenerational craft night for LGBTQ people of all genders \nwhat: a weekly craft night for knitting\, crochet\, embroidery\, mending\, quilting\, and other portable crafts \nwhy: find community and camaraderie with other LGBTQ crafters \nwho: for all ages and genders. Kids are welcome\, but childcare is not provided. \nwhere: Quatrefoil Library at 1220 E Lake St Minneapolis. \nwhen: Wednesday nights from 7-9 pm \naccessibility: please wear a mask. \nhelp us cultivate a welcoming group: crafting is for all gender identities and types of gender expression; ask for (rather than assume) pronouns; all types of yarn and materials\, experience levels\, and portable craft projects are welcome.
URL:https://qlibrary.org/event/queer-threads-4/2024-09-18/
LOCATION:Quatrefoil Library\, 1220 East Lake Street\, Minneapolis\, MN\, 55407\, United States
CATEGORIES:Community Club
END:VEVENT
BEGIN:VEVENT
DTSTART;TZID=America/Chicago:20240918T180000
DTEND;TZID=America/Chicago:20240918T184500
DTSTAMP:20260425T062419
CREATED:20240407T163356Z
LAST-MODIFIED:20240407T163435Z
UID:10001796-1726682400-1726685100@qlibrary.org
SUMMARY:Communications Committee Meeting
DESCRIPTION:The regular meeting of the Quatrefoil Library’s Communications Committee. If you are interested in getting involved\, contact Nicole Olila\, LibraryManager@quatrefoil.org.
URL:https://qlibrary.org/event/communications-committee-meeting-2/2024-09-18/
LOCATION:Quatrefoil Library\, 1220 East Lake Street\, Minneapolis\, MN\, 55407\, United States
CATEGORIES:Committee Meetings
END:VEVENT
BEGIN:VEVENT
DTSTART;TZID=America/Chicago:20240915T130000
DTEND;TZID=America/Chicago:20240915T160000
DTSTAMP:20260425T062419
CREATED:20231118T021214Z
LAST-MODIFIED:20231118T021255Z
UID:10000866-1726405200-1726416000@qlibrary.org
SUMMARY:Prime Timers Dominoes
DESCRIPTION:Join the Prime Timers for an afternoon of dominoes. Feel free to bring a snack to share and your dominoes set\, though not required.
URL:https://qlibrary.org/event/prime-timers-dominoes-5-2/2024-09-15/
LOCATION:MN
END:VEVENT
BEGIN:VEVENT
DTSTART;TZID=America/Chicago:20240912T190000
DTEND;TZID=America/Chicago:20240912T210000
DTSTAMP:20260425T062419
CREATED:20240407T162805Z
LAST-MODIFIED:20240407T162823Z
UID:10001669-1726167600-1726174800@qlibrary.org
SUMMARY:Quatrefoil Board Meeting
DESCRIPTION:The Quatrefoil Board meets monthly on the second Thursday of the month in the community room.
URL:https://qlibrary.org/event/quatrefoil-board-meeting/2024-09-12/
LOCATION:Quatrefoil Library\, 1220 East Lake Street\, Minneapolis\, MN\, 55407\, United States
CATEGORIES:Committee Meetings
END:VEVENT
BEGIN:VEVENT
DTSTART;TZID=America/Chicago:20240911T190000
DTEND;TZID=America/Chicago:20240911T200000
DTSTAMP:20260425T062419
CREATED:20231214T010600Z
LAST-MODIFIED:20231214T010737Z
UID:10000928-1726081200-1726084800@qlibrary.org
SUMMARY:Moon Palace Queer Book Club
DESCRIPTION:Event by Moon Palace Books \nPublic  ·  Join us for Queer Book Club every second Wednesday from 7-8pm at Quatrefoil Library\, 1220 East Lake Street\, Minneapolis\, MN 55407! (Please note that in June\, July\, and August we will only meet at Quatrefoil if it rains. Otherwise we will meet at Brackett Park.)
URL:https://qlibrary.org/event/moon-palace-queer-book-club-2/2024-09-11/
LOCATION:Quatrefoil Library\, 1220 East Lake Street\, Minneapolis\, MN\, 55407\, United States
END:VEVENT
BEGIN:VEVENT
DTSTART;TZID=America/Chicago:20240909T063000
DTEND;TZID=America/Chicago:20240909T200000
DTSTAMP:20260425T062419
CREATED:20240923T150000Z
LAST-MODIFIED:20240923T150001Z
UID:10002107-1725863400-1725912000@qlibrary.org
SUMMARY:Programming Committee Meeting
DESCRIPTION:Regular meeting of the Quatrefoil Programming Committee. Committee meets every second and fourth Monday in the library (with a virtual option available for committee members) from 6:30 – 8:00pm. Reach out to programming@quatrefoil.org if you are interested in joining.
URL:https://qlibrary.org/event/programming-committee-meeting-6-2/2024-09-09/
LOCATION:Quatrefoil Library\, 1220 East Lake Street\, Minneapolis\, MN\, 55407\, United States
CATEGORIES:Committee Meetings
END:VEVENT
BEGIN:VEVENT
DTSTART;TZID=America/Chicago:20240904T190000
DTEND;TZID=America/Chicago:20240904T210000
DTSTAMP:20260425T062419
CREATED:20240324T164527Z
LAST-MODIFIED:20240324T164545Z
UID:10001600-1725476400-1725483600@qlibrary.org
SUMMARY:Queer Threads
DESCRIPTION:Queer threads: a weekly intergenerational craft night for LGBTQ people of all genders \nwhat: a weekly craft night for knitting\, crochet\, embroidery\, mending\, quilting\, and other portable crafts \nwhy: find community and camaraderie with other LGBTQ crafters \nwho: for all ages and genders. Kids are welcome\, but childcare is not provided. \nwhere: Quatrefoil Library at 1220 E Lake St Minneapolis. \nwhen: 1st and 3rd Wednesday nights from 7-9 pm \naccessibility: please wear a mask. \nhelp us cultivate a welcoming group: crafting is for all gender identities and types of gender expression; ask for (rather than assume) pronouns; all types of yarn and materials\, experience levels\, and portable craft projects are welcome.
URL:https://qlibrary.org/event/queer-threads-6/2024-09-04/
LOCATION:Quatrefoil Library: Spirit on Lake Community Room\, 1220 E Lake St\, Minneapolis\, MN\, 55407\, United States
CATEGORIES:Community Club
END:VEVENT
BEGIN:VEVENT
DTSTART;TZID=America/Chicago:20240904T180000
DTEND;TZID=America/Chicago:20240904T184500
DTSTAMP:20260425T062419
CREATED:20240407T163356Z
LAST-MODIFIED:20240407T163435Z
UID:10001795-1725472800-1725475500@qlibrary.org
SUMMARY:Communications Committee Meeting
DESCRIPTION:The regular meeting of the Quatrefoil Library’s Communications Committee. If you are interested in getting involved\, contact Nicole Olila\, LibraryManager@quatrefoil.org.
URL:https://qlibrary.org/event/communications-committee-meeting-2/2024-09-04/
LOCATION:Quatrefoil Library\, 1220 East Lake Street\, Minneapolis\, MN\, 55407\, United States
CATEGORIES:Committee Meetings
END:VEVENT
BEGIN:VEVENT
DTSTART;TZID=America/Chicago:20240902T173000
DTEND;TZID=America/Chicago:20240902T183000
DTSTAMP:20260425T062419
CREATED:20240407T163732Z
LAST-MODIFIED:20240407T163747Z
UID:10001920-1725298200-1725301800@qlibrary.org
SUMMARY:Operations Committee Meeting
DESCRIPTION:The Monthly Operations Committee meeting for the Quatrefoil Library\, for questions\, contact Tom Nechodomu (Operations Chair) or email operations@quatrefoil.org.
URL:https://qlibrary.org/event/operations-committee-meeting-2/2024-09-02/
LOCATION:Quatrefoil Library\, 1220 East Lake Street\, Minneapolis\, MN\, 55407\, United States
CATEGORIES:Committee Meetings
END:VEVENT
BEGIN:VEVENT
DTSTART;TZID=America/Chicago:20240901T140000
DTEND;TZID=America/Chicago:20240901T160000
DTSTAMP:20260425T062420
CREATED:20240721T171428Z
LAST-MODIFIED:20240721T172826Z
UID:10002234-1725199200-1725206400@qlibrary.org
SUMMARY:Book Reading: Following My Spirit Home by Sam Zimmerman
DESCRIPTION:Fifth and final Event of the Summer Series: Book reading and Q&A by book author\, Sam Zimmerman \nWhen Sam Zimmerman decided to rededicate his energy and focus to painting in the late 2010s\, he found himself drawn to the stories of his family and Ojibwe community. He wanted to capture these stories in images as well as words\, and he began working with an Ojibwemowin language speaker to translate and preserve them in their native language as well. The paintings and stories he accumulated and developed between July 2019 and July 2020 are drawn from family lore and shared experiences centered in Ojibwe tradition and the natural beauty of northern Minnesota. \nZimmerman’s work explores his Ojibwe heritage by preserving oral histories handed down from elders while also reflecting the artist’s personal experiences and learnings in nature by incorporating the landscapes of Lake Superior’s North Shore\, where he and generations of his ancestors have lived. His work features Northland creatures such as moose\, loons\, wolves\, and fish as well as the night sky and native flora. Zimmerman preserves the Ojibwe storytelling tradition\, reimagining the symbolism of the clan animals in natural North Shore landscapes. His work is infused with the color theories of the abstract and expressionism movements while also promoting environmental stewardship. \nFollowing My Spirit Home features more than 80 vibrant and colorful images accompanied by stories\, mostly based on tales Zimmerman’s grandfather told him or from his own experiences in nature along the north shore of Lake Superior. The stories are presented in both English and Ojibwemowin with the goal of advancing language revitalization.
URL:https://qlibrary.org/event/book-reading-following-my-spirit-home-by-sam-zimmerman/
LOCATION:Quatrefoil Library\, 1220 East Lake Street\, Minneapolis\, MN\, 55407\, United States
CATEGORIES:Event Series
END:VEVENT
BEGIN:VEVENT
DTSTART;TZID=America/Chicago:20240828T190000
DTEND;TZID=America/Chicago:20240828T200000
DTSTAMP:20260425T062420
CREATED:20240120T001553Z
LAST-MODIFIED:20240324T162721Z
UID:10001272-1724871600-1724875200@qlibrary.org
SUMMARY:Twin Cities Queer Transplant Group
DESCRIPTION:The Twin Cities Queer Transplant Group is a new community meetup for folks who have recently relocated to the Twin Cities. Drop by to meet new people\, learn about local LGBTQIA+ resources\, chat\, and share your favorite Twin Cities discoveries! Locals\, partners\, and family welcome. Meetings hosted every 4th Wednesday at Quatrefoil Library. Questions and information requests can be sent to TCTransplants@gmail.com
URL:https://qlibrary.org/event/twin-cities-queer-transplant-group/2024-08-28/
LOCATION:Quatrefoil Library\, 1220 East Lake Street\, Minneapolis\, MN\, 55407\, United States
CATEGORIES:Community Club
END:VEVENT
BEGIN:VEVENT
DTSTART;TZID=America/Chicago:20240826T173000
DTEND;TZID=America/Chicago:20240826T183000
DTSTAMP:20260425T062420
CREATED:20240324T163158Z
LAST-MODIFIED:20240407T163136Z
UID:10001728-1724693400-1724697000@qlibrary.org
SUMMARY:Volunteer Committee Meeting
DESCRIPTION:Our volunteer committee is responsible for recruiting and training volunteers. They also maintain our volunteer schedule\, for operating hours and special events. \nAnyone is welcome to stop in if interested in joining\, or to share constructive ideas. You can also sign up via our volunteer form. \nThis meeting is held in the library space\, with a virtual option available.
URL:https://qlibrary.org/event/volunteer-committee-meeting-3/2024-08-26/
LOCATION:Quatrefoil Library\, 1220 East Lake Street\, Minneapolis\, MN\, 55407\, United States
CATEGORIES:Committee Meetings
END:VEVENT
BEGIN:VEVENT
DTSTART;TZID=America/Chicago:20240825T130000
DTEND;TZID=America/Chicago:20240825T150000
DTSTAMP:20260425T062420
CREATED:20240110T193410Z
LAST-MODIFIED:20240114T224609Z
UID:10001042-1724590800-1724598000@qlibrary.org
SUMMARY:Transgender Book Club
DESCRIPTION:The Transgender Book Club meets the fourth Sunday of the month from 1-2pm to discuss books by and about trans people. We welcome people of all genders\, orientations\, and backgrounds! \n2024 Schedule: \n1/28 Nimona by ND Stevenson\n2/25 Freshwater by Akwaeke Emezi\n3/24 Hell Followed With Us by Andrew Joseph White\n4/28 Nobody Needs to Know by Pidgeon Pagonis\n5/26 The Lamb Will Slaughter the Lion by Margaret Killjoy\n6/23 Summer Fun by Jeanne Thornton\n7/28 Drag Me Up by RM Virtues\n8/25 How Far the Light Reaches by Sabrina Imbler\n9/22 Confluence by Nyri Bakkalian\n10/27 Mimosa by Archie Bongiovanni\n11/24 Bye Bye Binary by Eric Geron \nFind us on Facebook: “Transgender Book Club at Quatrefoil Library”\nFor more information\, email Kai at kaigottschalk101@gmail.com.
URL:https://qlibrary.org/event/transgender-book-club-5/2024-08-25/
LOCATION:Quatrefoil Library\, 1220 East Lake Street\, Minneapolis\, MN\, 55407\, United States
END:VEVENT
BEGIN:VEVENT
DTSTART;TZID=America/Chicago:20240821T190000
DTEND;TZID=America/Chicago:20240821T210000
DTSTAMP:20260425T062420
CREATED:20240216T011749Z
LAST-MODIFIED:20240216T011808Z
UID:10001206-1724266800-1724274000@qlibrary.org
SUMMARY:Twin Cities Lesbian Fiction Book Club
DESCRIPTION:Virtual Book Club that meets online via Zoom – please direct all questions and requests for the Zoom link to jchandlerauthor@gmail.com \nYou are welcome to attend even if you didn’t read the book\, or didn’t like it. We enjoy staying in touch with our friends! \nBook of the month and description: \nMay—To Be Determined\nJune—Shanghai Murder by Jessie Chandler\nJuly—Out at the Plate by Lynn Ames (Bio of one of the best softball catchers of all time) I’m going to try and see if the author would join us for this meeting!\nAugust—Devil’s Slide by Stacy Lynn Miller (if we liked FUZE\, I thought we could read this adventure romance and compare and contrast the writing style and substance with FUZE\, the March book. Also\, it’s possible I might be able to arrange for Stacy to visit us during this zoom.\nSeptember—The Senator’s Wife by Jen Lyon (It’s well recommended romance) \n 
URL:https://qlibrary.org/event/twin-cities-lesbian-fiction-book-club-4-5/2024-08-21/
LOCATION:Online Events
CATEGORIES:Book Club
END:VEVENT
BEGIN:VEVENT
DTSTART;TZID=America/Chicago:20240821T190000
DTEND;TZID=America/Chicago:20240821T210000
DTSTAMP:20260425T062420
CREATED:20240114T181948Z
LAST-MODIFIED:20240324T164415Z
UID:10001538-1724266800-1724274000@qlibrary.org
SUMMARY:Queer Threads
DESCRIPTION:Queer threads: a weekly intergenerational craft night for LGBTQ people of all genders \nwhat: a weekly craft night for knitting\, crochet\, embroidery\, mending\, quilting\, and other portable crafts \nwhy: find community and camaraderie with other LGBTQ crafters \nwho: for all ages and genders. Kids are welcome\, but childcare is not provided. \nwhere: Quatrefoil Library at 1220 E Lake St Minneapolis. \nwhen: Wednesday nights from 7-9 pm \naccessibility: please wear a mask. \nhelp us cultivate a welcoming group: crafting is for all gender identities and types of gender expression; ask for (rather than assume) pronouns; all types of yarn and materials\, experience levels\, and portable craft projects are welcome.
URL:https://qlibrary.org/event/queer-threads-4/2024-08-21/
LOCATION:Quatrefoil Library\, 1220 East Lake Street\, Minneapolis\, MN\, 55407\, United States
CATEGORIES:Community Club
END:VEVENT
BEGIN:VEVENT
DTSTART;TZID=America/Chicago:20240821T180000
DTEND;TZID=America/Chicago:20240821T184500
DTSTAMP:20260425T062420
CREATED:20240407T163356Z
LAST-MODIFIED:20240407T163435Z
UID:10001794-1724263200-1724265900@qlibrary.org
SUMMARY:Communications Committee Meeting
DESCRIPTION:The regular meeting of the Quatrefoil Library’s Communications Committee. If you are interested in getting involved\, contact Nicole Olila\, LibraryManager@quatrefoil.org.
URL:https://qlibrary.org/event/communications-committee-meeting-2/2024-08-21/
LOCATION:Quatrefoil Library\, 1220 East Lake Street\, Minneapolis\, MN\, 55407\, United States
CATEGORIES:Committee Meetings
END:VEVENT
BEGIN:VEVENT
DTSTART;TZID=America/Chicago:20240819T063000
DTEND;TZID=America/Chicago:20240819T200000
DTSTAMP:20260425T062420
CREATED:20240529T035636Z
LAST-MODIFIED:20240529T035703Z
UID:10002106-1724049000-1724097600@qlibrary.org
SUMMARY:Programming Committee Meeting
DESCRIPTION:Regular meeting of the Quatrefoil Programming Committee. Committee meets every second and fourth Monday in the library (with a virtual option available for committee members) from 6:30 – 8:00pm. Reach out to programming@quatrefoil.org if you are interested in joining.
URL:https://qlibrary.org/event/programming-committee-meeting-6/2024-08-19/
LOCATION:Quatrefoil Library\, 1220 East Lake Street\, Minneapolis\, MN\, 55407\, United States
CATEGORIES:Committee Meetings
END:VEVENT
BEGIN:VEVENT
DTSTART;TZID=America/Chicago:20240818T130000
DTEND;TZID=America/Chicago:20240818T160000
DTSTAMP:20260425T062420
CREATED:20231118T021214Z
LAST-MODIFIED:20231118T021255Z
UID:10000865-1723986000-1723996800@qlibrary.org
SUMMARY:Prime Timers Dominoes
DESCRIPTION:Join the Prime Timers for an afternoon of dominoes. Feel free to bring a snack to share and your dominoes set\, though not required.
URL:https://qlibrary.org/event/prime-timers-dominoes-5-2/2024-08-18/
LOCATION:MN
END:VEVENT
BEGIN:VEVENT
DTSTART;TZID=America/Chicago:20240817T140000
DTEND;TZID=America/Chicago:20240817T160000
DTSTAMP:20260425T062420
CREATED:20240721T170735Z
LAST-MODIFIED:20240721T170735Z
UID:10002233-1723903200-1723910400@qlibrary.org
SUMMARY:Book Reading: Wild Things by Lynette Reini-Grandell
DESCRIPTION:Fourth Event in the Summer Memoir Series: book reading and Q&A by author Lynette Reini-Grandell \n“The person I married\, who I am still married to and remain very much in love with\, is now legally named Venus de Mars\, and she uses she and her pronouns. But to get to that point was a journey of decades. At the time we didn’t know where it would lead—we had no real role models and made it up as we went. Most of this story took place at a time when the kind of knowledge and terminology we now have about being trans didn’t exist.” —from the Author’s Note \nIn the 1970s\, Lynette Reini fell in love with a fascinating\, talented man named Steve Grandell. They married in 1983; five years later\, Steve came out to her as transgender. Through the following decades\, as her spouse developed a public persona as Venus de Mars and fronted the band All the Pretty Horses\, the couple struggled to stay together. They navigated an often hostile\, anti-trans environment; fractures grew between them as Venus pushed the band toward success. Against the backdrop of the art\, literary\, and indie rock worlds of Minneapolis and New York in the 1990s and early 2000s\, through hard work and love\, they invented a way of being who they truly are.
URL:https://qlibrary.org/event/book-reading-wild-things-by-lynette-reini-grandell/
LOCATION:Quatrefoil Library\, 1220 East Lake Street\, Minneapolis\, MN\, 55407\, United States
END:VEVENT
BEGIN:VEVENT
DTSTART;TZID=America/Chicago:20240817T131500
DTEND;TZID=America/Chicago:20240817T151500
DTSTAMP:20260425T062420
CREATED:20240114T221451Z
LAST-MODIFIED:20240114T225022Z
UID:10001122-1723900500-1723907700@qlibrary.org
SUMMARY:Prime Timers Bookclub
DESCRIPTION:This monthly book club is a subgroup of the Twin Cities Prime Timers Club\, which is affiliated with the state and national organizations. It meets each third Saturday of the month at Quatrefoil from 1:15pm – 3:15pm. \nBook of the month:
URL:https://qlibrary.org/event/prime-timers-bookclub-4-2/2024-08-17/
LOCATION:Quatrefoil Library\, 1220 East Lake Street\, Minneapolis\, MN\, 55407\, United States
END:VEVENT
BEGIN:VEVENT
DTSTART;TZID=America/Chicago:20240814T190000
DTEND;TZID=America/Chicago:20240814T200000
DTSTAMP:20260425T062420
CREATED:20231214T010600Z
LAST-MODIFIED:20231214T010737Z
UID:10000927-1723662000-1723665600@qlibrary.org
SUMMARY:Moon Palace Queer Book Club
DESCRIPTION:Event by Moon Palace Books \nPublic  ·  Join us for Queer Book Club every second Wednesday from 7-8pm at Quatrefoil Library\, 1220 East Lake Street\, Minneapolis\, MN 55407! (Please note that in June\, July\, and August we will only meet at Quatrefoil if it rains. Otherwise we will meet at Brackett Park.)
URL:https://qlibrary.org/event/moon-palace-queer-book-club-2/2024-08-14/
LOCATION:Quatrefoil Library\, 1220 East Lake Street\, Minneapolis\, MN\, 55407\, United States
END:VEVENT
BEGIN:VEVENT
DTSTART;TZID=America/Chicago:20240812T153000
DTEND;TZID=America/Chicago:20240812T170000
DTSTAMP:20260425T062420
CREATED:20240730T011929Z
LAST-MODIFIED:20240730T011929Z
UID:10002235-1723476600-1723482000@qlibrary.org
SUMMARY:National Coming Out Day Reading & Open Mic
DESCRIPTION:National Coming Out Day Reading & Open Mic\, an afternoon of readings from 2SLGBTQIA+ authors followed by a queer voices open mic. Saturday October 12th from 3:30-5:00.
URL:https://qlibrary.org/event/national-coming-out-day-reading-open-mic/
LOCATION:Quatrefoil Library\, 1220 East Lake Street\, Minneapolis\, MN\, 55407\, United States
END:VEVENT
END:VCALENDAR