BEGIN:VCALENDAR
VERSION:2.0
PRODID:-//Quatrefoil Library - ECPv6.15.20//NONSGML v1.0//EN
CALSCALE:GREGORIAN
METHOD:PUBLISH
X-WR-CALNAME:Quatrefoil Library
X-ORIGINAL-URL:https://qlibrary.org
X-WR-CALDESC:Events for Quatrefoil Library
REFRESH-INTERVAL;VALUE=DURATION:PT1H
X-Robots-Tag:noindex
X-PUBLISHED-TTL:PT1H
BEGIN:VTIMEZONE
TZID:America/Chicago
BEGIN:DAYLIGHT
TZOFFSETFROM:-0600
TZOFFSETTO:-0500
TZNAME:CDT
DTSTART:20230312T080000
END:DAYLIGHT
BEGIN:STANDARD
TZOFFSETFROM:-0500
TZOFFSETTO:-0600
TZNAME:CST
DTSTART:20231105T070000
END:STANDARD
BEGIN:DAYLIGHT
TZOFFSETFROM:-0600
TZOFFSETTO:-0500
TZNAME:CDT
DTSTART:20240310T080000
END:DAYLIGHT
BEGIN:STANDARD
TZOFFSETFROM:-0500
TZOFFSETTO:-0600
TZNAME:CST
DTSTART:20241103T070000
END:STANDARD
BEGIN:DAYLIGHT
TZOFFSETFROM:-0600
TZOFFSETTO:-0500
TZNAME:CDT
DTSTART:20250309T080000
END:DAYLIGHT
BEGIN:STANDARD
TZOFFSETFROM:-0500
TZOFFSETTO:-0600
TZNAME:CST
DTSTART:20251102T070000
END:STANDARD
END:VTIMEZONE
BEGIN:VEVENT
DTSTART;TZID=America/Chicago:20240422T173000
DTEND;TZID=America/Chicago:20240422T183000
DTSTAMP:20260425T104933
CREATED:20240324T163158Z
LAST-MODIFIED:20240407T163136Z
UID:10001724-1713807000-1713810600@qlibrary.org
SUMMARY:Volunteer Committee Meeting
DESCRIPTION:Our volunteer committee is responsible for recruiting and training volunteers. They also maintain our volunteer schedule\, for operating hours and special events. \nAnyone is welcome to stop in if interested in joining\, or to share constructive ideas. You can also sign up via our volunteer form. \nThis meeting is held in the library space\, with a virtual option available.
URL:https://qlibrary.org/event/volunteer-committee-meeting-3/2024-04-22/
LOCATION:Quatrefoil Library\, 1220 East Lake Street\, Minneapolis\, MN\, 55407\, United States
CATEGORIES:Committee Meetings
END:VEVENT
BEGIN:VEVENT
DTSTART;TZID=America/Chicago:20240421T130000
DTEND;TZID=America/Chicago:20240421T160000
DTSTAMP:20260425T104933
CREATED:20231118T021214Z
LAST-MODIFIED:20231118T021255Z
UID:10000861-1713704400-1713715200@qlibrary.org
SUMMARY:Prime Timers Dominoes
DESCRIPTION:Join the Prime Timers for an afternoon of dominoes. Feel free to bring a snack to share and your dominoes set\, though not required.
URL:https://qlibrary.org/event/prime-timers-dominoes-5-2/2024-04-21/
LOCATION:MN
END:VEVENT
BEGIN:VEVENT
DTSTART;TZID=America/Chicago:20240420T131500
DTEND;TZID=America/Chicago:20240420T151500
DTSTAMP:20260425T104933
CREATED:20240114T221451Z
LAST-MODIFIED:20240114T225022Z
UID:10001118-1713618900-1713626100@qlibrary.org
SUMMARY:Prime Timers Bookclub
DESCRIPTION:This monthly book club is a subgroup of the Twin Cities Prime Timers Club\, which is affiliated with the state and national organizations. It meets each third Saturday of the month at Quatrefoil from 1:15pm – 3:15pm. \nBook of the month:
URL:https://qlibrary.org/event/prime-timers-bookclub-4-2/2024-04-20/
LOCATION:Quatrefoil Library\, 1220 East Lake Street\, Minneapolis\, MN\, 55407\, United States
END:VEVENT
BEGIN:VEVENT
DTSTART;TZID=America/Chicago:20240417T190000
DTEND;TZID=America/Chicago:20240417T210000
DTSTAMP:20260425T104933
CREATED:20240216T011633Z
LAST-MODIFIED:20240419T172619Z
UID:10001202-1713380400-1713387600@qlibrary.org
SUMMARY:CANCELLED: Twin Cities Lesbian Fiction Book Club
DESCRIPTION:THIS EVENT HAS BEEN CANCELLED: WE WILL BE READING INTEGRITY FOR THE MAY MEETING \nVirtual Book Club that meets online via Zoom – please direct all questions and requests for the Zoom link to jchandlerauthor@gmail.com \nYou are welcome to attend even if you didn’t read the book\, or didn’t like it. We enjoy staying in touch with our friends! \nBook of the month and description: \nApril — Integrity—Book 1 in the Halcyon Division Series by E.J. Noyes \nApril Book \nIt’s an ordinary workday when intelligence analyst Lexie Martin learns about a horrific chemical weapon attack abroad. Just an ordinary day…until a stranger breaks into her house and warns her to forget what she saw and heard\, setting off a chain of events Lexie thought only happened in movies. Falsely accused of stealing intelligence and unsure of who to trust\, Lexie quickly realizes the significance of the intel\, and that she must do everything she can to keep it safe. And as she runs—maybe for her life—Lexie knows she needs something\, or someone\, to help her. \nThere’s a place for truths and lies\, and sometimes you need both to get what you want. Lexie convinces the woman she’s only just started dating to “go on vacation” with her\, hoping a constant companion and witness will keep Them at a distance\, and the intel safe. But when she develops feelings for the beautiful and sweet Sophia Flores\, she wonders if a relationship built on a foundation of secrets can ever work. That might not even matter\, because when Lexie uncovers the truth\, the price of it could be her freedom. \nBook One in the Halcyon Division Series. \nGet the book from Bella. Order from Amazon. Or request it at your local library if they don’t have it.Or order from your (or\, really mine and Judy’s) favorite bookstore! Once Upon a Crime is a fantastic\, queer-owned Indie bookstore. While they specialize in mysteries\, Devin\, the coolest boss ever\, can order anything and ship it if you don’t want to make the trip into Mpls. Also\, if you’re looking for queer/lesbian etc mysteries\, she’s your numero uno resource!  \n 
URL:https://qlibrary.org/event/twin-cities-lesbian-fiction-book-club-4-4/
LOCATION:Online Events
CATEGORIES:Book Club
END:VEVENT
BEGIN:VEVENT
DTSTART;TZID=America/Chicago:20240417T190000
DTEND;TZID=America/Chicago:20240417T210000
DTSTAMP:20260425T104933
CREATED:20240114T181948Z
LAST-MODIFIED:20240324T164415Z
UID:10001534-1713380400-1713387600@qlibrary.org
SUMMARY:Queer Threads
DESCRIPTION:Queer threads: a weekly intergenerational craft night for LGBTQ people of all genders \nwhat: a weekly craft night for knitting\, crochet\, embroidery\, mending\, quilting\, and other portable crafts \nwhy: find community and camaraderie with other LGBTQ crafters \nwho: for all ages and genders. Kids are welcome\, but childcare is not provided. \nwhere: Quatrefoil Library at 1220 E Lake St Minneapolis. \nwhen: Wednesday nights from 7-9 pm \naccessibility: please wear a mask. \nhelp us cultivate a welcoming group: crafting is for all gender identities and types of gender expression; ask for (rather than assume) pronouns; all types of yarn and materials\, experience levels\, and portable craft projects are welcome.
URL:https://qlibrary.org/event/queer-threads-4/2024-04-17/
LOCATION:Quatrefoil Library\, 1220 East Lake Street\, Minneapolis\, MN\, 55407\, United States
CATEGORIES:Community Club
END:VEVENT
BEGIN:VEVENT
DTSTART;TZID=America/Chicago:20240417T180000
DTEND;TZID=America/Chicago:20240417T184500
DTSTAMP:20260425T104933
CREATED:20240407T163356Z
LAST-MODIFIED:20240407T163435Z
UID:10001784-1713376800-1713379500@qlibrary.org
SUMMARY:Communications Committee Meeting
DESCRIPTION:The regular meeting of the Quatrefoil Library’s Communications Committee. If you are interested in getting involved\, contact Nicole Olila\, LibraryManager@quatrefoil.org.
URL:https://qlibrary.org/event/communications-committee-meeting-2/2024-04-17/2/
LOCATION:Quatrefoil Library\, 1220 East Lake Street\, Minneapolis\, MN\, 55407\, United States
CATEGORIES:Committee Meetings
END:VEVENT
BEGIN:VEVENT
DTSTART;TZID=America/Chicago:20240417T080000
DTEND;TZID=America/Chicago:20240417T170000
DTSTAMP:20260425T104933
CREATED:20240407T163356Z
LAST-MODIFIED:20240407T163435Z
UID:10001785-1713340800-1713373200@qlibrary.org
SUMMARY:Communications Committee Meeting
DESCRIPTION:The regular meeting of the Quatrefoil Library’s Communications Committee. If you are interested in getting involved\, contact Nicole Olila\, LibraryManager@quatrefoil.org.
URL:https://qlibrary.org/event/communications-committee-meeting-2/2024-04-17/1/
LOCATION:Quatrefoil Library\, 1220 East Lake Street\, Minneapolis\, MN\, 55407\, United States
CATEGORIES:Committee Meetings
END:VEVENT
BEGIN:VEVENT
DTSTART;TZID=America/Chicago:20240411T190000
DTEND;TZID=America/Chicago:20240411T210000
DTSTAMP:20260425T104933
CREATED:20240407T162805Z
LAST-MODIFIED:20240407T162823Z
UID:10001663-1712862000-1712869200@qlibrary.org
SUMMARY:Quatrefoil Board Meeting
DESCRIPTION:The Quatrefoil Board meets monthly on the second Thursday of the month in the community room.
URL:https://qlibrary.org/event/quatrefoil-board-meeting/2024-04-11/
LOCATION:Quatrefoil Library\, 1220 East Lake Street\, Minneapolis\, MN\, 55407\, United States
CATEGORIES:Committee Meetings
END:VEVENT
BEGIN:VEVENT
DTSTART;TZID=America/Chicago:20240410T190000
DTEND;TZID=America/Chicago:20240410T200000
DTSTAMP:20260425T104933
CREATED:20231214T010600Z
LAST-MODIFIED:20231214T010737Z
UID:10000923-1712775600-1712779200@qlibrary.org
SUMMARY:Moon Palace Queer Book Club
DESCRIPTION:Event by Moon Palace Books \nPublic  ·  Join us for Queer Book Club every second Wednesday from 7-8pm at Quatrefoil Library\, 1220 East Lake Street\, Minneapolis\, MN 55407! (Please note that in June\, July\, and August we will only meet at Quatrefoil if it rains. Otherwise we will meet at Brackett Park.)
URL:https://qlibrary.org/event/moon-palace-queer-book-club-2/2024-04-10/
LOCATION:Quatrefoil Library\, 1220 East Lake Street\, Minneapolis\, MN\, 55407\, United States
END:VEVENT
BEGIN:VEVENT
DTSTART;TZID=America/Chicago:20240407T130000
DTEND;TZID=America/Chicago:20240407T150000
DTSTAMP:20260425T104933
CREATED:20240210T195320Z
LAST-MODIFIED:20240324T162847Z
UID:10001262-1712494800-1712502000@qlibrary.org
SUMMARY:Free Mom Hugs MN
DESCRIPTION:We are a nonprofit organization  that supports the LGBTQ community. We will have snacks and crafting. We will be making “swag” to give away at events we attend. \nContact: \nSherry Martin\, sherry.martin@mn.freemomhugs.org
URL:https://qlibrary.org/event/free-mom-hugs-mn-2/
LOCATION:Quatrefoil Library\, 1220 East Lake Street\, Minneapolis\, MN\, 55407\, United States
END:VEVENT
BEGIN:VEVENT
DTSTART;TZID=America/Chicago:20240406T110000
DTEND;TZID=America/Chicago:20240406T170000
DTSTAMP:20260425T104933
CREATED:20240324T164930Z
LAST-MODIFIED:20240324T173108Z
UID:10001655-1712401200-1712422800@qlibrary.org
SUMMARY:Quatrefoil Book Sale
DESCRIPTION:Quatrefoil is having another used book sale! Enjoy a free cup of Peace Coffee while you browse our selection of used LGBTQIA books\, DVDs\, and more. All priced to walk out with you. Bring a friend! Masks suggested. Not a member yet? Join us! Membership is free and gets you access to what is hot-off-the-press in queer publishing—physical AND digital (audio + ebooks) via Libby.
URL:https://qlibrary.org/event/quatrefoil-book-sale/
LOCATION:Quatrefoil Library: Spirit on Lake Community Room\, 1220 E Lake St\, Minneapolis\, MN\, 55407\, United States
CATEGORIES:book sale
END:VEVENT
BEGIN:VEVENT
DTSTART;VALUE=DATE:20240405
DTEND;VALUE=DATE:20240406
DTSTAMP:20260425T104933
CREATED:20240327T230330Z
LAST-MODIFIED:20240327T230330Z
UID:10001657-1712275200-1712361599@qlibrary.org
SUMMARY:Library Closed
DESCRIPTION:The Library will be closed on this day for a private event. We will be open to patrons again on Saturday at 10am. Thank you
URL:https://qlibrary.org/event/library-closed-6/
LOCATION:Quatrefoil Library\, 1220 East Lake Street\, Minneapolis\, MN\, 55407\, United States
END:VEVENT
BEGIN:VEVENT
DTSTART;TZID=America/Chicago:20240403T190000
DTEND;TZID=America/Chicago:20240403T210000
DTSTAMP:20260425T104933
CREATED:20240324T164527Z
LAST-MODIFIED:20240324T164545Z
UID:10001594-1712170800-1712178000@qlibrary.org
SUMMARY:Queer Threads
DESCRIPTION:Queer threads: a weekly intergenerational craft night for LGBTQ people of all genders \nwhat: a weekly craft night for knitting\, crochet\, embroidery\, mending\, quilting\, and other portable crafts \nwhy: find community and camaraderie with other LGBTQ crafters \nwho: for all ages and genders. Kids are welcome\, but childcare is not provided. \nwhere: Quatrefoil Library at 1220 E Lake St Minneapolis. \nwhen: 1st and 3rd Wednesday nights from 7-9 pm \naccessibility: please wear a mask. \nhelp us cultivate a welcoming group: crafting is for all gender identities and types of gender expression; ask for (rather than assume) pronouns; all types of yarn and materials\, experience levels\, and portable craft projects are welcome.
URL:https://qlibrary.org/event/queer-threads-6/2024-04-03/2/
LOCATION:Quatrefoil Library: Spirit on Lake Community Room\, 1220 E Lake St\, Minneapolis\, MN\, 55407\, United States
CATEGORIES:Community Club
END:VEVENT
BEGIN:VEVENT
DTSTART;TZID=America/Chicago:20240403T190000
DTEND;TZID=America/Chicago:20240403T210000
DTSTAMP:20260425T104933
CREATED:20240324T164155Z
LAST-MODIFIED:20240324T164155Z
UID:10001467-1712170800-1712178000@qlibrary.org
SUMMARY:Queer Threads
DESCRIPTION:Queer threads: a weekly intergenerational craft night for LGBTQ people of all genders \nwhat: a weekly craft night for knitting\, crochet\, embroidery\, mending\, quilting\, and other portable crafts \nwhy: find community and camaraderie with other LGBTQ crafters \nwho: for all ages and genders. Kids are welcome\, but childcare is not provided. \nwhere: Quatrefoil Library at 1220 E Lake St Minneapolis. \nwhen: Wednesday nights from 7-9 pm \naccessibility: please wear a mask. \nhelp us cultivate a welcoming group: crafting is for all gender identities and types of gender expression; ask for (rather than assume) pronouns; all types of yarn and materials\, experience levels\, and portable craft projects are welcome.
URL:https://qlibrary.org/event/queer-threads-5/
LOCATION:Quatrefoil Library\, 1220 East Lake Street\, Minneapolis\, MN\, 55407\, United States
CATEGORIES:Community Club
END:VEVENT
BEGIN:VEVENT
DTSTART;TZID=America/Chicago:20240403T183000
DTEND;TZID=America/Chicago:20240403T200000
DTSTAMP:20260425T104933
CREATED:20250320T214400Z
LAST-MODIFIED:20250320T214400Z
UID:10003293-1712169000-1712174400@qlibrary.org
SUMMARY:Quatrefoil Board Meeting
DESCRIPTION:The Quatrefoil Board meets monthly on the first Thursday of the month in the Community Room.
URL:https://qlibrary.org/event/quatrefoil-board-meeting-2/2024-04-03/
LOCATION:Quatrefoil Library\, 1220 East Lake Street\, Minneapolis\, MN\, 55407\, United States
CATEGORIES:Committee Meetings
END:VEVENT
BEGIN:VEVENT
DTSTART;TZID=America/Chicago:20240403T080000
DTEND;TZID=America/Chicago:20240403T170000
DTSTAMP:20260425T104933
CREATED:20240324T164527Z
LAST-MODIFIED:20240324T164545Z
UID:10001595-1712131200-1712163600@qlibrary.org
SUMMARY:Queer Threads
DESCRIPTION:Queer threads: a weekly intergenerational craft night for LGBTQ people of all genders \nwhat: a weekly craft night for knitting\, crochet\, embroidery\, mending\, quilting\, and other portable crafts \nwhy: find community and camaraderie with other LGBTQ crafters \nwho: for all ages and genders. Kids are welcome\, but childcare is not provided. \nwhere: Quatrefoil Library at 1220 E Lake St Minneapolis. \nwhen: 1st and 3rd Wednesday nights from 7-9 pm \naccessibility: please wear a mask. \nhelp us cultivate a welcoming group: crafting is for all gender identities and types of gender expression; ask for (rather than assume) pronouns; all types of yarn and materials\, experience levels\, and portable craft projects are welcome.
URL:https://qlibrary.org/event/queer-threads-6/2024-04-03/1/
LOCATION:Quatrefoil Library: Spirit on Lake Community Room\, 1220 E Lake St\, Minneapolis\, MN\, 55407\, United States
CATEGORIES:Community Club
END:VEVENT
BEGIN:VEVENT
DTSTART;TZID=America/Chicago:20240401T173000
DTEND;TZID=America/Chicago:20240401T183000
DTSTAMP:20260425T104933
CREATED:20240324T163530Z
LAST-MODIFIED:20240324T163530Z
UID:10001394-1711992600-1711996200@qlibrary.org
SUMMARY:Operations Committee Meeting
DESCRIPTION:Monthly Operations Committee meeting. For questions\, contact Tom Nechodomu (Operations Chair) or email operations@quatrefoil.org.
URL:https://qlibrary.org/event/operations-committee-meeting/
LOCATION:Quatrefoil Library\, 1220 East Lake Street\, Minneapolis\, MN\, 55407\, United States
CATEGORIES:Committee Meetings
END:VEVENT
BEGIN:VEVENT
DTSTART;TZID=America/Chicago:20240330T140000
DTEND;TZID=America/Chicago:20240330T160000
DTSTAMP:20260425T104933
CREATED:20240224T145101Z
LAST-MODIFIED:20240224T145101Z
UID:10001265-1711807200-1711814400@qlibrary.org
SUMMARY:Trans Day of Visibility Panel and Social Hour
DESCRIPTION:A panel where MNAAC will bring together speakers from different organizations to speak on the intersections of reproductive justice and trans rights. They will discuss trans issues such as trans organizing\, trans refugees to MN\, seeking gender affirming care\, and connections to the reproductive health movement are what we have now.
URL:https://qlibrary.org/event/trans-day-of-visibility-panel-and-social-hour/
LOCATION:Quatrefoil Library\, 1220 East Lake Street\, Minneapolis\, MN\, 55407\, United States
END:VEVENT
BEGIN:VEVENT
DTSTART;TZID=America/Chicago:20240329T190000
DTEND;TZID=America/Chicago:20240329T210000
DTSTAMP:20260425T104933
CREATED:20240224T151134Z
LAST-MODIFIED:20240224T160023Z
UID:10001266-1711738800-1711746000@qlibrary.org
SUMMARY:Trans Day of Visibility Shabbat potluck
DESCRIPTION:Join J-Pride for a Trans Day of Visibility Shabbat potluck. We’ll be joining together to celebrate trans life\, love\, and community! \nIf you are interested in being part of the service\, by leading a prayer\, sharing a reading\, or through some other manner\, please reach out to Hunter (the J-Pride Program coordinator) at Hwengersky@jfcsmpls.org \nRSVP here: https://forms.gle/Pft9eJdVLCP2BeSWA
URL:https://qlibrary.org/event/trans-day-of-visibility-shabbat-potluck/
LOCATION:Quatrefoil Library\, 1220 East Lake Street\, Minneapolis\, MN\, 55407\, United States
END:VEVENT
BEGIN:VEVENT
DTSTART;VALUE=DATE:20240329
DTEND;VALUE=DATE:20240330
DTSTAMP:20260425T104933
CREATED:20240327T230309Z
LAST-MODIFIED:20240327T230309Z
UID:10001656-1711670400-1711756799@qlibrary.org
SUMMARY:Library Closed
DESCRIPTION:The Library will be closed on this day for a private event. We will be open to patrons again on Saturday at 10am. Thank you
URL:https://qlibrary.org/event/library-closed-4/
LOCATION:Quatrefoil Library\, 1220 East Lake Street\, Minneapolis\, MN\, 55407\, United States
END:VEVENT
BEGIN:VEVENT
DTSTART;TZID=America/Chicago:20240327T190000
DTEND;TZID=America/Chicago:20240327T200000
DTSTAMP:20260425T104933
CREATED:20240120T001553Z
LAST-MODIFIED:20240324T162721Z
UID:10001267-1711566000-1711569600@qlibrary.org
SUMMARY:Twin Cities Queer Transplant Group
DESCRIPTION:The Twin Cities Queer Transplant Group is a new community meetup for folks who have recently relocated to the Twin Cities. Drop by to meet new people\, learn about local LGBTQIA+ resources\, chat\, and share your favorite Twin Cities discoveries! Locals\, partners\, and family welcome. Meetings hosted every 4th Wednesday at Quatrefoil Library. Questions and information requests can be sent to TCTransplants@gmail.com
URL:https://qlibrary.org/event/twin-cities-queer-transplant-group/2024-03-27/
LOCATION:Quatrefoil Library\, 1220 East Lake Street\, Minneapolis\, MN\, 55407\, United States
CATEGORIES:Community Club
END:VEVENT
BEGIN:VEVENT
DTSTART;TZID=America/Chicago:20240325T173000
DTEND;TZID=America/Chicago:20240325T183000
DTSTAMP:20260425T104933
CREATED:20240324T163158Z
LAST-MODIFIED:20240407T163136Z
UID:10001393-1711387800-1711391400@qlibrary.org
SUMMARY:Volunteer Committee Meeting
DESCRIPTION:Our volunteer committee is responsible for recruiting and training volunteers. They also maintain our volunteer schedule\, for operating hours and special events. \nAnyone is welcome to stop in if interested in joining\, or to share constructive ideas. You can also sign up via our volunteer form. \nThis meeting is held in the library space\, with a virtual option available.
URL:https://qlibrary.org/event/volunteer-committee-meeting-3/2024-03-25/
LOCATION:Quatrefoil Library\, 1220 East Lake Street\, Minneapolis\, MN\, 55407\, United States
CATEGORIES:Committee Meetings
END:VEVENT
BEGIN:VEVENT
DTSTART;TZID=America/Chicago:20240324T130000
DTEND;TZID=America/Chicago:20240324T150000
DTSTAMP:20260425T104933
CREATED:20240110T193410Z
LAST-MODIFIED:20240114T224609Z
UID:10001037-1711285200-1711292400@qlibrary.org
SUMMARY:Transgender Book Club
DESCRIPTION:The Transgender Book Club meets the fourth Sunday of the month from 1-2pm to discuss books by and about trans people. We welcome people of all genders\, orientations\, and backgrounds! \n2024 Schedule: \n1/28 Nimona by ND Stevenson\n2/25 Freshwater by Akwaeke Emezi\n3/24 Hell Followed With Us by Andrew Joseph White\n4/28 Nobody Needs to Know by Pidgeon Pagonis\n5/26 The Lamb Will Slaughter the Lion by Margaret Killjoy\n6/23 Summer Fun by Jeanne Thornton\n7/28 Drag Me Up by RM Virtues\n8/25 How Far the Light Reaches by Sabrina Imbler\n9/22 Confluence by Nyri Bakkalian\n10/27 Mimosa by Archie Bongiovanni\n11/24 Bye Bye Binary by Eric Geron \nFind us on Facebook: “Transgender Book Club at Quatrefoil Library”\nFor more information\, email Kai at kaigottschalk101@gmail.com.
URL:https://qlibrary.org/event/transgender-book-club-5/2024-03-24/
LOCATION:Quatrefoil Library\, 1220 East Lake Street\, Minneapolis\, MN\, 55407\, United States
END:VEVENT
BEGIN:VEVENT
DTSTART;TZID=America/Chicago:20240323T131500
DTEND;TZID=America/Chicago:20240323T151500
DTSTAMP:20260425T104933
CREATED:20240114T225209Z
LAST-MODIFIED:20240114T225423Z
UID:10001117-1711199700-1711206900@qlibrary.org
SUMMARY:Prime Timers Bookclub
DESCRIPTION:NOTE THE CHANGE IN DATE FOR THIS MONTH’S BOOKCLUB \nThis monthly book club is a subgroup of the Twin Cities Prime Timers Club\, which is affiliated with the state and national organizations. It meets each third Saturday of the month at Quatrefoil from 1:15pm – 3:15pm. \nBook of the month: Fellow Travelers by Thomas Mallon
URL:https://qlibrary.org/event/prime-timers-bookclub-4-2-3/
LOCATION:Quatrefoil Library\, 1220 East Lake Street\, Minneapolis\, MN\, 55407\, United States
END:VEVENT
BEGIN:VEVENT
DTSTART;TZID=America/Chicago:20240320T190000
DTEND;TZID=America/Chicago:20240320T210000
DTSTAMP:20260425T104933
CREATED:20240216T011518Z
LAST-MODIFIED:20240216T011519Z
UID:10001201-1710961200-1710968400@qlibrary.org
SUMMARY:Twin Cities Lesbian Fiction Book Club
DESCRIPTION:Virtual Book Club that meets online via Zoom – please direct all questions and requests for the Zoom link to jchandlerauthor@gmail.com \nYou are welcome to attend even if you didn’t read the book\, or didn’t like it. We enjoy staying in touch with our friends! \nBook of the month and description: \nMarch – FUZE by Stacy Lynn Miller/Brian Shea \nMarch Book \nSpecial Agent Lexi Mills chases the criminal who killed her partner in this thrilling novel of grit\, betrayal\, and retribution. \nAfter a lifetime of fighting to get what she wants\, Lexi Mills has finally made it into the elite ATF Special Response Team. But when a wrong move during a bomb disposal operation takes half her leg―and her partner’s life―Lexi must shoulder the guilt alone. \nNow there’s only one way to put the past behind her: she will hunt down the man who killed her partner. \nWhen Lexi is sent to a border town to investigate a tragic explosion\, something seems off\, and it’s not just the mysterious local detective on the case\, Noah Black. The deeper Lexi and Noah dig\, the more they uncover a conspiracy reminiscent of the same bomb blast that changed her life. \nAnd when the case gives Lexi a chance to track down her partner’s killer\, she’s torn between following orders and chasing revenge… \nThe first novel in a highly-anticipated collaborative series\, FUZE is a propulsive action thriller with an indomitable new heroine\, perfect for fans of Lee Child and David Baldacci. \nGet the Paperback book from Bella. But…sadly this title is NOT available from Bella. Bella Books is always the TC Lesfic’s #1 book source choice . Bella books is an independent lesbian-owned\, lesbian run\, and needs our support!Order from Amazon Or request it at your local library if they don’t have it.Or order from your (or\, really mine and Judy’s) favorite bookstore! Once Upon a Crime is a fantastic\, queer-owned Indie bookstore. While they specialize in mysteries\, Devin\, the coolest boss ever\, can order anything and ship it if you don’t want to make the trip into Mpls. Also\, if you’re looking for queer/lesbian etc mysteries\, she’s your numero uno resource!  \n  \n 
URL:https://qlibrary.org/event/twin-cities-lesbian-fiction-book-club-4-3/
LOCATION:Online Events
CATEGORIES:Book Club
END:VEVENT
BEGIN:VEVENT
DTSTART;TZID=America/Chicago:20240320T190000
DTEND;TZID=America/Chicago:20240320T210000
DTSTAMP:20260425T104933
CREATED:20240114T181948Z
LAST-MODIFIED:20240324T164415Z
UID:10001533-1710961200-1710968400@qlibrary.org
SUMMARY:Queer Threads
DESCRIPTION:Queer threads: a weekly intergenerational craft night for LGBTQ people of all genders \nwhat: a weekly craft night for knitting\, crochet\, embroidery\, mending\, quilting\, and other portable crafts \nwhy: find community and camaraderie with other LGBTQ crafters \nwho: for all ages and genders. Kids are welcome\, but childcare is not provided. \nwhere: Quatrefoil Library at 1220 E Lake St Minneapolis. \nwhen: Wednesday nights from 7-9 pm \naccessibility: please wear a mask. \nhelp us cultivate a welcoming group: crafting is for all gender identities and types of gender expression; ask for (rather than assume) pronouns; all types of yarn and materials\, experience levels\, and portable craft projects are welcome.
URL:https://qlibrary.org/event/queer-threads-4/2024-03-20/
LOCATION:Quatrefoil Library\, 1220 East Lake Street\, Minneapolis\, MN\, 55407\, United States
CATEGORIES:Community Club
END:VEVENT
BEGIN:VEVENT
DTSTART;TZID=America/Chicago:20240317T130000
DTEND;TZID=America/Chicago:20240317T160000
DTSTAMP:20260425T104933
CREATED:20231118T021214Z
LAST-MODIFIED:20231118T021255Z
UID:10000860-1710680400-1710691200@qlibrary.org
SUMMARY:Prime Timers Dominoes
DESCRIPTION:Join the Prime Timers for an afternoon of dominoes. Feel free to bring a snack to share and your dominoes set\, though not required.
URL:https://qlibrary.org/event/prime-timers-dominoes-5-2/2024-03-17/
LOCATION:MN
END:VEVENT
BEGIN:VEVENT
DTSTART;TZID=America/Chicago:20240313T190000
DTEND;TZID=America/Chicago:20240313T200000
DTSTAMP:20260425T104933
CREATED:20231214T010600Z
LAST-MODIFIED:20231214T010737Z
UID:10000922-1710356400-1710360000@qlibrary.org
SUMMARY:Moon Palace Queer Book Club
DESCRIPTION:Event by Moon Palace Books \nPublic  ·  Join us for Queer Book Club every second Wednesday from 7-8pm at Quatrefoil Library\, 1220 East Lake Street\, Minneapolis\, MN 55407! (Please note that in June\, July\, and August we will only meet at Quatrefoil if it rains. Otherwise we will meet at Brackett Park.)
URL:https://qlibrary.org/event/moon-palace-queer-book-club-2/2024-03-13/
LOCATION:Quatrefoil Library\, 1220 East Lake Street\, Minneapolis\, MN\, 55407\, United States
END:VEVENT
BEGIN:VEVENT
DTSTART;TZID=America/Chicago:20240225T130000
DTEND;TZID=America/Chicago:20240225T150000
DTSTAMP:20260425T104933
CREATED:20240110T193410Z
LAST-MODIFIED:20240114T224609Z
UID:10001036-1708866000-1708873200@qlibrary.org
SUMMARY:Transgender Book Club
DESCRIPTION:The Transgender Book Club meets the fourth Sunday of the month from 1-2pm to discuss books by and about trans people. We welcome people of all genders\, orientations\, and backgrounds! \n2024 Schedule: \n1/28 Nimona by ND Stevenson\n2/25 Freshwater by Akwaeke Emezi\n3/24 Hell Followed With Us by Andrew Joseph White\n4/28 Nobody Needs to Know by Pidgeon Pagonis\n5/26 The Lamb Will Slaughter the Lion by Margaret Killjoy\n6/23 Summer Fun by Jeanne Thornton\n7/28 Drag Me Up by RM Virtues\n8/25 How Far the Light Reaches by Sabrina Imbler\n9/22 Confluence by Nyri Bakkalian\n10/27 Mimosa by Archie Bongiovanni\n11/24 Bye Bye Binary by Eric Geron \nFind us on Facebook: “Transgender Book Club at Quatrefoil Library”\nFor more information\, email Kai at kaigottschalk101@gmail.com.
URL:https://qlibrary.org/event/transgender-book-club-5/2024-02-25/
LOCATION:Quatrefoil Library\, 1220 East Lake Street\, Minneapolis\, MN\, 55407\, United States
END:VEVENT
BEGIN:VEVENT
DTSTART;TZID=America/Chicago:20240224T140000
DTEND;TZID=America/Chicago:20240224T150000
DTSTAMP:20260425T104933
CREATED:20240210T195811Z
LAST-MODIFIED:20240210T195916Z
UID:10001264-1708783200-1708786800@qlibrary.org
SUMMARY:Community Control of the Police Teach In
DESCRIPTION:Celebrate Black History Month with Us by learning about community control of the police and black self determination. Contact: https://sites.google.com/view/tcc4j
URL:https://qlibrary.org/event/community-control-of-the-police-teach-in/
LOCATION:Quatrefoil Library\, 1220 East Lake Street\, Minneapolis\, MN\, 55407\, United States
END:VEVENT
END:VCALENDAR