BEGIN:VCALENDAR
VERSION:2.0
PRODID:-//Quatrefoil Library - ECPv6.15.20//NONSGML v1.0//EN
CALSCALE:GREGORIAN
METHOD:PUBLISH
X-WR-CALNAME:Quatrefoil Library
X-ORIGINAL-URL:https://qlibrary.org
X-WR-CALDESC:Events for Quatrefoil Library
REFRESH-INTERVAL;VALUE=DURATION:PT1H
X-Robots-Tag:noindex
X-PUBLISHED-TTL:PT1H
BEGIN:VTIMEZONE
TZID:America/Chicago
BEGIN:DAYLIGHT
TZOFFSETFROM:-0600
TZOFFSETTO:-0500
TZNAME:CDT
DTSTART:20240310T080000
END:DAYLIGHT
BEGIN:STANDARD
TZOFFSETFROM:-0500
TZOFFSETTO:-0600
TZNAME:CST
DTSTART:20241103T070000
END:STANDARD
BEGIN:DAYLIGHT
TZOFFSETFROM:-0600
TZOFFSETTO:-0500
TZNAME:CDT
DTSTART:20250309T080000
END:DAYLIGHT
BEGIN:STANDARD
TZOFFSETFROM:-0500
TZOFFSETTO:-0600
TZNAME:CST
DTSTART:20251102T070000
END:STANDARD
BEGIN:DAYLIGHT
TZOFFSETFROM:-0600
TZOFFSETTO:-0500
TZNAME:CDT
DTSTART:20260308T080000
END:DAYLIGHT
BEGIN:STANDARD
TZOFFSETFROM:-0500
TZOFFSETTO:-0600
TZNAME:CST
DTSTART:20261101T070000
END:STANDARD
END:VTIMEZONE
BEGIN:VEVENT
DTSTART;TZID=America/Chicago:20250603T190000
DTEND;TZID=America/Chicago:20250603T203000
DTSTAMP:20260424T074940
CREATED:20250527T225421Z
LAST-MODIFIED:20250527T225421Z
UID:10003365-1748977200-1748982600@qlibrary.org
SUMMARY:Technology Committee Meeting
DESCRIPTION:The tech committee meets hybrid on the first Tuesday of each month. Contact technology@quatrefoil.org if you are interested in joining!
URL:https://qlibrary.org/event/technology-committee-meeting/2025-06-03/
LOCATION:Quatrefoil Library\, 1220 East Lake Street\, Minneapolis\, MN\, 55407\, United States
CATEGORIES:Committee Meetings
END:VEVENT
BEGIN:VEVENT
DTSTART;TZID=America/Chicago:20250601T133000
DTEND;TZID=America/Chicago:20250601T153000
DTSTAMP:20260424T074940
CREATED:20241109T190017Z
LAST-MODIFIED:20241109T190017Z
UID:10002611-1748784600-1748791800@qlibrary.org
SUMMARY:Twin Cities Aroace Solidarity Group
DESCRIPTION:Twin Cities Aroace Solidarity group is a joyful\, embracing 21+ creative community for progressive aroace-spec (aromantic and/or asexual spectrum) and queer allies to share mutual aid and friendship; creative/artistic exchange; and learning\, peer education & guidance across gender\, age\, income level\, ethnicity & other lines of social difference. We gather at Quatrefoil monthly to socialize and discuss queer media.\n\n\nPlease email or text group organizer Amy Brooks at abbrooks77@icloud.com | (937) 901-9205
URL:https://qlibrary.org/event/twin-cities-aroace-solidarity-group/2025-06-01/
LOCATION:Quatrefoil Library\, 1220 East Lake Street\, Minneapolis\, MN\, 55407\, United States
CATEGORIES:Community Club
END:VEVENT
BEGIN:VEVENT
DTSTART;TZID=America/Chicago:20250601T110000
DTEND;TZID=America/Chicago:20250601T130000
DTSTAMP:20260424T074940
CREATED:20241028T215403Z
LAST-MODIFIED:20241028T215403Z
UID:10002399-1748775600-1748782800@qlibrary.org
SUMMARY:Rainbow Reads
DESCRIPTION:Queer reading party (not a book club) that meets in the Library on the first Sunday of every month. This group allows people to share what they have been reading and interested in\, rather than discuss one book everyone has read.
URL:https://qlibrary.org/event/rainbow-reads-2/2025-06-01/
LOCATION:Quatrefoil Library\, 1220 East Lake Street\, Minneapolis\, MN\, 55407\, United States
CATEGORIES:Book Club
END:VEVENT
BEGIN:VEVENT
DTSTART;TZID=America/Chicago:20250531T130000
DTEND;TZID=America/Chicago:20250531T150000
DTSTAMP:20260424T074940
CREATED:20250411T004207Z
LAST-MODIFIED:20250411T004409Z
UID:10003354-1748696400-1748703600@qlibrary.org
SUMMARY:Not My First Pandemic: Writing Workshop
DESCRIPTION:Author and poet Michael Kiesow Moore will present a writing workshop at Quatrefoil on the topic of surviving the AIDS Crisis. The Minnesota State Arts Board funded Michael to develop a manuscript about his experiences during the AIDS crisis called “Not My First Pandemic.”  Michael is gathering LGBTQA stories about our experiences of living through both AIDS and the Covid pandemics. Participants will reflect on these events through guided writing prompts\, with the option to share their stories. With permission\, collected stories will be preserved in the Tretter LGBTQ Archives at the University of Minnesota.  \n \nFor more on Michael Kiesow Moore\, see https://michaelkiesowmoore.org/
URL:https://qlibrary.org/event/not-my-first-pandemic-writing-workshop/
LOCATION:Quatrefoil Library\, 1220 East Lake Street\, Minneapolis\, MN\, 55407\, United States
END:VEVENT
BEGIN:VEVENT
DTSTART;TZID=America/Chicago:20250531T100000
DTEND;TZID=America/Chicago:20250531T120000
DTSTAMP:20260424T074940
CREATED:20250320T212201Z
LAST-MODIFIED:20250422T012526Z
UID:10003289-1748685600-1748692800@qlibrary.org
SUMMARY:Telling Your Story In Your Cover Letter
DESCRIPTION:Join Quatrefoil Library and expert Katie Breslin to talk about how to tell your story in a cover letter. \n  \nIn this presentation\, Katie will help you blend practical career strategies with values-driven storytelling to craft authentic\, persuasive job applications that reflect your skills and aspirations. \n  \nEnjoy the presentation and participate in a Q&A\, no RSVP required. We hope to see you there! \nThis is the first event in Quatrefoil Library’s Investing in Us Event Series. \n  \nKatie Breslin Bio: \nKatie Breslin has had many different careers – an organizer\, a library assistant\, an event planner and as a career coach at a liberal arts college. In each of her career choices\, one aspect has been constant: a deep appreciation for helping people tell their stories. Katie has guided students and professionals through career transitions\, job searches\, and graduate school applications\, coaching over 100 students at Earlham College and leading professional development initiatives. With experience in nonprofit management\, advocacy\, and communications—including coordinating national lobbying efforts and mentoring young professionals—Katie understands how to translate experiences into compelling career narratives. \nHolding a B.A. in Political Science from Trinity Washington University\, Katie blends practical career strategies with values-driven storytelling. Her workshop\, Tell Your Story Through Your Cover Letter\, will help job seekers craft authentic\, persuasive applications that reflect their skills and aspirations.
URL:https://qlibrary.org/event/telling-your-story-in-your-cover-letter/
LOCATION:Quatrefoil Library\, 1220 East Lake Street\, Minneapolis\, MN\, 55407\, United States
CATEGORIES:Event Series
END:VEVENT
BEGIN:VEVENT
DTSTART;TZID=America/Chicago:20250528T190000
DTEND;TZID=America/Chicago:20250528T210000
DTSTAMP:20260424T074940
CREATED:20250421T222240Z
LAST-MODIFIED:20250421T222240Z
UID:10001281-1748458800-1748466000@qlibrary.org
SUMMARY:OFFSITE - Twin Cities Queer Transplant Group
DESCRIPTION:NOTE: The Twin Cities Queer Transplant Group is currently meeting at the Pride Cultural Arts Center. \nThe Twin Cities Queer Transplant Group is a new community meetup for folks who have recently relocated to the Twin Cities. Drop by to meet new people\, learn about local LGBTQIA+ resources\, chat\, and share your favorite Twin Cities discoveries! Locals\, partners\, and family welcome. Meetings hosted every 4th Wednesday at PCAC. \n  \nQuestions and information requests can be sent to TCTransplants@gmail.com
URL:https://qlibrary.org/event/twin-cities-queer-transplant-group-2-2/2025-05-28/
LOCATION:Pride Cultural Arts Center\, 1201 Harmon Pl Ste 104\, Minneapolis\, MN\, 55403
CATEGORIES:Community Club
END:VEVENT
BEGIN:VEVENT
DTSTART;TZID=America/Chicago:20250526T183000
DTEND;TZID=America/Chicago:20250526T200000
DTSTAMP:20260424T074940
CREATED:20240923T150102Z
LAST-MODIFIED:20240923T150102Z
UID:10002276-1748284200-1748289600@qlibrary.org
SUMMARY:Programming Committee Meeting
DESCRIPTION:Regular meeting of the Quatrefoil Programming Committee. Committee meets every second and fourth Monday in the library (with a virtual option available for committee members) from 6:30 – 8:00pm. Reach out to programming@quatrefoil.org if you are interested in joining.
URL:https://qlibrary.org/event/programming-committee-meeting-8/2025-05-26/
LOCATION:Quatrefoil Library\, 1220 East Lake Street\, Minneapolis\, MN\, 55407\, United States
CATEGORIES:Committee Meetings
END:VEVENT
BEGIN:VEVENT
DTSTART;TZID=America/Chicago:20250526T173000
DTEND;TZID=America/Chicago:20250526T183000
DTSTAMP:20260424T074940
CREATED:20240324T163158Z
LAST-MODIFIED:20240407T163136Z
UID:10001737-1748280600-1748284200@qlibrary.org
SUMMARY:Volunteer Committee Meeting
DESCRIPTION:Our volunteer committee is responsible for recruiting and training volunteers. They also maintain our volunteer schedule\, for operating hours and special events. \nAnyone is welcome to stop in if interested in joining\, or to share constructive ideas. You can also sign up via our volunteer form. \nThis meeting is held in the library space\, with a virtual option available.
URL:https://qlibrary.org/event/volunteer-committee-meeting-3/2025-05-26/
LOCATION:Quatrefoil Library\, 1220 East Lake Street\, Minneapolis\, MN\, 55407\, United States
CATEGORIES:Committee Meetings
END:VEVENT
BEGIN:VEVENT
DTSTART;TZID=America/Chicago:20250525T130000
DTEND;TZID=America/Chicago:20250525T140000
DTSTAMP:20260424T074940
CREATED:20250210T235432Z
LAST-MODIFIED:20250211T005738Z
UID:10003206-1748178000-1748181600@qlibrary.org
SUMMARY:Transgender Book Club
DESCRIPTION:The Transgender Book Club meets the fourth Sunday of the month from 1-2pm to discuss books by and about trans people. We welcome people of all genders\, orientations\, and backgrounds! \n2025 Meeting Calendar: \n1/26 Bitter by Akwaeke Emezi2/23 Lunar Boy by Jes and Cin Wibowo3/23 Bluff by Danez Smith4/27 Pageboy by Elliot Page5/25 Girlmode by Magdalene Visaggio6/22 We Won’t Be Here Tomorrow by Margaret Killjoy7/27 A Shore Thing by Joanna Lowell8/24 The Dawnhounds by Sascha Stronach9/28 Just Happy to Be Here by Naomi Kanakia10/26 Dead Collections by Isaac Fellman11/23 Marley’s Pride by Joelle Retener
URL:https://qlibrary.org/event/transgender-book-club-6-2/2025-05-25/
LOCATION:Quatrefoil Library\, 1220 East Lake Street\, Minneapolis\, MN\, 55407\, United States
CATEGORIES:Book Club
END:VEVENT
BEGIN:VEVENT
DTSTART;TZID=America/Chicago:20250524T183000
DTEND;TZID=America/Chicago:20250524T213000
DTSTAMP:20260424T074940
CREATED:20241028T215739Z
LAST-MODIFIED:20241028T215739Z
UID:10002519-1748111400-1748122200@qlibrary.org
SUMMARY:Quatrefoil Game Night
DESCRIPTION:
URL:https://qlibrary.org/event/quatrefoil-game-night-2/2025-05-24/
LOCATION:Quatrefoil Library\, 1220 East Lake Street\, Minneapolis\, MN\, 55407\, United States
CATEGORIES:Community Club
END:VEVENT
BEGIN:VEVENT
DTSTART;TZID=America/Chicago:20250522T190000
DTEND;TZID=America/Chicago:20250522T210000
DTSTAMP:20260424T074940
CREATED:20250130T231559Z
LAST-MODIFIED:20250130T233251Z
UID:10002906-1747940400-1747947600@qlibrary.org
SUMMARY:BiblioFemmes Book Club
DESCRIPTION:BiblioFemmes is a group of queer femmes who love books. We have a monthly book club at Quatrefoil and other events throughout the month\, including pottery making\, game nights\, social hours\, and more. We meet regularly with the express intention of creating a community\, so if you are looking for a book club AND some new friends\, we might be the right fit for you.  \n\n\n\nEveryone who describes themselves as a femme (small doses count) and who has done the reading is welcome to attend a book club (RSVPs appreciated but not required). If you are interested in the group\, but want to meet without homework\, please reach out to the email address listed below and we’ll add you to our Discord server and mailing list. \n\n\n\nContact: bibliofemmes.mn@gmail.com
URL:https://qlibrary.org/event/bibliofemmes-book-club/2025-05-22/
END:VEVENT
BEGIN:VEVENT
DTSTART;TZID=America/Chicago:20250521T190000
DTEND;TZID=America/Chicago:20250521T210000
DTSTAMP:20260424T074940
CREATED:20250124T021406Z
LAST-MODIFIED:20250211T005424Z
UID:10001215-1747854000-1747861200@qlibrary.org
SUMMARY:Twin Cities Lesbian Fiction Book Club (Online)
DESCRIPTION:Virtual Book Club that meets online via Zoom – please direct all questions and requests for the Zoom link to jchandlerauthor@gmail.com \nYou are welcome to attend even if you didn’t read the book\, or didn’t like it. We enjoy staying in touch with our friends! \nBook of the month: \n2025 \nJanuary—CHRISTMASSED by Blythe H. Warren \nFebruary—DEVIL’S BREATH by Anna Paxton \nMarch—JONES by Gerri Hill \nApril—HALF IN by Felice Cohen \nMay—PULL OF THE STARS by Emma Donoghue \nJune—FALLS FROM GRACE by Ruby Landers \nJuly—LAST CHANCE CHICAGO by Diana DiGangi \nAugust—SCORCHED GRACE by Margo Douaihy \nSeptember—WATERLOGGED by Nance Sparks \nOctober—THE SAFEKEEP by Yael Van der Wouden (in hardcover now\, but will be out in paperback May 27th)
URL:https://qlibrary.org/event/twin-cities-lesbian-fiction-book-club-5/2025-05-21/
LOCATION:Online Events
CATEGORIES:Book Club,Online Events
END:VEVENT
BEGIN:VEVENT
DTSTART;TZID=America/Chicago:20250521T190000
DTEND;TZID=America/Chicago:20250521T210000
DTSTAMP:20260424T074940
CREATED:20240114T181948Z
LAST-MODIFIED:20240324T164415Z
UID:10001547-1747854000-1747861200@qlibrary.org
SUMMARY:Queer Threads
DESCRIPTION:Queer threads: a weekly intergenerational craft night for LGBTQ people of all genders \nwhat: a weekly craft night for knitting\, crochet\, embroidery\, mending\, quilting\, and other portable crafts \nwhy: find community and camaraderie with other LGBTQ crafters \nwho: for all ages and genders. Kids are welcome\, but childcare is not provided. \nwhere: Quatrefoil Library at 1220 E Lake St Minneapolis. \nwhen: Wednesday nights from 7-9 pm \naccessibility: please wear a mask. \nhelp us cultivate a welcoming group: crafting is for all gender identities and types of gender expression; ask for (rather than assume) pronouns; all types of yarn and materials\, experience levels\, and portable craft projects are welcome.
URL:https://qlibrary.org/event/queer-threads-4/2025-05-21/
LOCATION:Quatrefoil Library\, 1220 East Lake Street\, Minneapolis\, MN\, 55407\, United States
CATEGORIES:Community Club
END:VEVENT
BEGIN:VEVENT
DTSTART;TZID=America/Chicago:20250518T130000
DTEND;TZID=America/Chicago:20250518T160000
DTSTAMP:20260424T074940
CREATED:20231118T021214Z
LAST-MODIFIED:20231118T021255Z
UID:10000874-1747573200-1747584000@qlibrary.org
SUMMARY:Prime Timers Dominoes
DESCRIPTION:Join the Prime Timers for an afternoon of dominoes. Feel free to bring a snack to share and your dominoes set\, though not required.
URL:https://qlibrary.org/event/prime-timers-dominoes-5-2/2025-05-18/
END:VEVENT
BEGIN:VEVENT
DTSTART;TZID=America/Chicago:20250517T131500
DTEND;TZID=America/Chicago:20250517T151500
DTSTAMP:20260424T074940
CREATED:20250123T234922Z
LAST-MODIFIED:20250123T234922Z
UID:10002806-1747487700-1747494900@qlibrary.org
SUMMARY:Prime Timers Book Club
DESCRIPTION:This monthly book club is a subgroup of the Twin Cities Prime Timers Club\, which is affiliated with the state and national organizations. It meets each third Saturday of the month at Quatrefoil from 1:15pm – 3:15pm. \nMarch Book of the Month: Shortest Way Home By Peter Buttigieg
URL:https://qlibrary.org/event/prime-timers-book-club-2/2025-05-17/
LOCATION:Quatrefoil Library\, 1220 East Lake Street\, Minneapolis\, MN\, 55407\, United States
CATEGORIES:Book Club
END:VEVENT
BEGIN:VEVENT
DTSTART;TZID=America/Chicago:20250517T131500
DTEND;TZID=America/Chicago:20250517T151500
DTSTAMP:20260424T074940
CREATED:20240114T221451Z
LAST-MODIFIED:20240114T225022Z
UID:10001131-1747487700-1747494900@qlibrary.org
SUMMARY:Prime Timers Bookclub
DESCRIPTION:This monthly book club is a subgroup of the Twin Cities Prime Timers Club\, which is affiliated with the state and national organizations. It meets each third Saturday of the month at Quatrefoil from 1:15pm – 3:15pm. \nBook of the month:
URL:https://qlibrary.org/event/prime-timers-bookclub-4-2/2025-05-17/
LOCATION:Quatrefoil Library\, 1220 East Lake Street\, Minneapolis\, MN\, 55407\, United States
END:VEVENT
BEGIN:VEVENT
DTSTART;TZID=America/Chicago:20250517T103000
DTEND;TZID=America/Chicago:20250517T113000
DTSTAMP:20260424T074940
CREATED:20250114T002115Z
LAST-MODIFIED:20250211T010517Z
UID:10002967-1747477800-1747481400@qlibrary.org
SUMMARY:Knotty Recovery
DESCRIPTION:Knotty Recovery is a 12-step group who shares their experience\, strength\, and hope with each other to solve their common problems related to addiction. Meeting on the 1st & 3rd Saturday of every month\, this is a space where you can openly to discuss sexuality and kink in recovery and the format is similar to a traditional 12 step meeting. The only requirement for attendance is a desire to quit whatever addictive substance or behavior is affecting your life.
URL:https://qlibrary.org/event/knotty-recovery-2/2025-05-17/
LOCATION:Quatrefoil Library\, 1220 East Lake Street\, Minneapolis\, MN\, 55407\, United States
CATEGORIES:Community Club
END:VEVENT
BEGIN:VEVENT
DTSTART;TZID=America/Chicago:20250514T190000
DTEND;TZID=America/Chicago:20250514T200000
DTSTAMP:20260424T074940
CREATED:20250114T004229Z
LAST-MODIFIED:20250114T004622Z
UID:10000936-1747249200-1747252800@qlibrary.org
SUMMARY:Moon Palace Queer Book Club
DESCRIPTION:Event by Moon Palace Books \nPublic  ·  Join us for Queer Book Club every second Wednesday from 7-8pm at Quatrefoil Library\, 1220 East Lake Street\, Minneapolis\, MN 55407! (Please note that in the summer we will only meet at Quatrefoil if it rains. Otherwise we will meet at Brackett Park.) \n  \n\n\n\n\n\n\n\nQueer Book Club April\n\n\n\nWednesday Apr 9th\, 2025\n\n\n7:00 PM\n\n\n–\n\n\n8:00 PM\n\n\n Quatrefoil Library\, 1220 East Lake Street\, Minneapolis\, MN 55407\n\n\n\n\n\n\n\nJoin us for Queer Book Club on Wednesday\, April 9th\, at 7:00pm at Quatrefoil Library\, 1220 East Lake Street\, Minneapolis\, MN 55407. We’ll be discussing Blood Orange by Mx. Yaffa. Anyone is welcome to join whether you’ve read the whole book or just skimmed a few pages. We meet the second Wednesdays of every month! \n“Blood Orange” is a highly emotional\, important and timely poetry collection by Mx. Yaffa (They/She)\, a trans Muslim displaced Indigenous Palestinian. Their writings probe the yearning for home\, belonging\, mental health\, queerness\, transness\, and other dimensions of marginalization while nurturing dreams of utopia against the background of ongoing displacement and genocide of indigenous Palestinians. \nThis highly charged and cathartic body of work confronts the anguish and loss inflicted by genocide but also embraces a vision of a world free of it. The poems within “Blood Orange” were a means of working through and processing the grief caused by recent events and serve as an act of protest and defiance against settler colonialism as a whole. \n\n\n\n\n\n\n\n\n\n\n\nBuy Books
URL:https://qlibrary.org/event/moon-palace-queer-book-club-2-2-2-2/2025-05-14/
LOCATION:Quatrefoil Library\, 1220 East Lake Street\, Minneapolis\, MN\, 55407\, United States
CATEGORIES:Book Club
END:VEVENT
BEGIN:VEVENT
DTSTART;TZID=America/Chicago:20250513T190000
DTEND;TZID=America/Chicago:20250513T203000
DTSTAMP:20260424T074940
CREATED:20250211T005150Z
LAST-MODIFIED:20250211T005150Z
UID:10003145-1747162800-1747168200@qlibrary.org
SUMMARY:North Country Gaylaxians Book Club (Online)
DESCRIPTION:The meeting of the Twin Cities chapter of the Gaylactic Network\, an organization for the GLBT fan community\, whether it be science fiction\, fantasy\, horror\, comics\, or gaming. We read and discuss books of speculative fiction with GLBT or similar content or by GLBT authors. We meet the second Tuesday of the month at 7:00 pm on Zoom. Also\, monthly gaming get-togethers in a private home. \n  \nInfo on events can be found on their Facebook page:    https://www.facebook.com/groups/NorthCountryGaylaxians/
URL:https://qlibrary.org/event/north-country-gaylaxians-book-club-online/2025-05-13/
LOCATION:Quatrefoil Library\, 1220 East Lake Street\, Minneapolis\, MN\, 55407\, United States
CATEGORIES:Book Club,Online Events
END:VEVENT
BEGIN:VEVENT
DTSTART;TZID=America/Chicago:20250512T183000
DTEND;TZID=America/Chicago:20250512T200000
DTSTAMP:20260424T074940
CREATED:20250211T004600Z
LAST-MODIFIED:20250211T004600Z
UID:10003085-1747074600-1747080000@qlibrary.org
SUMMARY:Programming Committee Meeting
DESCRIPTION:Regular meeting of the Quatrefoil Programming Committee. Committee meets every second and fourth Monday in the library (with a virtual option available for committee members) from 6:30 – 8:00pm. Reach out to programming@quatrefoil.org if you are interested in joining.
URL:https://qlibrary.org/event/programming-committee-meeting-6-2-2/2025-05-12/
LOCATION:Quatrefoil Library\, 1220 East Lake Street\, Minneapolis\, MN\, 55407\, United States
CATEGORIES:Committee Meetings
END:VEVENT
BEGIN:VEVENT
DTSTART;TZID=America/Chicago:20250510T183000
DTEND;TZID=America/Chicago:20250510T213000
DTSTAMP:20260424T074940
CREATED:20241028T215649Z
LAST-MODIFIED:20241028T220924Z
UID:10002459-1746901800-1746912600@qlibrary.org
SUMMARY:Quatrefoil Game Night
DESCRIPTION:
URL:https://qlibrary.org/event/quatrefoil-game-night/2025-05-10/
LOCATION:Quatrefoil Library\, 1220 East Lake Street\, Minneapolis\, MN\, 55407\, United States
CATEGORIES:Community Club
END:VEVENT
BEGIN:VEVENT
DTSTART;TZID=America/Chicago:20250510T120000
DTEND;TZID=America/Chicago:20250510T140000
DTSTAMP:20260424T074940
CREATED:20250130T234137Z
LAST-MODIFIED:20250130T234630Z
UID:10003026-1746878400-1746885600@qlibrary.org
SUMMARY:Radical Queer Tarot Reading Group
DESCRIPTION:Radical Queer Tarot Reading Group is a space for novice to expert tarot readers to gather in non-hierarchical community to explore applying the wisdom of the tarot to apocalyptic times. We’ll focus on reading BIPOC/Queer/Leftist/Radical/Anti-Capitalist authors of tarot interpretation\, discussing what we’re learning\, & doing tarot spreads together to experience & interpret our new ideas. From tarot-curious to tarot master — if this offering speaks to you\, please join us. Contact radicalqueertarotreadinggroup@gmail.com for more information.
URL:https://qlibrary.org/event/radical-queer-tarot-reading-group/2025-05-10/
LOCATION:Quatrefoil Library\, 1220 East Lake Street\, Minneapolis\, MN\, 55407\, United States
CATEGORIES:Community Club
END:VEVENT
BEGIN:VEVENT
DTSTART;TZID=America/Chicago:20250507T190000
DTEND;TZID=America/Chicago:20250507T210000
DTSTAMP:20260424T074940
CREATED:20240324T164527Z
LAST-MODIFIED:20240324T164545Z
UID:10001608-1746644400-1746651600@qlibrary.org
SUMMARY:Queer Threads
DESCRIPTION:Queer threads: a weekly intergenerational craft night for LGBTQ people of all genders \nwhat: a weekly craft night for knitting\, crochet\, embroidery\, mending\, quilting\, and other portable crafts \nwhy: find community and camaraderie with other LGBTQ crafters \nwho: for all ages and genders. Kids are welcome\, but childcare is not provided. \nwhere: Quatrefoil Library at 1220 E Lake St Minneapolis. \nwhen: 1st and 3rd Wednesday nights from 7-9 pm \naccessibility: please wear a mask. \nhelp us cultivate a welcoming group: crafting is for all gender identities and types of gender expression; ask for (rather than assume) pronouns; all types of yarn and materials\, experience levels\, and portable craft projects are welcome.
URL:https://qlibrary.org/event/queer-threads-6/2025-05-07/
LOCATION:Quatrefoil Library: Spirit on Lake Community Room\, 1220 E Lake St\, Minneapolis\, MN\, 55407\, United States
CATEGORIES:Community Club
END:VEVENT
BEGIN:VEVENT
DTSTART;TZID=America/Chicago:20250504T133000
DTEND;TZID=America/Chicago:20250504T153000
DTSTAMP:20260424T074940
CREATED:20250421T221638Z
LAST-MODIFIED:20250421T221639Z
UID:10002610-1746365400-1746372600@qlibrary.org
SUMMARY:CANCELLED: Twin Cities Aroace Solidarity Group
DESCRIPTION:This event is cancelled for May 4th\, they will be back to their normal schedule next month.\n\nTwin Cities Aroace Solidarity group is a joyful\, embracing 21+ creative community for progressive aroace-spec (aromantic and/or asexual spectrum) and queer allies to share mutual aid and friendship; creative/artistic exchange; and learning\, peer education & guidance across gender\, age\, income level\, ethnicity & other lines of social difference. We gather at Quatrefoil monthly to socialize and discuss queer media.\n\n\nPlease email or text group organizer Amy Brooks at abbrooks77@icloud.com | (937) 901-9205
URL:https://qlibrary.org/event/twin-cities-aroace-solidarity-group-2/
LOCATION:Quatrefoil Library\, 1220 East Lake Street\, Minneapolis\, MN\, 55407\, United States
CATEGORIES:Community Club
END:VEVENT
BEGIN:VEVENT
DTSTART;TZID=America/Chicago:20250504T110000
DTEND;TZID=America/Chicago:20250504T130000
DTSTAMP:20260424T074940
CREATED:20241028T215403Z
LAST-MODIFIED:20241028T215403Z
UID:10002398-1746356400-1746363600@qlibrary.org
SUMMARY:Rainbow Reads
DESCRIPTION:Queer reading party (not a book club) that meets in the Library on the first Sunday of every month. This group allows people to share what they have been reading and interested in\, rather than discuss one book everyone has read.
URL:https://qlibrary.org/event/rainbow-reads-2/2025-05-04/
LOCATION:Quatrefoil Library\, 1220 East Lake Street\, Minneapolis\, MN\, 55407\, United States
CATEGORIES:Book Club
END:VEVENT
BEGIN:VEVENT
DTSTART;TZID=America/Chicago:20250503T103000
DTEND;TZID=America/Chicago:20250503T113000
DTSTAMP:20260424T074940
CREATED:20250211T010431Z
LAST-MODIFIED:20250211T010431Z
UID:10003228-1746268200-1746271800@qlibrary.org
SUMMARY:Knotty Recovery
DESCRIPTION:Knotty Recovery is a 12-step group who shares their experience\, strength\, and hope with each other to solve their common problems related to addiction. Meeting on the 1st & 3rd Saturday of every month\, this is a space where you can openly to discuss sexuality and kink in recovery and the format is similar to a traditional 12 step meeting. The only requirement for attendance is a desire to quit whatever addictive substance or behavior is affecting your life. \n  \n 
URL:https://qlibrary.org/event/knotty-recovery/2025-05-03/
LOCATION:Quatrefoil Library\, 1220 East Lake Street\, Minneapolis\, MN\, 55407\, United States
CATEGORIES:Community Club
END:VEVENT
BEGIN:VEVENT
DTSTART;TZID=America/Chicago:20250501T190000
DTEND;TZID=America/Chicago:20250501T200000
DTSTAMP:20260424T074940
CREATED:20250211T010642Z
LAST-MODIFIED:20250211T010642Z
UID:10002336-1746126000-1746129600@qlibrary.org
SUMMARY:Library Patron's Union Meeting
DESCRIPTION:The Library Patrons Union is an explicitly leftist\, community-run union of Hennepin County Library patrons\, organizing for more just public libraries. https://librarypatronsunion.com \nEmail librarypatronsunion@gmail.com with questions.
URL:https://qlibrary.org/event/library-patrons-union-meeting-2-2/2025-05-01/
LOCATION:Quatrefoil Library\, 1220 East Lake Street\, Minneapolis\, MN\, 55407\, United States
CATEGORIES:Community Club
END:VEVENT
BEGIN:VEVENT
DTSTART;TZID=America/Chicago:20250501T183000
DTEND;TZID=America/Chicago:20250501T200000
DTSTAMP:20260424T074940
CREATED:20250320T214400Z
LAST-MODIFIED:20250320T214400Z
UID:10003294-1746124200-1746129600@qlibrary.org
SUMMARY:Quatrefoil Board Meeting
DESCRIPTION:The Quatrefoil Board meets monthly on the first Thursday of the month in the Community Room.
URL:https://qlibrary.org/event/quatrefoil-board-meeting-2/2025-05-01/
LOCATION:Quatrefoil Library\, 1220 East Lake Street\, Minneapolis\, MN\, 55407\, United States
CATEGORIES:Committee Meetings
END:VEVENT
BEGIN:VEVENT
DTSTART;TZID=America/Chicago:20250428T183000
DTEND;TZID=America/Chicago:20250428T200000
DTSTAMP:20260424T074940
CREATED:20240923T150102Z
LAST-MODIFIED:20240923T150102Z
UID:10002275-1745865000-1745870400@qlibrary.org
SUMMARY:Programming Committee Meeting
DESCRIPTION:Regular meeting of the Quatrefoil Programming Committee. Committee meets every second and fourth Monday in the library (with a virtual option available for committee members) from 6:30 – 8:00pm. Reach out to programming@quatrefoil.org if you are interested in joining.
URL:https://qlibrary.org/event/programming-committee-meeting-8/2025-04-28/
LOCATION:Quatrefoil Library\, 1220 East Lake Street\, Minneapolis\, MN\, 55407\, United States
CATEGORIES:Committee Meetings
END:VEVENT
BEGIN:VEVENT
DTSTART;TZID=America/Chicago:20250428T173000
DTEND;TZID=America/Chicago:20250428T183000
DTSTAMP:20260424T074940
CREATED:20240324T163158Z
LAST-MODIFIED:20240407T163136Z
UID:10001736-1745861400-1745865000@qlibrary.org
SUMMARY:Volunteer Committee Meeting
DESCRIPTION:Our volunteer committee is responsible for recruiting and training volunteers. They also maintain our volunteer schedule\, for operating hours and special events. \nAnyone is welcome to stop in if interested in joining\, or to share constructive ideas. You can also sign up via our volunteer form. \nThis meeting is held in the library space\, with a virtual option available.
URL:https://qlibrary.org/event/volunteer-committee-meeting-3/2025-04-28/
LOCATION:Quatrefoil Library\, 1220 East Lake Street\, Minneapolis\, MN\, 55407\, United States
CATEGORIES:Committee Meetings
END:VEVENT
END:VCALENDAR