BEGIN:VCALENDAR
VERSION:2.0
PRODID:-//Quatrefoil Library - ECPv6.15.20//NONSGML v1.0//EN
CALSCALE:GREGORIAN
METHOD:PUBLISH
X-ORIGINAL-URL:https://qlibrary.org
X-WR-CALDESC:Events for Quatrefoil Library
REFRESH-INTERVAL;VALUE=DURATION:PT1H
X-Robots-Tag:noindex
X-PUBLISHED-TTL:PT1H
BEGIN:VTIMEZONE
TZID:America/Chicago
BEGIN:DAYLIGHT
TZOFFSETFROM:-0600
TZOFFSETTO:-0500
TZNAME:CDT
DTSTART:20240310T080000
END:DAYLIGHT
BEGIN:STANDARD
TZOFFSETFROM:-0500
TZOFFSETTO:-0600
TZNAME:CST
DTSTART:20241103T070000
END:STANDARD
BEGIN:DAYLIGHT
TZOFFSETFROM:-0600
TZOFFSETTO:-0500
TZNAME:CDT
DTSTART:20250309T080000
END:DAYLIGHT
BEGIN:STANDARD
TZOFFSETFROM:-0500
TZOFFSETTO:-0600
TZNAME:CST
DTSTART:20251102T070000
END:STANDARD
BEGIN:DAYLIGHT
TZOFFSETFROM:-0600
TZOFFSETTO:-0500
TZNAME:CDT
DTSTART:20260308T080000
END:DAYLIGHT
BEGIN:STANDARD
TZOFFSETFROM:-0500
TZOFFSETTO:-0600
TZNAME:CST
DTSTART:20261101T070000
END:STANDARD
END:VTIMEZONE
BEGIN:VEVENT
DTSTART;TZID=America/Chicago:20250803T110000
DTEND;TZID=America/Chicago:20250803T130000
DTSTAMP:20260423T175452
CREATED:20241028T215403Z
LAST-MODIFIED:20241028T215403Z
UID:10002401-1754218800-1754226000@qlibrary.org
SUMMARY:Rainbow Reads
DESCRIPTION:Queer reading party (not a book club) that meets in the Library on the first Sunday of every month. This group allows people to share what they have been reading and interested in\, rather than discuss one book everyone has read.
URL:https://qlibrary.org/event/rainbow-reads-2/2025-08-03/
LOCATION:Quatrefoil Library\, 1220 East Lake Street\, Minneapolis\, MN\, 55407\, United States
CATEGORIES:Book Club
END:VEVENT
BEGIN:VEVENT
DTSTART;TZID=America/Chicago:20250803T133000
DTEND;TZID=America/Chicago:20250803T153000
DTSTAMP:20260423T175452
CREATED:20250719T155121Z
LAST-MODIFIED:20250719T155121Z
UID:10002613-1754227800-1754235000@qlibrary.org
SUMMARY:Twin Cities Aroace Solidarity Group (Cancelled)
DESCRIPTION:This event is cancelled for the month of August\, they will return to their regular recurring meeting in September.\n\nTwin Cities Aroace Solidarity group is a joyful\, embracing 21+ creative community for progressive aroace-spec (aromantic and/or asexual spectrum) and queer allies to share mutual aid and friendship; creative/artistic exchange; and learning\, peer education & guidance across gender\, age\, income level\, ethnicity & other lines of social difference. We gather at Quatrefoil monthly to socialize and discuss queer media.\n\n\nPlease email or text group organizer Amy Brooks at abbrooks77@icloud.com | (937) 901-9205
URL:https://qlibrary.org/event/twin-cities-aroace-solidarity-group-3/
LOCATION:Quatrefoil Library\, 1220 East Lake Street\, Minneapolis\, MN\, 55407\, United States
CATEGORIES:Community Club
END:VEVENT
BEGIN:VEVENT
DTSTART;TZID=America/Chicago:20250805T190000
DTEND;TZID=America/Chicago:20250805T203000
DTSTAMP:20260423T175452
CREATED:20250527T225421Z
LAST-MODIFIED:20250527T225421Z
UID:10003367-1754420400-1754425800@qlibrary.org
SUMMARY:Technology Committee Meeting
DESCRIPTION:The tech committee meets hybrid on the first Tuesday of each month. Contact technology@quatrefoil.org if you are interested in joining!
URL:https://qlibrary.org/event/technology-committee-meeting/2025-08-05/
LOCATION:Quatrefoil Library\, 1220 East Lake Street\, Minneapolis\, MN\, 55407\, United States
CATEGORIES:Committee Meetings
END:VEVENT
BEGIN:VEVENT
DTSTART;TZID=America/Chicago:20250806T190000
DTEND;TZID=America/Chicago:20250806T210000
DTSTAMP:20260423T175452
CREATED:20240324T164527Z
LAST-MODIFIED:20240324T164545Z
UID:10001611-1754506800-1754514000@qlibrary.org
SUMMARY:Queer Threads
DESCRIPTION:Queer threads: a weekly intergenerational craft night for LGBTQ people of all genders \nwhat: a weekly craft night for knitting\, crochet\, embroidery\, mending\, quilting\, and other portable crafts \nwhy: find community and camaraderie with other LGBTQ crafters \nwho: for all ages and genders. Kids are welcome\, but childcare is not provided. \nwhere: Quatrefoil Library at 1220 E Lake St Minneapolis. \nwhen: 1st and 3rd Wednesday nights from 7-9 pm \naccessibility: please wear a mask. \nhelp us cultivate a welcoming group: crafting is for all gender identities and types of gender expression; ask for (rather than assume) pronouns; all types of yarn and materials\, experience levels\, and portable craft projects are welcome.
URL:https://qlibrary.org/event/queer-threads-6/2025-08-06/
LOCATION:Quatrefoil Library: Spirit on Lake Community Room\, 1220 E Lake St\, Minneapolis\, MN\, 55407\, United States
CATEGORIES:Community Club
END:VEVENT
BEGIN:VEVENT
DTSTART;TZID=America/Chicago:20250807T183000
DTEND;TZID=America/Chicago:20250807T200000
DTSTAMP:20260423T175452
CREATED:20250320T214400Z
LAST-MODIFIED:20250320T214400Z
UID:10003297-1754591400-1754596800@qlibrary.org
SUMMARY:Quatrefoil Board Meeting
DESCRIPTION:The Quatrefoil Board meets monthly on the first Thursday of the month in the Community Room.
URL:https://qlibrary.org/event/quatrefoil-board-meeting-2/2025-08-07/
LOCATION:Quatrefoil Library\, 1220 East Lake Street\, Minneapolis\, MN\, 55407\, United States
CATEGORIES:Committee Meetings
END:VEVENT
BEGIN:VEVENT
DTSTART;TZID=America/Chicago:20250809T120000
DTEND;TZID=America/Chicago:20250809T140000
DTSTAMP:20260423T175452
CREATED:20250130T234137Z
LAST-MODIFIED:20250130T234630Z
UID:10003029-1754740800-1754748000@qlibrary.org
SUMMARY:Radical Queer Tarot Reading Group
DESCRIPTION:Radical Queer Tarot Reading Group is a space for novice to expert tarot readers to gather in non-hierarchical community to explore applying the wisdom of the tarot to apocalyptic times. We’ll focus on reading BIPOC/Queer/Leftist/Radical/Anti-Capitalist authors of tarot interpretation\, discussing what we’re learning\, & doing tarot spreads together to experience & interpret our new ideas. From tarot-curious to tarot master — if this offering speaks to you\, please join us. Contact radicalqueertarotreadinggroup@gmail.com for more information.
URL:https://qlibrary.org/event/radical-queer-tarot-reading-group/2025-08-09/
LOCATION:Quatrefoil Library\, 1220 East Lake Street\, Minneapolis\, MN\, 55407\, United States
CATEGORIES:Community Club
END:VEVENT
BEGIN:VEVENT
DTSTART;TZID=America/Chicago:20250809T150000
DTEND;TZID=America/Chicago:20250809T170000
DTSTAMP:20260423T175452
CREATED:20250512T222931Z
LAST-MODIFIED:20250512T223234Z
UID:10003364-1754751600-1754758800@qlibrary.org
SUMMARY:WE HELP US: Sharing Stories of LGBTQIA Mutual Aid
DESCRIPTION:WE HELP US: Sharing Stories of LGBTQIA Mutual Aid \n  \nSaturday\, August 9th \n3-5 p.m. \nQuatrefoil Library Community Room \n1220 E Lake St\, Minneapolis\, MN 55407 \n  \nMinnesota’s LGBTQIA community has a rich history of mutual aid. Many of the organizations that now serve our community were started decades ago by small groups of people who took care of one another when no one else would\, and mutual aid networks continue to be a lifeline for our community today. When systems fail and institutions ignore us\, LGBTQIA people have each other’s backs. \n  \nJoin us for an afternoon of story exchange\, where attendees will share experiences of queer mutual aid (seeking it\, offering it\, or both). These stories of community care will be audio recorded for potential use in a narrative art project. Most will also be archived at the Jean-Nickolaus Tretter Collection in Gay\, Lesbian\, Bisexual and Transgender Studies at the University of Minnesota\, which is the biggest LGBTQIA archive in the upper Midwest and one of the largest in the country. \n  \nOur hope is that collecting and sharing these stories will allow us to preserve important histories\, offer examples for people seeking opportunities to get involved in mutual aid efforts\, and challenge all of us to ask what more we can be doing for our friends and neighbors. Please join us on August 9th and share your stories for the benefit of our community! \n  \nHosted by Good Judy Productions\, a narrative podcast studio based in Minneapolis\, and Quatrefoil Library\, the second oldest circulating LGBTQIA library in the United States. \n  \nThis project is made possible by the voters of Minnesota through a grant from the Minnesota State Arts Board and a grant from the Metropolitan Regional Arts Council\, both thanks to a legislative appropriation from the arts and cultural heritage fund.
URL:https://qlibrary.org/event/we-help-us-sharing-stories-of-lgbtqia-mutual-aid/
LOCATION:Quatrefoil Library\, 1220 East Lake Street\, Minneapolis\, MN\, 55407\, United States
END:VEVENT
BEGIN:VEVENT
DTSTART;TZID=America/Chicago:20250809T183000
DTEND;TZID=America/Chicago:20250809T213000
DTSTAMP:20260423T175452
CREATED:20241028T215649Z
LAST-MODIFIED:20241028T220924Z
UID:10002462-1754764200-1754775000@qlibrary.org
SUMMARY:Quatrefoil Game Night
DESCRIPTION:
URL:https://qlibrary.org/event/quatrefoil-game-night/2025-08-09/
LOCATION:Quatrefoil Library\, 1220 East Lake Street\, Minneapolis\, MN\, 55407\, United States
CATEGORIES:Community Club
END:VEVENT
BEGIN:VEVENT
DTSTART;TZID=America/Chicago:20250811T183000
DTEND;TZID=America/Chicago:20250811T200000
DTSTAMP:20260423T175452
CREATED:20250211T004600Z
LAST-MODIFIED:20250211T004600Z
UID:10003088-1754937000-1754942400@qlibrary.org
SUMMARY:Programming Committee Meeting
DESCRIPTION:Regular meeting of the Quatrefoil Programming Committee. Committee meets every second and fourth Monday in the library (with a virtual option available for committee members) from 6:30 – 8:00pm. Reach out to programming@quatrefoil.org if you are interested in joining.
URL:https://qlibrary.org/event/programming-committee-meeting-6-2-2/2025-08-11/
LOCATION:Quatrefoil Library\, 1220 East Lake Street\, Minneapolis\, MN\, 55407\, United States
CATEGORIES:Committee Meetings
END:VEVENT
BEGIN:VEVENT
DTSTART;TZID=America/Chicago:20250812T190000
DTEND;TZID=America/Chicago:20250812T203000
DTSTAMP:20260423T175452
CREATED:20250211T005150Z
LAST-MODIFIED:20250211T005150Z
UID:10003148-1755025200-1755030600@qlibrary.org
SUMMARY:North Country Gaylaxians Book Club (Online)
DESCRIPTION:The meeting of the Twin Cities chapter of the Gaylactic Network\, an organization for the GLBT fan community\, whether it be science fiction\, fantasy\, horror\, comics\, or gaming. We read and discuss books of speculative fiction with GLBT or similar content or by GLBT authors. We meet the second Tuesday of the month at 7:00 pm on Zoom. Also\, monthly gaming get-togethers in a private home. \n  \nInfo on events can be found on their Facebook page:    https://www.facebook.com/groups/NorthCountryGaylaxians/
URL:https://qlibrary.org/event/north-country-gaylaxians-book-club-online/2025-08-12/
LOCATION:Quatrefoil Library\, 1220 East Lake Street\, Minneapolis\, MN\, 55407\, United States
CATEGORIES:Book Club,Online Events
END:VEVENT
BEGIN:VEVENT
DTSTART;TZID=America/Chicago:20250813T190000
DTEND;TZID=America/Chicago:20250813T200000
DTSTAMP:20260423T175452
CREATED:20250114T004229Z
LAST-MODIFIED:20250114T004622Z
UID:10000939-1755111600-1755115200@qlibrary.org
SUMMARY:Moon Palace Queer Book Club
DESCRIPTION:Event by Moon Palace Books \nPublic  ·  Join us for Queer Book Club every second Wednesday from 7-8pm at Quatrefoil Library\, 1220 East Lake Street\, Minneapolis\, MN 55407! (Please note that in the summer we will only meet at Quatrefoil if it rains. Otherwise we will meet at Brackett Park.) \n  \n\n\n\n\n\n\n\nQueer Book Club April\n\n\n\nWednesday Apr 9th\, 2025\n\n\n7:00 PM\n\n\n–\n\n\n8:00 PM\n\n\n Quatrefoil Library\, 1220 East Lake Street\, Minneapolis\, MN 55407\n\n\n\n\n\n\n\nJoin us for Queer Book Club on Wednesday\, April 9th\, at 7:00pm at Quatrefoil Library\, 1220 East Lake Street\, Minneapolis\, MN 55407. We’ll be discussing Blood Orange by Mx. Yaffa. Anyone is welcome to join whether you’ve read the whole book or just skimmed a few pages. We meet the second Wednesdays of every month! \n“Blood Orange” is a highly emotional\, important and timely poetry collection by Mx. Yaffa (They/She)\, a trans Muslim displaced Indigenous Palestinian. Their writings probe the yearning for home\, belonging\, mental health\, queerness\, transness\, and other dimensions of marginalization while nurturing dreams of utopia against the background of ongoing displacement and genocide of indigenous Palestinians. \nThis highly charged and cathartic body of work confronts the anguish and loss inflicted by genocide but also embraces a vision of a world free of it. The poems within “Blood Orange” were a means of working through and processing the grief caused by recent events and serve as an act of protest and defiance against settler colonialism as a whole. \n\n\n\n\n\n\n\n\n\n\n\nBuy Books
URL:https://qlibrary.org/event/moon-palace-queer-book-club-2-2-2-2/2025-08-13/
LOCATION:Quatrefoil Library\, 1220 East Lake Street\, Minneapolis\, MN\, 55407\, United States
CATEGORIES:Book Club
END:VEVENT
BEGIN:VEVENT
DTSTART;TZID=America/Chicago:20250814T190000
DTEND;TZID=America/Chicago:20250814T200000
DTSTAMP:20260423T175452
CREATED:20250527T225555Z
LAST-MODIFIED:20250527T225556Z
UID:10003426-1755198000-1755201600@qlibrary.org
SUMMARY:Library Patron's Union Meeting
DESCRIPTION:The Library Patrons Union is an explicitly leftist\, community-run union of Hennepin County Library patrons\, organizing for more just public libraries. https://librarypatronsunion.com \nEmail librarypatronsunion@gmail.com with questions.
URL:https://qlibrary.org/event/library-patrons-union-meeting-2-2-2/2025-08-14/
LOCATION:Quatrefoil Library\, 1220 East Lake Street\, Minneapolis\, MN\, 55407\, United States
CATEGORIES:Community Club
END:VEVENT
BEGIN:VEVENT
DTSTART;TZID=America/Chicago:20250816T131500
DTEND;TZID=America/Chicago:20250816T151500
DTSTAMP:20260423T175452
CREATED:20240114T221451Z
LAST-MODIFIED:20240114T225022Z
UID:10001134-1755350100-1755357300@qlibrary.org
SUMMARY:Prime Timers Bookclub
DESCRIPTION:This monthly book club is a subgroup of the Twin Cities Prime Timers Club\, which is affiliated with the state and national organizations. It meets each third Saturday of the month at Quatrefoil from 1:15pm – 3:15pm. \nBook of the month:
URL:https://qlibrary.org/event/prime-timers-bookclub-4-2/2025-08-16/
LOCATION:Quatrefoil Library\, 1220 East Lake Street\, Minneapolis\, MN\, 55407\, United States
END:VEVENT
BEGIN:VEVENT
DTSTART;TZID=America/Chicago:20250816T131500
DTEND;TZID=America/Chicago:20250816T151500
DTSTAMP:20260423T175452
CREATED:20250123T234922Z
LAST-MODIFIED:20250123T234922Z
UID:10002809-1755350100-1755357300@qlibrary.org
SUMMARY:Prime Timers Book Club
DESCRIPTION:This monthly book club is a subgroup of the Twin Cities Prime Timers Club\, which is affiliated with the state and national organizations. It meets each third Saturday of the month at Quatrefoil from 1:15pm – 3:15pm. \nMarch Book of the Month: Shortest Way Home By Peter Buttigieg
URL:https://qlibrary.org/event/prime-timers-book-club-2/2025-08-16/
LOCATION:Quatrefoil Library\, 1220 East Lake Street\, Minneapolis\, MN\, 55407\, United States
CATEGORIES:Book Club
END:VEVENT
BEGIN:VEVENT
DTSTART;TZID=America/Chicago:20250817T130000
DTEND;TZID=America/Chicago:20250817T160000
DTSTAMP:20260423T175452
CREATED:20231118T021214Z
LAST-MODIFIED:20231118T021255Z
UID:10000877-1755435600-1755446400@qlibrary.org
SUMMARY:Prime Timers Dominoes
DESCRIPTION:Join the Prime Timers for an afternoon of dominoes. Feel free to bring a snack to share and your dominoes set\, though not required.
URL:https://qlibrary.org/event/prime-timers-dominoes-5-2/2025-08-17/
LOCATION:MN
END:VEVENT
BEGIN:VEVENT
DTSTART;TZID=America/Chicago:20250820T190000
DTEND;TZID=America/Chicago:20250820T210000
DTSTAMP:20260423T175452
CREATED:20240114T181948Z
LAST-MODIFIED:20240324T164415Z
UID:10001550-1755716400-1755723600@qlibrary.org
SUMMARY:Queer Threads
DESCRIPTION:Queer threads: a weekly intergenerational craft night for LGBTQ people of all genders \nwhat: a weekly craft night for knitting\, crochet\, embroidery\, mending\, quilting\, and other portable crafts \nwhy: find community and camaraderie with other LGBTQ crafters \nwho: for all ages and genders. Kids are welcome\, but childcare is not provided. \nwhere: Quatrefoil Library at 1220 E Lake St Minneapolis. \nwhen: Wednesday nights from 7-9 pm \naccessibility: please wear a mask. \nhelp us cultivate a welcoming group: crafting is for all gender identities and types of gender expression; ask for (rather than assume) pronouns; all types of yarn and materials\, experience levels\, and portable craft projects are welcome.
URL:https://qlibrary.org/event/queer-threads-4/2025-08-20/
LOCATION:Quatrefoil Library\, 1220 East Lake Street\, Minneapolis\, MN\, 55407\, United States
CATEGORIES:Community Club
END:VEVENT
BEGIN:VEVENT
DTSTART;TZID=America/Chicago:20250820T190000
DTEND;TZID=America/Chicago:20250820T210000
DTSTAMP:20260423T175452
CREATED:20250719T153650Z
LAST-MODIFIED:20250816T174847Z
UID:10001218-1755716400-1755723600@qlibrary.org
SUMMARY:Twin Cities Lesbian Fiction Book Club (Online)
DESCRIPTION:Virtual Book Club that meets online via Zoom – please direct all questions and requests for the Zoom link to jchandlerauthor@gmail.com \nYou are welcome to attend even if you didn’t read the book\, or didn’t like it. We enjoy staying in touch with our friends! \nBook of the month: \n2025 \nJuly (will discuss in August)—LAST CHANCE CHICAGO by Diana DiGangi \nAugust—SCORCHED GRACE by Margo Douaihy \nSeptember—POSTMARKED CASTLE COVE by Judy Kerr \nOctober—DESPITE HERSELF by Jessie Chandler \nNovember—WATERLOGGED by Nance Sparks \nDecember—THE SAFEKEEP by Yael Van der Wouden (in hardcover now\, but will be out in paperback May 27th)
URL:https://qlibrary.org/event/twin-cities-lesbian-fiction-book-club-5-2/2025-08-20/
LOCATION:Online Events
CATEGORIES:Book Club,Online Events
END:VEVENT
BEGIN:VEVENT
DTSTART;TZID=America/Chicago:20250821T190000
DTEND;TZID=America/Chicago:20250821T210000
DTSTAMP:20260423T175452
CREATED:20250816T173540Z
LAST-MODIFIED:20250816T174322Z
UID:10003517-1755802800-1755810000@qlibrary.org
SUMMARY:Intergenerational LGBTQIA Watercolor Club
DESCRIPTION:Intergenerational LGBTQIA Watercolor Club is a time to relax\, paint\, and be in community. Open to adults of any age with any level of artistic experience. Supplies will be provided. Wear clothes suitable for painting in. Hosted by Alison Nowak\, an illustration professor from Minneapolis.
URL:https://qlibrary.org/event/intergenerational-lgbtqia-watercolor-club-2/
LOCATION:Quatrefoil Library\, 1220 East Lake Street\, Minneapolis\, MN\, 55407\, United States
END:VEVENT
BEGIN:VEVENT
DTSTART;TZID=America/Chicago:20250823T183000
DTEND;TZID=America/Chicago:20250823T213000
DTSTAMP:20260423T175452
CREATED:20241028T215739Z
LAST-MODIFIED:20241028T215739Z
UID:10002522-1755973800-1755984600@qlibrary.org
SUMMARY:Quatrefoil Game Night
DESCRIPTION:
URL:https://qlibrary.org/event/quatrefoil-game-night-2/2025-08-23/
LOCATION:Quatrefoil Library\, 1220 East Lake Street\, Minneapolis\, MN\, 55407\, United States
CATEGORIES:Community Club
END:VEVENT
BEGIN:VEVENT
DTSTART;TZID=America/Chicago:20250824T130000
DTEND;TZID=America/Chicago:20250824T140000
DTSTAMP:20260423T175452
CREATED:20250210T235432Z
LAST-MODIFIED:20250211T005738Z
UID:10003209-1756040400-1756044000@qlibrary.org
SUMMARY:Transgender Book Club
DESCRIPTION:The Transgender Book Club meets the fourth Sunday of the month from 1-2pm to discuss books by and about trans people. We welcome people of all genders\, orientations\, and backgrounds! \n2025 Meeting Calendar: \n1/26 Bitter by Akwaeke Emezi2/23 Lunar Boy by Jes and Cin Wibowo3/23 Bluff by Danez Smith4/27 Pageboy by Elliot Page5/25 Girlmode by Magdalene Visaggio6/22 We Won’t Be Here Tomorrow by Margaret Killjoy7/27 A Shore Thing by Joanna Lowell8/24 The Dawnhounds by Sascha Stronach9/28 Just Happy to Be Here by Naomi Kanakia10/26 Dead Collections by Isaac Fellman11/23 Marley’s Pride by Joelle Retener
URL:https://qlibrary.org/event/transgender-book-club-6-2/2025-08-24/
LOCATION:Quatrefoil Library\, 1220 East Lake Street\, Minneapolis\, MN\, 55407\, United States
CATEGORIES:Book Club
END:VEVENT
BEGIN:VEVENT
DTSTART;TZID=America/Chicago:20250825T173000
DTEND;TZID=America/Chicago:20250825T183000
DTSTAMP:20260423T175452
CREATED:20240324T163158Z
LAST-MODIFIED:20240407T163136Z
UID:10001740-1756143000-1756146600@qlibrary.org
SUMMARY:Volunteer Committee Meeting
DESCRIPTION:Our volunteer committee is responsible for recruiting and training volunteers. They also maintain our volunteer schedule\, for operating hours and special events. \nAnyone is welcome to stop in if interested in joining\, or to share constructive ideas. You can also sign up via our volunteer form. \nThis meeting is held in the library space\, with a virtual option available.
URL:https://qlibrary.org/event/volunteer-committee-meeting-3/2025-08-25/
LOCATION:Quatrefoil Library\, 1220 East Lake Street\, Minneapolis\, MN\, 55407\, United States
CATEGORIES:Committee Meetings
END:VEVENT
BEGIN:VEVENT
DTSTART;TZID=America/Chicago:20250825T183000
DTEND;TZID=America/Chicago:20250825T200000
DTSTAMP:20260423T175452
CREATED:20240923T150102Z
LAST-MODIFIED:20240923T150102Z
UID:10002279-1756146600-1756152000@qlibrary.org
SUMMARY:Programming Committee Meeting
DESCRIPTION:Regular meeting of the Quatrefoil Programming Committee. Committee meets every second and fourth Monday in the library (with a virtual option available for committee members) from 6:30 – 8:00pm. Reach out to programming@quatrefoil.org if you are interested in joining.
URL:https://qlibrary.org/event/programming-committee-meeting-8/2025-08-25/
LOCATION:Quatrefoil Library\, 1220 East Lake Street\, Minneapolis\, MN\, 55407\, United States
CATEGORIES:Committee Meetings
END:VEVENT
BEGIN:VEVENT
DTSTART;TZID=America/Chicago:20250826T180000
DTEND;TZID=America/Chicago:20250826T193000
DTSTAMP:20260423T175452
CREATED:20250816T175439Z
LAST-MODIFIED:20250816T175439Z
UID:10003518-1756231200-1756236600@qlibrary.org
SUMMARY:Volunteer Front Desk Training
DESCRIPTION:Training for new Q Volunteers to get acquainted with the responsibilities of being a Volunteer and working at the Library Front Desk. Reach out to volunteer@quatrefoil.org if interested in joining.
URL:https://qlibrary.org/event/volunteer-front-desk-training/
LOCATION:Quatrefoil Library\, 1220 East Lake Street\, Minneapolis\, MN\, 55407\, United States
CATEGORIES:Committee Meetings
END:VEVENT
BEGIN:VEVENT
DTSTART;TZID=America/Chicago:20250827T183000
DTEND;TZID=America/Chicago:20250827T203000
DTSTAMP:20260423T175452
CREATED:20250825T002742Z
LAST-MODIFIED:20250825T002743Z
UID:10001284-1756319400-1756326600@qlibrary.org
SUMMARY:OFFSITE - Twin Cities Queer Transplant Group
DESCRIPTION:NOTE: The Twin Cities Queer Transplant Group is currently meeting at the Pride Cultural Arts Center. \nThe Twin Cities Queer Transplant Group is a new community meetup for folks who have recently relocated to the Twin Cities. Drop by to meet new people\, learn about local LGBTQIA+ resources\, chat\, and share your favorite Twin Cities discoveries! Locals\, partners\, and family welcome. Meetings hosted every 4th Wednesday at PCAC. \n  \nQuestions and information requests can be sent to TCTransplants@gmail.com
URL:https://qlibrary.org/event/twin-cities-queer-transplant-group-2-2-3/2025-08-27/
LOCATION:Pride Cultural Arts Center\, 1201 Harmon Pl Ste 104\, Minneapolis\, MN\, 55403
CATEGORIES:Community Club
END:VEVENT
BEGIN:VEVENT
DTSTART;TZID=America/Chicago:20250828T190000
DTEND;TZID=America/Chicago:20250828T210000
DTSTAMP:20260423T175452
CREATED:20250130T231559Z
LAST-MODIFIED:20250130T233251Z
UID:10002909-1756407600-1756414800@qlibrary.org
SUMMARY:BiblioFemmes Book Club
DESCRIPTION:BiblioFemmes is a group of queer femmes who love books. We have a monthly book club at Quatrefoil and other events throughout the month\, including pottery making\, game nights\, social hours\, and more. We meet regularly with the express intention of creating a community\, so if you are looking for a book club AND some new friends\, we might be the right fit for you.  \n\n\n\nEveryone who describes themselves as a femme (small doses count) and who has done the reading is welcome to attend a book club (RSVPs appreciated but not required). If you are interested in the group\, but want to meet without homework\, please reach out to the email address listed below and we’ll add you to our Discord server and mailing list. \n\n\n\nContact: bibliofemmes.mn@gmail.com
URL:https://qlibrary.org/event/bibliofemmes-book-club/2025-08-28/
LOCATION:MN
END:VEVENT
BEGIN:VEVENT
DTSTART;TZID=America/Chicago:20250830T120000
DTEND;TZID=America/Chicago:20250830T153000
DTSTAMP:20260423T175452
CREATED:20250719T151644Z
LAST-MODIFIED:20250719T151644Z
UID:10003495-1756555200-1756567800@qlibrary.org
SUMMARY:Casting Call – Black and Proud: The Musical
DESCRIPTION:🎭 Casting Call – Black and Proud: The Musical \nJoin us for open auditions for Black and Proud\, an original musical centering the lives of eight Black LGBTQ+ individuals who find healing\, resistance\, and chosen family at a fictional community center called The Lavender Lounge.\nWe are casting for 8 lead roles and ensemble members\, with a priority on BIPOC and LGBTQ+ performers of all identities and experience levels.\n🎤 What to Prepare:\nA 2-minute monologue\n16 bars of a song (a cappella or backing track) \n📅 Dates:\nFriday\, August 30th – 12:00–3:30 PM\nFriday\, September 6th – 12:00–3:30 PM📍 Quatrefoil Library\, Community Room \n📩 RSVP required. To audition\, please email Jasmine Mincey at minceyjasmine3@gmail.com
URL:https://qlibrary.org/event/casting-call-black-and-proud-the-musical/2025-08-30/
LOCATION:Quatrefoil Library\, 1220 East Lake Street\, Minneapolis\, MN\, 55407\, United States
END:VEVENT
BEGIN:VEVENT
DTSTART;TZID=America/Chicago:20250902T190000
DTEND;TZID=America/Chicago:20250902T203000
DTSTAMP:20260423T175452
CREATED:20250527T225421Z
LAST-MODIFIED:20250527T225421Z
UID:10003368-1756839600-1756845000@qlibrary.org
SUMMARY:Technology Committee Meeting
DESCRIPTION:The tech committee meets hybrid on the first Tuesday of each month. Contact technology@quatrefoil.org if you are interested in joining!
URL:https://qlibrary.org/event/technology-committee-meeting/2025-09-02/
LOCATION:Quatrefoil Library\, 1220 East Lake Street\, Minneapolis\, MN\, 55407\, United States
CATEGORIES:Committee Meetings
END:VEVENT
BEGIN:VEVENT
DTSTART;TZID=America/Chicago:20250903T190000
DTEND;TZID=America/Chicago:20250903T210000
DTSTAMP:20260423T175452
CREATED:20240324T164527Z
LAST-MODIFIED:20240324T164545Z
UID:10001612-1756926000-1756933200@qlibrary.org
SUMMARY:Queer Threads
DESCRIPTION:Queer threads: a weekly intergenerational craft night for LGBTQ people of all genders \nwhat: a weekly craft night for knitting\, crochet\, embroidery\, mending\, quilting\, and other portable crafts \nwhy: find community and camaraderie with other LGBTQ crafters \nwho: for all ages and genders. Kids are welcome\, but childcare is not provided. \nwhere: Quatrefoil Library at 1220 E Lake St Minneapolis. \nwhen: 1st and 3rd Wednesday nights from 7-9 pm \naccessibility: please wear a mask. \nhelp us cultivate a welcoming group: crafting is for all gender identities and types of gender expression; ask for (rather than assume) pronouns; all types of yarn and materials\, experience levels\, and portable craft projects are welcome.
URL:https://qlibrary.org/event/queer-threads-6/2025-09-03/
LOCATION:Quatrefoil Library: Spirit on Lake Community Room\, 1220 E Lake St\, Minneapolis\, MN\, 55407\, United States
CATEGORIES:Community Club
END:VEVENT
BEGIN:VEVENT
DTSTART;TZID=America/Chicago:20250904T183000
DTEND;TZID=America/Chicago:20250904T200000
DTSTAMP:20260423T175452
CREATED:20250320T214400Z
LAST-MODIFIED:20250320T214400Z
UID:10003298-1757010600-1757016000@qlibrary.org
SUMMARY:Quatrefoil Board Meeting
DESCRIPTION:The Quatrefoil Board meets monthly on the first Thursday of the month in the Community Room.
URL:https://qlibrary.org/event/quatrefoil-board-meeting-2/2025-09-04/
LOCATION:Quatrefoil Library\, 1220 East Lake Street\, Minneapolis\, MN\, 55407\, United States
CATEGORIES:Committee Meetings
END:VEVENT
BEGIN:VEVENT
DTSTART;TZID=America/Chicago:20250906T120000
DTEND;TZID=America/Chicago:20250906T153000
DTSTAMP:20260423T175452
CREATED:20250719T151644Z
LAST-MODIFIED:20250719T151644Z
UID:10003496-1757160000-1757172600@qlibrary.org
SUMMARY:Casting Call – Black and Proud: The Musical
DESCRIPTION:🎭 Casting Call – Black and Proud: The Musical \nJoin us for open auditions for Black and Proud\, an original musical centering the lives of eight Black LGBTQ+ individuals who find healing\, resistance\, and chosen family at a fictional community center called The Lavender Lounge.\nWe are casting for 8 lead roles and ensemble members\, with a priority on BIPOC and LGBTQ+ performers of all identities and experience levels.\n🎤 What to Prepare:\nA 2-minute monologue\n16 bars of a song (a cappella or backing track) \n📅 Dates:\nFriday\, August 30th – 12:00–3:30 PM\nFriday\, September 6th – 12:00–3:30 PM📍 Quatrefoil Library\, Community Room \n📩 RSVP required. To audition\, please email Jasmine Mincey at minceyjasmine3@gmail.com
URL:https://qlibrary.org/event/casting-call-black-and-proud-the-musical/2025-09-06/
LOCATION:Quatrefoil Library\, 1220 East Lake Street\, Minneapolis\, MN\, 55407\, United States
END:VEVENT
END:VCALENDAR