BEGIN:VCALENDAR
VERSION:2.0
PRODID:-//Quatrefoil Library - ECPv6.15.20//NONSGML v1.0//EN
CALSCALE:GREGORIAN
METHOD:PUBLISH
X-WR-CALNAME:Quatrefoil Library
X-ORIGINAL-URL:https://qlibrary.org
X-WR-CALDESC:Events for Quatrefoil Library
REFRESH-INTERVAL;VALUE=DURATION:PT1H
X-Robots-Tag:noindex
X-PUBLISHED-TTL:PT1H
BEGIN:VTIMEZONE
TZID:America/Chicago
BEGIN:DAYLIGHT
TZOFFSETFROM:-0600
TZOFFSETTO:-0500
TZNAME:CDT
DTSTART:20250309T080000
END:DAYLIGHT
BEGIN:STANDARD
TZOFFSETFROM:-0500
TZOFFSETTO:-0600
TZNAME:CST
DTSTART:20251102T070000
END:STANDARD
BEGIN:DAYLIGHT
TZOFFSETFROM:-0600
TZOFFSETTO:-0500
TZNAME:CDT
DTSTART:20260308T080000
END:DAYLIGHT
BEGIN:STANDARD
TZOFFSETFROM:-0500
TZOFFSETTO:-0600
TZNAME:CST
DTSTART:20261101T070000
END:STANDARD
BEGIN:DAYLIGHT
TZOFFSETFROM:-0600
TZOFFSETTO:-0500
TZNAME:CDT
DTSTART:20270314T080000
END:DAYLIGHT
BEGIN:STANDARD
TZOFFSETFROM:-0500
TZOFFSETTO:-0600
TZNAME:CST
DTSTART:20271107T070000
END:STANDARD
END:VTIMEZONE
BEGIN:VEVENT
DTSTART;TZID=America/Chicago:20260429T190000
DTEND;TZID=America/Chicago:20260429T210000
DTSTAMP:20260423T055752
CREATED:20260406T201429Z
LAST-MODIFIED:20260406T201429Z
UID:10004497-1777489200-1777496400@qlibrary.org
SUMMARY:COVID-Cautious Open Mic and Community Chat
DESCRIPTION:Up to 10 creators will share work (song\, poem\, essay\, artpiece\, handiwork\, or other; any topic) at an open mic during the first hour of the event.  A facilitated community chat will follow\, during the second hour of the event.  Attendees and observers are welcome – sharing is not required. \n  \nPlease see the Bitly / CryptPad link for full event information.  (https://bit.ly/042926CCEvent)
URL:https://qlibrary.org/event/covid-cautious-open-mic-and-community-chat/
LOCATION:Quatrefoil Library\, 1220 East Lake Street\, Minneapolis\, MN\, 55407\, United States
CATEGORIES:Reading
END:VEVENT
BEGIN:VEVENT
DTSTART;TZID=America/Chicago:20260430T190000
DTEND;TZID=America/Chicago:20260430T210000
DTSTAMP:20260423T055752
CREATED:20260406T201537Z
LAST-MODIFIED:20260406T201537Z
UID:10004498-1777575600-1777582800@qlibrary.org
SUMMARY:Kink Accessibility Network Social
DESCRIPTION:This event is 18+ only! The Kink Accessibility Network is a social group centered around those in the kink and BDSM subculture who have difficulty finding their space in the scene due to their disability. This social is a great time to meet us in a chill\, low-key setting\, playing board and card games and getting to know one another\, while coming together to share resources\, testimonials\, safety concerns\, and solidarity when navigating groups within the Twin Cities.
URL:https://qlibrary.org/event/kink-accessibility-network-social/
LOCATION:Quatrefoil Library\, 1220 East Lake Street\, Minneapolis\, MN\, 55407\, United States
END:VEVENT
BEGIN:VEVENT
DTSTART;TZID=America/Chicago:20260502T110000
DTEND;TZID=America/Chicago:20260502T130000
DTSTAMP:20260423T055752
CREATED:20251025T161732Z
LAST-MODIFIED:20251025T161952Z
UID:10003947-1777719600-1777726800@qlibrary.org
SUMMARY:Religious Trauma Support Group
DESCRIPTION:A Monthly Religious Trauma Support Group Facilitated by an LGBTQIA+ Certified Peer Support Specialist \nAre you navigating the aftermath of religious trauma\, spiritual abuse\, or the painful intersections of faith and identity? You’re not alone. \nThis peer-led support group offers a safe\, affirming space for individuals who have experienced religious trauma—particularly those from LGBTQIA+ communities. Facilitated by a certified peer support specialist with lived experience and specialized training in both religious trauma and LGBTQIA+ issues\, this group provides a judgment-free environment to share\, heal\, and grow. \nTogether\, we explore topics such as: \nReclaiming identity and self-worth\nProcessing grief\, fear\, and shame\nDeconstructing harmful beliefs\nNavigating relationships with family and community\nCultivating new spiritual or secular paths\nWhether you’re newly deconstructing or have been on this journey for years\, you’re welcome here. \nConfidential. Peer-led. Affirming. Healing. \n 
URL:https://qlibrary.org/event/religious-trauma-support-group/2026-05-02/
LOCATION:Quatrefoil Library\, 1220 East Lake Street\, Minneapolis\, MN\, 55407\, United States
END:VEVENT
BEGIN:VEVENT
DTSTART;TZID=America/Chicago:20260503T090000
DTEND;TZID=America/Chicago:20260503T103000
DTSTAMP:20260423T055752
CREATED:20260406T201836Z
LAST-MODIFIED:20260406T201836Z
UID:10004499-1777798800-1777804200@qlibrary.org
SUMMARY:Mayday Before Party - Flower Crowns!
DESCRIPTION:Join the Quatrefoil Programming Committee as we prepare for the Mayday celebration in Prospect Park by making flower crowns\, enjoying some breakfast treats\, and enjoying conversation with community members who plan to attend or participate in the event. \n  \nThis is an event in the Spring Into New Connections Event Series. More details to come!
URL:https://qlibrary.org/event/mayday-before-party-flower-crowns/
LOCATION:Quatrefoil Library\, 1220 East Lake Street\, Minneapolis\, MN\, 55407\, United States
CATEGORIES:Event Series
END:VEVENT
BEGIN:VEVENT
DTSTART;TZID=America/Chicago:20260503T110000
DTEND;TZID=America/Chicago:20260503T130000
DTSTAMP:20260423T055752
CREATED:20241028T215403Z
LAST-MODIFIED:20241028T215403Z
UID:10002410-1777806000-1777813200@qlibrary.org
SUMMARY:Rainbow Reads
DESCRIPTION:Queer reading party (not a book club) that meets in the Library on the first Sunday of every month. This group allows people to share what they have been reading and interested in\, rather than discuss one book everyone has read.
URL:https://qlibrary.org/event/rainbow-reads-2/2026-05-03/
LOCATION:Quatrefoil Library\, 1220 East Lake Street\, Minneapolis\, MN\, 55407\, United States
CATEGORIES:Book Club
END:VEVENT
BEGIN:VEVENT
DTSTART;TZID=America/Chicago:20260503T133000
DTEND;TZID=America/Chicago:20260503T153000
DTSTAMP:20260423T055752
CREATED:20250909T212153Z
LAST-MODIFIED:20250909T212155Z
UID:10002622-1777815000-1777822200@qlibrary.org
SUMMARY:Twin Cities Aroace Solidarity Group
DESCRIPTION:Twin Cities Aroace Solidarity group is a joyful\, embracing 21+ creative community for progressive aroace-spec (aromantic and/or asexual spectrum) and queer allies to share mutual aid and friendship. We gather to socialize and discuss queer media. \nFind us on Meetup at: meetup.com/twin-cities-aroace-solidarity
URL:https://qlibrary.org/event/twin-cities-aroace-solidarity-group-4/2026-05-03/
LOCATION:Quatrefoil Library\, 1220 East Lake Street\, Minneapolis\, MN\, 55407\, United States
CATEGORIES:Community Club
END:VEVENT
BEGIN:VEVENT
DTSTART;TZID=America/Chicago:20260504T173000
DTEND;TZID=America/Chicago:20260504T190000
DTSTAMP:20260423T055752
CREATED:20260406T202954Z
LAST-MODIFIED:20260406T202954Z
UID:10004504-1777915800-1777921200@qlibrary.org
SUMMARY:Finance & Development Committee Meeting
DESCRIPTION:The Finance and Development committees meet hybrid on the first Monday of each month. Contact development@quatrefoil.org if you are interested in joining!
URL:https://qlibrary.org/event/finance-development-committee-meeting/2026-05-04/
LOCATION:Quatrefoil Library\, 1220 East Lake Street\, Minneapolis\, MN\, 55407\, United States
CATEGORIES:Committee Meetings
END:VEVENT
BEGIN:VEVENT
DTSTART;TZID=America/Chicago:20260505T190000
DTEND;TZID=America/Chicago:20260505T203000
DTSTAMP:20260423T055752
CREATED:20250527T225421Z
LAST-MODIFIED:20250527T225421Z
UID:10003376-1778007600-1778013000@qlibrary.org
SUMMARY:Technology Committee Meeting
DESCRIPTION:The tech committee meets hybrid on the first Tuesday of each month. Contact technology@quatrefoil.org if you are interested in joining!
URL:https://qlibrary.org/event/technology-committee-meeting/2026-05-05/
LOCATION:Quatrefoil Library\, 1220 East Lake Street\, Minneapolis\, MN\, 55407\, United States
CATEGORIES:Committee Meetings
END:VEVENT
BEGIN:VEVENT
DTSTART;TZID=America/Chicago:20260506T190000
DTEND;TZID=America/Chicago:20260506T210000
DTSTAMP:20260423T055752
CREATED:20240324T164527Z
LAST-MODIFIED:20240324T164545Z
UID:10001620-1778094000-1778101200@qlibrary.org
SUMMARY:Queer Threads
DESCRIPTION:Queer threads: a weekly intergenerational craft night for LGBTQ people of all genders \nwhat: a weekly craft night for knitting\, crochet\, embroidery\, mending\, quilting\, and other portable crafts \nwhy: find community and camaraderie with other LGBTQ crafters \nwho: for all ages and genders. Kids are welcome\, but childcare is not provided. \nwhere: Quatrefoil Library at 1220 E Lake St Minneapolis. \nwhen: 1st and 3rd Wednesday nights from 7-9 pm \naccessibility: please wear a mask. \nhelp us cultivate a welcoming group: crafting is for all gender identities and types of gender expression; ask for (rather than assume) pronouns; all types of yarn and materials\, experience levels\, and portable craft projects are welcome.
URL:https://qlibrary.org/event/queer-threads-6/2026-05-06/
LOCATION:Quatrefoil Library: Spirit on Lake Community Room\, 1220 E Lake St\, Minneapolis\, MN\, 55407\, United States
CATEGORIES:Community Club
END:VEVENT
BEGIN:VEVENT
DTSTART;TZID=America/Chicago:20260507T183000
DTEND;TZID=America/Chicago:20260507T200000
DTSTAMP:20260423T055752
CREATED:20260108T021858Z
LAST-MODIFIED:20260108T021858Z
UID:10004359-1778178600-1778184000@qlibrary.org
SUMMARY:Quatrefoil Board Meeting
DESCRIPTION:The Quatrefoil Board meets monthly on the first Thursday of the month in the Community Room.
URL:https://qlibrary.org/event/quatrefoil-board-meeting-2-2-2/2026-05-07/
LOCATION:Quatrefoil Library\, 1220 East Lake Street\, Minneapolis\, MN\, 55407\, United States
CATEGORIES:Committee Meetings
END:VEVENT
BEGIN:VEVENT
DTSTART;TZID=America/Chicago:20260509T100000
DTEND;TZID=America/Chicago:20260509T170000
DTSTAMP:20260423T055752
CREATED:20260406T202016Z
LAST-MODIFIED:20260406T202016Z
UID:10004500-1778320800-1778346000@qlibrary.org
SUMMARY:Quatrefoil in Doors Open Minneapolis
DESCRIPTION:For the very first time\, Quatrefoil Library is participating in Doors Open Minneapolis! Join us at the Library between 10am and 5pm on May 9th or 10th to tour the space and connect to our shared local queer history. \nDoors Open events are free public celebrations that invite people to explore the buildings\, spaces\, and stories that shape a city’s identity. During Doors Open venues of architectural\, cultural\, civic\, and social significance open their doors to the public—many offering behind-the-scenes access not typically available. From historic landmarks to cutting-edge workspaces\, sacred spaces to industrial sites\, these programs are designed to spark curiosity and deepen connection between people and place. Learn More Here: https://www.doorsopenminneapolis.org
URL:https://qlibrary.org/event/quatrefoil-in-doors-open-minneapolis/
LOCATION:Quatrefoil Library\, 1220 East Lake Street\, Minneapolis\, MN\, 55407\, United States
END:VEVENT
BEGIN:VEVENT
DTSTART;TZID=America/Chicago:20260509T120000
DTEND;TZID=America/Chicago:20260509T140000
DTSTAMP:20260423T055752
CREATED:20250130T234137Z
LAST-MODIFIED:20250130T234630Z
UID:10003038-1778328000-1778335200@qlibrary.org
SUMMARY:Radical Queer Tarot Reading Group
DESCRIPTION:Radical Queer Tarot Reading Group is a space for novice to expert tarot readers to gather in non-hierarchical community to explore applying the wisdom of the tarot to apocalyptic times. We’ll focus on reading BIPOC/Queer/Leftist/Radical/Anti-Capitalist authors of tarot interpretation\, discussing what we’re learning\, & doing tarot spreads together to experience & interpret our new ideas. From tarot-curious to tarot master — if this offering speaks to you\, please join us. Contact radicalqueertarotreadinggroup@gmail.com for more information.
URL:https://qlibrary.org/event/radical-queer-tarot-reading-group/2026-05-09/
LOCATION:Quatrefoil Library\, 1220 East Lake Street\, Minneapolis\, MN\, 55407\, United States
CATEGORIES:Community Club
END:VEVENT
BEGIN:VEVENT
DTSTART;TZID=America/Chicago:20260509T183000
DTEND;TZID=America/Chicago:20260509T213000
DTSTAMP:20260423T055752
CREATED:20241028T215649Z
LAST-MODIFIED:20241028T220924Z
UID:10002471-1778351400-1778362200@qlibrary.org
SUMMARY:Quatrefoil Game Night
DESCRIPTION:
URL:https://qlibrary.org/event/quatrefoil-game-night/2026-05-09/
LOCATION:Quatrefoil Library\, 1220 East Lake Street\, Minneapolis\, MN\, 55407\, United States
CATEGORIES:Community Club
END:VEVENT
BEGIN:VEVENT
DTSTART;TZID=America/Chicago:20260510T100000
DTEND;TZID=America/Chicago:20260510T170000
DTSTAMP:20260423T055752
CREATED:20260406T202056Z
LAST-MODIFIED:20260406T202056Z
UID:10004501-1778407200-1778432400@qlibrary.org
SUMMARY:Quatrefoil in Doors Open Minneapolis
DESCRIPTION:For the very first time\, Quatrefoil Library is participating in Doors Open Minneapolis! Join us at the Library between 10am and 5pm on May 9th or 10th to tour the space and connect to our shared local queer history. \nDoors Open events are free public celebrations that invite people to explore the buildings\, spaces\, and stories that shape a city’s identity. During Doors Open venues of architectural\, cultural\, civic\, and social significance open their doors to the public—many offering behind-the-scenes access not typically available. From historic landmarks to cutting-edge workspaces\, sacred spaces to industrial sites\, these programs are designed to spark curiosity and deepen connection between people and place. Learn More Here: https://www.doorsopenminneapolis.org
URL:https://qlibrary.org/event/quatrefoil-in-doors-open-minneapolis-2/
LOCATION:Quatrefoil Library\, 1220 East Lake Street\, Minneapolis\, MN\, 55407\, United States
END:VEVENT
BEGIN:VEVENT
DTSTART;TZID=America/Chicago:20260511T173000
DTEND;TZID=America/Chicago:20260511T183000
DTSTAMP:20260423T055752
CREATED:20260406T203149Z
LAST-MODIFIED:20260406T203149Z
UID:10004564-1778520600-1778524200@qlibrary.org
SUMMARY:Volunteer Committee Meeting
DESCRIPTION:Our volunteer committee is responsible for recruiting and training volunteers. They also maintain our volunteer schedule\, for operating hours and special events. \nAnyone is welcome to stop in if interested in joining\, or to share constructive ideas. You can also sign up via our volunteer form. \nThis meeting is held in the library space\, with a virtual option available.
URL:https://qlibrary.org/event/volunteer-committee-meeting-4/2026-05-11/
LOCATION:Quatrefoil Library\, 1220 East Lake Street\, Minneapolis\, MN\, 55407\, United States
CATEGORIES:Committee Meetings
END:VEVENT
BEGIN:VEVENT
DTSTART;TZID=America/Chicago:20260512T180000
DTEND;TZID=America/Chicago:20260512T190000
DTSTAMP:20260423T055752
CREATED:20251207T180057Z
LAST-MODIFIED:20251207T180057Z
UID:10003649-1778608800-1778612400@qlibrary.org
SUMMARY:Programming Committee Meeting
DESCRIPTION:*Programming is on break from December 2025- January 2026. We will resume regular meeting times in February. If interested in joining in the new year\, reach out to Programming via email.* \nRegular meeting of the Quatrefoil Programming Committee. Committee meets every second and fourth Tuesday in the library (with a virtual option available for committee members) from 6:00 – 7:00pm. Reach out to programming@quatrefoil.org if you are interested in joining.
URL:https://qlibrary.org/event/programming-committee-meeting-6-2-2-2-2/2026-05-12/
LOCATION:Quatrefoil Library\, 1220 East Lake Street\, Minneapolis\, MN\, 55407\, United States
CATEGORIES:Committee Meetings
END:VEVENT
BEGIN:VEVENT
DTSTART;TZID=America/Chicago:20260512T190000
DTEND;TZID=America/Chicago:20260512T203000
DTSTAMP:20260423T055752
CREATED:20250211T005150Z
LAST-MODIFIED:20250211T005150Z
UID:10003157-1778612400-1778617800@qlibrary.org
SUMMARY:North Country Gaylaxians Book Club (Online)
DESCRIPTION:The meeting of the Twin Cities chapter of the Gaylactic Network\, an organization for the GLBT fan community\, whether it be science fiction\, fantasy\, horror\, comics\, or gaming. We read and discuss books of speculative fiction with GLBT or similar content or by GLBT authors. We meet the second Tuesday of the month at 7:00 pm on Zoom. Also\, monthly gaming get-togethers in a private home. \n  \nInfo on events can be found on their Facebook page:    https://www.facebook.com/groups/NorthCountryGaylaxians/
URL:https://qlibrary.org/event/north-country-gaylaxians-book-club-online/2026-05-12/
LOCATION:Quatrefoil Library\, 1220 East Lake Street\, Minneapolis\, MN\, 55407\, United States
CATEGORIES:Book Club,Online Events
END:VEVENT
BEGIN:VEVENT
DTSTART;TZID=America/Chicago:20260513T190000
DTEND;TZID=America/Chicago:20260513T200000
DTSTAMP:20260423T055752
CREATED:20260124T211424Z
LAST-MODIFIED:20260124T211425Z
UID:10000948-1778698800-1778702400@qlibrary.org
SUMMARY:Moon Palace Queer Book Club
DESCRIPTION:Event by Moon Palace Books \nPublic  ·  Join us for Queer Book Club every second Wednesday from 7-8pm at Quatrefoil Library\, 1220 East Lake Street\, Minneapolis\, MN 55407! (Please note that in the summer we will only meet at Quatrefoil if it rains. Otherwise we will meet at Brackett Park.) \n\n\n\n\n\n\n\n\n\n\n\n\n\n\n\n\n\n\n\n\nBuy Books
URL:https://qlibrary.org/event/moon-palace-queer-book-club-2-2-2-2-2/2026-05-13/
LOCATION:Quatrefoil Library\, 1220 East Lake Street\, Minneapolis\, MN\, 55407\, United States
CATEGORIES:Book Club
END:VEVENT
BEGIN:VEVENT
DTSTART;TZID=America/Chicago:20260514T190000
DTEND;TZID=America/Chicago:20260514T200000
DTSTAMP:20260423T055752
CREATED:20250527T225555Z
LAST-MODIFIED:20250527T225556Z
UID:10003435-1778785200-1778788800@qlibrary.org
SUMMARY:Library Patron's Union Meeting
DESCRIPTION:The Library Patrons Union is an explicitly leftist\, community-run union of Hennepin County Library patrons\, organizing for more just public libraries. https://librarypatronsunion.com \nEmail librarypatronsunion@gmail.com with questions.
URL:https://qlibrary.org/event/library-patrons-union-meeting-2-2-2/2026-05-14/
LOCATION:Quatrefoil Library\, 1220 East Lake Street\, Minneapolis\, MN\, 55407\, United States
CATEGORIES:Community Club
END:VEVENT
BEGIN:VEVENT
DTSTART;TZID=America/Chicago:20260516T100000
DTEND;TZID=America/Chicago:20260516T120000
DTSTAMP:20260423T055752
CREATED:20260417T210319Z
LAST-MODIFIED:20260417T210319Z
UID:10004623-1778925600-1778932800@qlibrary.org
SUMMARY:Comfy Coffee and Conversation Hour: Crafts!
DESCRIPTION:Join the Quatrefoil Programming Committee as we enjoy each others’ company in a low stakes environment for a coffee and conversations hour. During this event\, we encourage folks to BYOC – Bring Your Own Crafts. There will also be a craft supply exchange table if you want to donate old crafting supplies or pick up new ones. Anyone who shows up empty handed and just wants to enjoy the breakfast treats and good company is also strongly encouraged to attend\, we will have coloring pages and drawing supplies on hand. \n  \nThis is an event in the Spring Into New Connections Event Series. More details to come!
URL:https://qlibrary.org/event/comfy-coffee-and-conversation-hour-crafts/
LOCATION:Quatrefoil Library\, 1220 East Lake Street\, Minneapolis\, MN\, 55407\, United States
CATEGORIES:Event Series
END:VEVENT
BEGIN:VEVENT
DTSTART;TZID=America/Chicago:20260516T131500
DTEND;TZID=America/Chicago:20260516T151500
DTSTAMP:20260423T055752
CREATED:20240114T221451Z
LAST-MODIFIED:20240114T225022Z
UID:10001143-1778937300-1778944500@qlibrary.org
SUMMARY:Prime Timers Bookclub
DESCRIPTION:This monthly book club is a subgroup of the Twin Cities Prime Timers Club\, which is affiliated with the state and national organizations. It meets each third Saturday of the month at Quatrefoil from 1:15pm – 3:15pm. \nBook of the month:
URL:https://qlibrary.org/event/prime-timers-bookclub-4-2/2026-05-16/
LOCATION:Quatrefoil Library\, 1220 East Lake Street\, Minneapolis\, MN\, 55407\, United States
END:VEVENT
BEGIN:VEVENT
DTSTART;TZID=America/Chicago:20260517T130000
DTEND;TZID=America/Chicago:20260517T160000
DTSTAMP:20260423T055752
CREATED:20231118T021214Z
LAST-MODIFIED:20231118T021255Z
UID:10000886-1779022800-1779033600@qlibrary.org
SUMMARY:Prime Timers Dominoes
DESCRIPTION:Join the Prime Timers for an afternoon of dominoes. Feel free to bring a snack to share and your dominoes set\, though not required.
URL:https://qlibrary.org/event/prime-timers-dominoes-5-2/2026-05-17/
LOCATION:MN
END:VEVENT
BEGIN:VEVENT
DTSTART;TZID=America/Chicago:20260520T190000
DTEND;TZID=America/Chicago:20260520T210000
DTSTAMP:20260423T055752
CREATED:20240114T181948Z
LAST-MODIFIED:20240324T164415Z
UID:10001559-1779303600-1779310800@qlibrary.org
SUMMARY:Queer Threads
DESCRIPTION:Queer threads: a weekly intergenerational craft night for LGBTQ people of all genders \nwhat: a weekly craft night for knitting\, crochet\, embroidery\, mending\, quilting\, and other portable crafts \nwhy: find community and camaraderie with other LGBTQ crafters \nwho: for all ages and genders. Kids are welcome\, but childcare is not provided. \nwhere: Quatrefoil Library at 1220 E Lake St Minneapolis. \nwhen: Wednesday nights from 7-9 pm \naccessibility: please wear a mask. \nhelp us cultivate a welcoming group: crafting is for all gender identities and types of gender expression; ask for (rather than assume) pronouns; all types of yarn and materials\, experience levels\, and portable craft projects are welcome.
URL:https://qlibrary.org/event/queer-threads-4/2026-05-20/
LOCATION:Quatrefoil Library\, 1220 East Lake Street\, Minneapolis\, MN\, 55407\, United States
CATEGORIES:Community Club
END:VEVENT
BEGIN:VEVENT
DTSTART;TZID=America/Chicago:20260520T190000
DTEND;TZID=America/Chicago:20260520T210000
DTSTAMP:20260423T055752
CREATED:20260108T012658Z
LAST-MODIFIED:20260108T013340Z
UID:10001227-1779303600-1779310800@qlibrary.org
SUMMARY:Twin Cities Lesbian Fiction Book Club (Online)
DESCRIPTION:Virtual Book Club that meets online via Zoom – please direct all questions and requests for the Zoom link to jchandlerauthor@gmail.com \nYou are welcome to attend even if you didn’t read the book\, or didn’t like it. We enjoy staying in touch with our friends! \nBook of the month: \n2026 \nJanuary—SWITCH by Ann McMann AND SAFEKEEP by Yael Van Der Wouden \nFebruary—ATMOSPHERE by Taylor Jenkins Reid \nMarch—POSTCARDS FROM ONKEL HENRY by Lou Bender \nApril—CLEAN KILL by Anne Laughlin (she just might be featured in the This Queer Book Saved My Life Podcast too) \nMay—ANNIE ON MY MIND by Nancy Garden (a throwback—1982—and homage to lesbian authors upon whose shoulders we stand) \nJune—ART OF DECEPTION by Riley Cooper
URL:https://qlibrary.org/event/twin-cities-lesbian-fiction-book-club-5-2-2-2/2026-05-20/
LOCATION:Online Events
CATEGORIES:Book Club,Online Events
END:VEVENT
BEGIN:VEVENT
DTSTART;TZID=America/Chicago:20260523T100000
DTEND;TZID=America/Chicago:20260523T120000
DTSTAMP:20260423T055752
CREATED:20260406T202623Z
LAST-MODIFIED:20260417T210122Z
UID:10004502-1779530400-1779537600@qlibrary.org
SUMMARY:Comfy Coffee and Conversations Hour: Puzzles and Games!
DESCRIPTION:Join the Quatrefoil Programming Committee as we enjoy each others’ company in a low stakes environment for a coffee and conversations hour. During this event\, we encourage folks to BYOP or BYOG – Bring Your Own Puzzles or Bring Your Own Games. There will also be a puzzle and game exchange table if you want to donate old puzzles and board games or pick up new ones. Anyone who shows up empty handed and just wants to enjoy the breakfast treats and good company is also strongly encouraged to attend. \n  \nThis is an event in the Spring Into New Connections Event Series. More details to come!
URL:https://qlibrary.org/event/comfy-coffee-and-conversations-hour/
LOCATION:Quatrefoil Library\, 1220 East Lake Street\, Minneapolis\, MN\, 55407\, United States
CATEGORIES:Event Series
END:VEVENT
BEGIN:VEVENT
DTSTART;TZID=America/Chicago:20260523T183000
DTEND;TZID=America/Chicago:20260523T213000
DTSTAMP:20260423T055752
CREATED:20241028T215739Z
LAST-MODIFIED:20241028T215739Z
UID:10002531-1779561000-1779571800@qlibrary.org
SUMMARY:Quatrefoil Game Night
DESCRIPTION:
URL:https://qlibrary.org/event/quatrefoil-game-night-2/2026-05-23/
LOCATION:Quatrefoil Library\, 1220 East Lake Street\, Minneapolis\, MN\, 55407\, United States
CATEGORIES:Community Club
END:VEVENT
BEGIN:VEVENT
DTSTART;TZID=America/Chicago:20260524T130000
DTEND;TZID=America/Chicago:20260524T140000
DTSTAMP:20260423T055752
CREATED:20260108T024423Z
LAST-MODIFIED:20260108T024609Z
UID:10004420-1779627600-1779631200@qlibrary.org
SUMMARY:Transgender Book Club
DESCRIPTION:The Transgender Book Club meets the fourth Sunday of the month from 1-2pm to discuss books by and about trans people. We welcome people of all genders\, orientations\, and backgrounds! \n1/25 Model Home by Rivers Solomon \n2/22 The Four Profound Weaves by R.B. Lemberg \n3/22 Hot Girls with Balls by Benedict Nguyen \n4/26 Rules for Ghosting by Shelley Jay Shore \n5/24 Horse Barbie by Geena Rocero \n6/21 Trans History by Alex L. Combs \n7/26 Just Shy of Ordinary by A.J. Sass \n8/23 Bellies by Nicola Dinan \n9/27 So Many Stars by Caro de Robertis \n10/25 Old Wounds by Logan-Ashley Kisner \n11/22 Call Me Max by Kyle Lukoff \n  \nFind us on Facebook at “Transgender Book Club at Quatrefoil Library” and on Instagram at “tc_transbookclub”
URL:https://qlibrary.org/event/transgender-book-club-7/2026-05-24/
LOCATION:Quatrefoil Library\, 1220 East Lake Street\, Minneapolis\, MN\, 55407\, United States
CATEGORIES:Book Club
END:VEVENT
BEGIN:VEVENT
DTSTART;TZID=America/Chicago:20260525T173000
DTEND;TZID=America/Chicago:20260525T183000
DTSTAMP:20260423T055752
CREATED:20240324T163158Z
LAST-MODIFIED:20240407T163136Z
UID:10001749-1779730200-1779733800@qlibrary.org
SUMMARY:Volunteer Committee Meeting
DESCRIPTION:Our volunteer committee is responsible for recruiting and training volunteers. They also maintain our volunteer schedule\, for operating hours and special events. \nAnyone is welcome to stop in if interested in joining\, or to share constructive ideas. You can also sign up via our volunteer form. \nThis meeting is held in the library space\, with a virtual option available.
URL:https://qlibrary.org/event/volunteer-committee-meeting-3/2026-05-25/
LOCATION:Quatrefoil Library\, 1220 East Lake Street\, Minneapolis\, MN\, 55407\, United States
CATEGORIES:Committee Meetings
END:VEVENT
BEGIN:VEVENT
DTSTART;TZID=America/Chicago:20260526T180000
DTEND;TZID=America/Chicago:20260526T190000
DTSTAMP:20260423T055752
CREATED:20250909T212404Z
LAST-MODIFIED:20250909T212404Z
UID:10003774-1779818400-1779822000@qlibrary.org
SUMMARY:Programming Committee Meeting
DESCRIPTION:Regular meeting of the Quatrefoil Programming Committee. Committee meets every second and fourth Tuesday in the library (with a virtual option available for committee members) from 6:00 – 7:00pm. Reach out to programming@quatrefoil.org if you are interested in joining.
URL:https://qlibrary.org/event/programming-committee-meeting-8-2/2026-05-26/
LOCATION:Quatrefoil Library\, 1220 East Lake Street\, Minneapolis\, MN\, 55407\, United States
CATEGORIES:Committee Meetings
END:VEVENT
BEGIN:VEVENT
DTSTART;TZID=America/Chicago:20260527T183000
DTEND;TZID=America/Chicago:20260527T203000
DTSTAMP:20260423T055752
CREATED:20250825T002742Z
LAST-MODIFIED:20250825T002743Z
UID:10003528-1779906600-1779913800@qlibrary.org
SUMMARY:OFFSITE - Twin Cities Queer Transplant Group
DESCRIPTION:NOTE: The Twin Cities Queer Transplant Group is currently meeting at the Pride Cultural Arts Center. \nThe Twin Cities Queer Transplant Group is a new community meetup for folks who have recently relocated to the Twin Cities. Drop by to meet new people\, learn about local LGBTQIA+ resources\, chat\, and share your favorite Twin Cities discoveries! Locals\, partners\, and family welcome. Meetings hosted every 4th Wednesday at PCAC. \n  \nQuestions and information requests can be sent to TCTransplants@gmail.com
URL:https://qlibrary.org/event/twin-cities-queer-transplant-group-2-2-3/2026-05-27/
LOCATION:Pride Cultural Arts Center\, 1201 Harmon Pl Ste 104\, Minneapolis\, MN\, 55403
CATEGORIES:Community Club
END:VEVENT
END:VCALENDAR