BEGIN:VCALENDAR
VERSION:2.0
PRODID:-//Quatrefoil Library - ECPv6.15.20//NONSGML v1.0//EN
CALSCALE:GREGORIAN
METHOD:PUBLISH
X-WR-CALNAME:Quatrefoil Library
X-ORIGINAL-URL:https://qlibrary.org
X-WR-CALDESC:Events for Quatrefoil Library
REFRESH-INTERVAL;VALUE=DURATION:PT1H
X-Robots-Tag:noindex
X-PUBLISHED-TTL:PT1H
BEGIN:VTIMEZONE
TZID:America/Chicago
BEGIN:DAYLIGHT
TZOFFSETFROM:-0600
TZOFFSETTO:-0500
TZNAME:CDT
DTSTART:20240310T080000
END:DAYLIGHT
BEGIN:STANDARD
TZOFFSETFROM:-0500
TZOFFSETTO:-0600
TZNAME:CST
DTSTART:20241103T070000
END:STANDARD
BEGIN:DAYLIGHT
TZOFFSETFROM:-0600
TZOFFSETTO:-0500
TZNAME:CDT
DTSTART:20250309T080000
END:DAYLIGHT
BEGIN:STANDARD
TZOFFSETFROM:-0500
TZOFFSETTO:-0600
TZNAME:CST
DTSTART:20251102T070000
END:STANDARD
BEGIN:DAYLIGHT
TZOFFSETFROM:-0600
TZOFFSETTO:-0500
TZNAME:CDT
DTSTART:20260308T080000
END:DAYLIGHT
BEGIN:STANDARD
TZOFFSETFROM:-0500
TZOFFSETTO:-0600
TZNAME:CST
DTSTART:20261101T070000
END:STANDARD
END:VTIMEZONE
BEGIN:VEVENT
DTSTART;TZID=America/Chicago:20251105T190000
DTEND;TZID=America/Chicago:20251105T210000
DTSTAMP:20260423T144147
CREATED:20240324T164527Z
LAST-MODIFIED:20240324T164545Z
UID:10001614-1762369200-1762376400@qlibrary.org
SUMMARY:Queer Threads
DESCRIPTION:Queer threads: a weekly intergenerational craft night for LGBTQ people of all genders \nwhat: a weekly craft night for knitting\, crochet\, embroidery\, mending\, quilting\, and other portable crafts \nwhy: find community and camaraderie with other LGBTQ crafters \nwho: for all ages and genders. Kids are welcome\, but childcare is not provided. \nwhere: Quatrefoil Library at 1220 E Lake St Minneapolis. \nwhen: 1st and 3rd Wednesday nights from 7-9 pm \naccessibility: please wear a mask. \nhelp us cultivate a welcoming group: crafting is for all gender identities and types of gender expression; ask for (rather than assume) pronouns; all types of yarn and materials\, experience levels\, and portable craft projects are welcome.
URL:https://qlibrary.org/event/queer-threads-6/2025-11-05/
LOCATION:Quatrefoil Library: Spirit on Lake Community Room\, 1220 E Lake St\, Minneapolis\, MN\, 55407\, United States
CATEGORIES:Community Club
END:VEVENT
BEGIN:VEVENT
DTSTART;TZID=America/Chicago:20251104T190000
DTEND;TZID=America/Chicago:20251104T203000
DTSTAMP:20260423T144147
CREATED:20250527T225421Z
LAST-MODIFIED:20250527T225421Z
UID:10003370-1762282800-1762288200@qlibrary.org
SUMMARY:Technology Committee Meeting
DESCRIPTION:The tech committee meets hybrid on the first Tuesday of each month. Contact technology@quatrefoil.org if you are interested in joining!
URL:https://qlibrary.org/event/technology-committee-meeting/2025-11-04/
LOCATION:Quatrefoil Library\, 1220 East Lake Street\, Minneapolis\, MN\, 55407\, United States
CATEGORIES:Committee Meetings
END:VEVENT
BEGIN:VEVENT
DTSTART;TZID=America/Chicago:20251102T133000
DTEND;TZID=America/Chicago:20251102T153000
DTSTAMP:20260423T144147
CREATED:20250909T212153Z
LAST-MODIFIED:20250909T212155Z
UID:10002616-1762090200-1762097400@qlibrary.org
SUMMARY:Twin Cities Aroace Solidarity Group
DESCRIPTION:Twin Cities Aroace Solidarity group is a joyful\, embracing 21+ creative community for progressive aroace-spec (aromantic and/or asexual spectrum) and queer allies to share mutual aid and friendship. We gather to socialize and discuss queer media. \nFind us on Meetup at: meetup.com/twin-cities-aroace-solidarity
URL:https://qlibrary.org/event/twin-cities-aroace-solidarity-group-4/2025-11-02/
LOCATION:Quatrefoil Library\, 1220 East Lake Street\, Minneapolis\, MN\, 55407\, United States
CATEGORIES:Community Club
END:VEVENT
BEGIN:VEVENT
DTSTART;TZID=America/Chicago:20251102T110000
DTEND;TZID=America/Chicago:20251102T130000
DTSTAMP:20260423T144147
CREATED:20241028T215403Z
LAST-MODIFIED:20241028T215403Z
UID:10002404-1762081200-1762088400@qlibrary.org
SUMMARY:Rainbow Reads
DESCRIPTION:Queer reading party (not a book club) that meets in the Library on the first Sunday of every month. This group allows people to share what they have been reading and interested in\, rather than discuss one book everyone has read.
URL:https://qlibrary.org/event/rainbow-reads-2/2025-11-02/
LOCATION:Quatrefoil Library\, 1220 East Lake Street\, Minneapolis\, MN\, 55407\, United States
CATEGORIES:Book Club
END:VEVENT
BEGIN:VEVENT
DTSTART;TZID=America/Chicago:20251102T100000
DTEND;TZID=America/Chicago:20251102T110000
DTSTAMP:20260423T144147
CREATED:20250909T213001Z
LAST-MODIFIED:20250909T213001Z
UID:10003829-1762077600-1762081200@qlibrary.org
SUMMARY:R.O.M.E.O. Book Club
DESCRIPTION:A book club open to all! Named after the founder’s late grandfather’s lunch group “Really Old Men Eating Out.” This group meets twice monthly at the Library couch space to discuss our progress on our reading and enjoy the company of fellow queer people. \nSeptember: Assata by Assata Shakur \nOctober: The Beet Queen by Louise Erdrich \nNovember: Son of a Witch by Gregory Macguire \nDecember: There There by Tommy Orange
URL:https://qlibrary.org/event/r-o-m-e-o-book-club/2025-11-02/
LOCATION:Quatrefoil Library\, 1220 East Lake Street\, Minneapolis\, MN\, 55407\, United States
CATEGORIES:Book Club
END:VEVENT
BEGIN:VEVENT
DTSTART;TZID=America/Chicago:20251101T173000
DTEND;TZID=America/Chicago:20251101T190000
DTSTAMP:20260423T144147
CREATED:20251002T001637Z
LAST-MODIFIED:20251002T001637Z
UID:10003877-1762018200-1762023600@qlibrary.org
SUMMARY:HIV Activism Panel with the Aliveness Project
DESCRIPTION:Join us for a panel with a group of local HIV activists talking about resilience and how we care for ourselves in the face of struggle\, hosted by the staff of the Aliveness Project. More details to come. \n  \nThis is the second event in the We Take Care of Us: Queer Resilience Event Series with Quatrefoil Library.
URL:https://qlibrary.org/event/hiv-activism-panel-with-the-aliveness-project/
LOCATION:Quatrefoil Library\, 1220 East Lake Street\, Minneapolis\, MN\, 55407\, United States
CATEGORIES:Event Series
END:VEVENT
BEGIN:VEVENT
DTSTART;TZID=America/Chicago:20251101T110000
DTEND;TZID=America/Chicago:20251101T160000
DTSTAMP:20260423T144147
CREATED:20250924T011713Z
LAST-MODIFIED:20250924T011713Z
UID:10003875-1761994800-1762012800@qlibrary.org
SUMMARY:Used Book Sale
DESCRIPTION:You are invited to Quatrefoil Library’s used book sale on November 1st from 11 am – 4 pm. There will be books\, CDs\, movies\, and more! We hope to see you there!
URL:https://qlibrary.org/event/used-book-sale/
LOCATION:Quatrefoil Library\, 1220 East Lake Street\, Minneapolis\, MN\, 55407\, United States
CATEGORIES:book sale
END:VEVENT
BEGIN:VEVENT
DTSTART;TZID=America/Chicago:20251028T180000
DTEND;TZID=America/Chicago:20251028T190000
DTSTAMP:20260423T144147
CREATED:20250909T212404Z
LAST-MODIFIED:20250909T212404Z
UID:10003767-1761674400-1761678000@qlibrary.org
SUMMARY:Programming Committee Meeting
DESCRIPTION:Regular meeting of the Quatrefoil Programming Committee. Committee meets every second and fourth Tuesday in the library (with a virtual option available for committee members) from 6:00 – 7:00pm. Reach out to programming@quatrefoil.org if you are interested in joining.
URL:https://qlibrary.org/event/programming-committee-meeting-8-2/2025-10-28/
LOCATION:Quatrefoil Library\, 1220 East Lake Street\, Minneapolis\, MN\, 55407\, United States
CATEGORIES:Committee Meetings
END:VEVENT
BEGIN:VEVENT
DTSTART;TZID=America/Chicago:20251027T173000
DTEND;TZID=America/Chicago:20251027T183000
DTSTAMP:20260423T144147
CREATED:20240324T163158Z
LAST-MODIFIED:20240407T163136Z
UID:10001742-1761586200-1761589800@qlibrary.org
SUMMARY:Volunteer Committee Meeting
DESCRIPTION:Our volunteer committee is responsible for recruiting and training volunteers. They also maintain our volunteer schedule\, for operating hours and special events. \nAnyone is welcome to stop in if interested in joining\, or to share constructive ideas. You can also sign up via our volunteer form. \nThis meeting is held in the library space\, with a virtual option available.
URL:https://qlibrary.org/event/volunteer-committee-meeting-3/2025-10-27/
LOCATION:Quatrefoil Library\, 1220 East Lake Street\, Minneapolis\, MN\, 55407\, United States
CATEGORIES:Committee Meetings
END:VEVENT
BEGIN:VEVENT
DTSTART;TZID=America/Chicago:20251026T130000
DTEND;TZID=America/Chicago:20251026T140000
DTSTAMP:20260423T144147
CREATED:20250210T235432Z
LAST-MODIFIED:20250211T005738Z
UID:10003211-1761483600-1761487200@qlibrary.org
SUMMARY:Transgender Book Club
DESCRIPTION:The Transgender Book Club meets the fourth Sunday of the month from 1-2pm to discuss books by and about trans people. We welcome people of all genders\, orientations\, and backgrounds! \n2025 Meeting Calendar: \n1/26 Bitter by Akwaeke Emezi2/23 Lunar Boy by Jes and Cin Wibowo3/23 Bluff by Danez Smith4/27 Pageboy by Elliot Page5/25 Girlmode by Magdalene Visaggio6/22 We Won’t Be Here Tomorrow by Margaret Killjoy7/27 A Shore Thing by Joanna Lowell8/24 The Dawnhounds by Sascha Stronach9/28 Just Happy to Be Here by Naomi Kanakia10/26 Dead Collections by Isaac Fellman11/23 Marley’s Pride by Joelle Retener
URL:https://qlibrary.org/event/transgender-book-club-6-2/2025-10-26/
LOCATION:Quatrefoil Library\, 1220 East Lake Street\, Minneapolis\, MN\, 55407\, United States
CATEGORIES:Book Club
END:VEVENT
BEGIN:VEVENT
DTSTART;TZID=America/Chicago:20251025T183000
DTEND;TZID=America/Chicago:20251025T213000
DTSTAMP:20260423T144147
CREATED:20241028T215739Z
LAST-MODIFIED:20241028T215739Z
UID:10002524-1761417000-1761427800@qlibrary.org
SUMMARY:Quatrefoil Game Night
DESCRIPTION:
URL:https://qlibrary.org/event/quatrefoil-game-night-2/2025-10-25/
LOCATION:Quatrefoil Library\, 1220 East Lake Street\, Minneapolis\, MN\, 55407\, United States
CATEGORIES:Community Club
END:VEVENT
BEGIN:VEVENT
DTSTART;TZID=America/Chicago:20251025T150000
DTEND;TZID=America/Chicago:20251025T170000
DTSTAMP:20260423T144147
CREATED:20250825T002523Z
LAST-MODIFIED:20250825T002523Z
UID:10003519-1761404400-1761411600@qlibrary.org
SUMMARY:Book Reading: Alchemy from Ashes
DESCRIPTION:A reading and book signing with author\, Kevin Hutchison. He will discuss\, Alchemy From Ashes\, his journey through the darkness of self-rejection into the wholeness and light of self-acceptance and love. Please join us!\nMore info is also available on the website alchemyfromashes.com.
URL:https://qlibrary.org/event/book-reading-alchemy-from-ashes/
LOCATION:Quatrefoil Library\, 1220 East Lake Street\, Minneapolis\, MN\, 55407\, United States
CATEGORIES:Reading
END:VEVENT
BEGIN:VEVENT
DTSTART;TZID=America/Chicago:20251023T190000
DTEND;TZID=America/Chicago:20251023T210000
DTSTAMP:20260423T144147
CREATED:20250130T231559Z
LAST-MODIFIED:20250130T233251Z
UID:10002911-1761246000-1761253200@qlibrary.org
SUMMARY:BiblioFemmes Book Club
DESCRIPTION:BiblioFemmes is a group of queer femmes who love books. We have a monthly book club at Quatrefoil and other events throughout the month\, including pottery making\, game nights\, social hours\, and more. We meet regularly with the express intention of creating a community\, so if you are looking for a book club AND some new friends\, we might be the right fit for you.  \n\n\n\nEveryone who describes themselves as a femme (small doses count) and who has done the reading is welcome to attend a book club (RSVPs appreciated but not required). If you are interested in the group\, but want to meet without homework\, please reach out to the email address listed below and we’ll add you to our Discord server and mailing list. \n\n\n\nContact: bibliofemmes.mn@gmail.com
URL:https://qlibrary.org/event/bibliofemmes-book-club/2025-10-23/
LOCATION:MN
END:VEVENT
BEGIN:VEVENT
DTSTART;TZID=America/Chicago:20251022T190000
DTEND;TZID=America/Chicago:20251022T210000
DTSTAMP:20260423T144147
CREATED:20250909T213747Z
LAST-MODIFIED:20251012T201007Z
UID:10003874-1761159600-1761166800@qlibrary.org
SUMMARY:MNPoly Community Building Event
DESCRIPTION:Let’s bring the MNPoly community together on a monthly basis with some exercises designed to build connections. \nWe will have an ice breaker as a whole group\, then break up into groups of 4-5 to perform a team building exercise that helps us really get to know each other a bit more. We’ll scramble the groups and do a second exercise. Then\, we’ll get back together as one big group to discuss what might change for next time. To conclude the night we will finish with an open mingling session to hang with some of your new-found friends!
URL:https://qlibrary.org/event/mnpoly-community-building-event/
LOCATION:Quatrefoil Library\, 1220 East Lake Street\, Minneapolis\, MN\, 55407\, United States
CATEGORIES:Community Club,Polyamory
END:VEVENT
BEGIN:VEVENT
DTSTART;TZID=America/Chicago:20251022T183000
DTEND;TZID=America/Chicago:20251022T203000
DTSTAMP:20260423T144147
CREATED:20250825T002742Z
LAST-MODIFIED:20250825T002743Z
UID:10003521-1761157800-1761165000@qlibrary.org
SUMMARY:OFFSITE - Twin Cities Queer Transplant Group
DESCRIPTION:NOTE: The Twin Cities Queer Transplant Group is currently meeting at the Pride Cultural Arts Center. \nThe Twin Cities Queer Transplant Group is a new community meetup for folks who have recently relocated to the Twin Cities. Drop by to meet new people\, learn about local LGBTQIA+ resources\, chat\, and share your favorite Twin Cities discoveries! Locals\, partners\, and family welcome. Meetings hosted every 4th Wednesday at PCAC. \n  \nQuestions and information requests can be sent to TCTransplants@gmail.com
URL:https://qlibrary.org/event/twin-cities-queer-transplant-group-2-2-3/2025-10-22/
LOCATION:Pride Cultural Arts Center\, 1201 Harmon Pl Ste 104\, Minneapolis\, MN\, 55403
CATEGORIES:Community Club
END:VEVENT
BEGIN:VEVENT
DTSTART;TZID=America/Chicago:20251019T130000
DTEND;TZID=America/Chicago:20251019T160000
DTSTAMP:20260423T144147
CREATED:20231118T021214Z
LAST-MODIFIED:20231118T021255Z
UID:10000879-1760878800-1760889600@qlibrary.org
SUMMARY:Prime Timers Dominoes
DESCRIPTION:Join the Prime Timers for an afternoon of dominoes. Feel free to bring a snack to share and your dominoes set\, though not required.
URL:https://qlibrary.org/event/prime-timers-dominoes-5-2/2025-10-19/
LOCATION:MN
END:VEVENT
BEGIN:VEVENT
DTSTART;TZID=America/Chicago:20251019T100000
DTEND;TZID=America/Chicago:20251019T110000
DTSTAMP:20260423T144147
CREATED:20250909T213001Z
LAST-MODIFIED:20250909T213001Z
UID:10003828-1760868000-1760871600@qlibrary.org
SUMMARY:R.O.M.E.O. Book Club
DESCRIPTION:A book club open to all! Named after the founder’s late grandfather’s lunch group “Really Old Men Eating Out.” This group meets twice monthly at the Library couch space to discuss our progress on our reading and enjoy the company of fellow queer people. \nSeptember: Assata by Assata Shakur \nOctober: The Beet Queen by Louise Erdrich \nNovember: Son of a Witch by Gregory Macguire \nDecember: There There by Tommy Orange
URL:https://qlibrary.org/event/r-o-m-e-o-book-club/2025-10-19/
LOCATION:Quatrefoil Library\, 1220 East Lake Street\, Minneapolis\, MN\, 55407\, United States
CATEGORIES:Book Club
END:VEVENT
BEGIN:VEVENT
DTSTART;TZID=America/Chicago:20251018T131500
DTEND;TZID=America/Chicago:20251018T151500
DTSTAMP:20260423T144147
CREATED:20250123T234922Z
LAST-MODIFIED:20250123T234922Z
UID:10002811-1760793300-1760800500@qlibrary.org
SUMMARY:Prime Timers Book Club
DESCRIPTION:This monthly book club is a subgroup of the Twin Cities Prime Timers Club\, which is affiliated with the state and national organizations. It meets each third Saturday of the month at Quatrefoil from 1:15pm – 3:15pm. \nMarch Book of the Month: Shortest Way Home By Peter Buttigieg
URL:https://qlibrary.org/event/prime-timers-book-club-2/2025-10-18/
LOCATION:Quatrefoil Library\, 1220 East Lake Street\, Minneapolis\, MN\, 55407\, United States
CATEGORIES:Book Club
END:VEVENT
BEGIN:VEVENT
DTSTART;TZID=America/Chicago:20251015T190000
DTEND;TZID=America/Chicago:20251015T210000
DTSTAMP:20260423T144147
CREATED:20250719T153650Z
LAST-MODIFIED:20250816T174847Z
UID:10001220-1760554800-1760562000@qlibrary.org
SUMMARY:Twin Cities Lesbian Fiction Book Club (Online)
DESCRIPTION:Virtual Book Club that meets online via Zoom – please direct all questions and requests for the Zoom link to jchandlerauthor@gmail.com \nYou are welcome to attend even if you didn’t read the book\, or didn’t like it. We enjoy staying in touch with our friends! \nBook of the month: \n2025 \nJuly (will discuss in August)—LAST CHANCE CHICAGO by Diana DiGangi \nAugust—SCORCHED GRACE by Margo Douaihy \nSeptember—POSTMARKED CASTLE COVE by Judy Kerr \nOctober—DESPITE HERSELF by Jessie Chandler \nNovember—WATERLOGGED by Nance Sparks \nDecember—THE SAFEKEEP by Yael Van der Wouden (in hardcover now\, but will be out in paperback May 27th)
URL:https://qlibrary.org/event/twin-cities-lesbian-fiction-book-club-5-2/2025-10-15/
LOCATION:Online Events
CATEGORIES:Book Club,Online Events
END:VEVENT
BEGIN:VEVENT
DTSTART;TZID=America/Chicago:20251015T190000
DTEND;TZID=America/Chicago:20251015T210000
DTSTAMP:20260423T144147
CREATED:20240114T181948Z
LAST-MODIFIED:20240324T164415Z
UID:10001552-1760554800-1760562000@qlibrary.org
SUMMARY:Queer Threads
DESCRIPTION:Queer threads: a weekly intergenerational craft night for LGBTQ people of all genders \nwhat: a weekly craft night for knitting\, crochet\, embroidery\, mending\, quilting\, and other portable crafts \nwhy: find community and camaraderie with other LGBTQ crafters \nwho: for all ages and genders. Kids are welcome\, but childcare is not provided. \nwhere: Quatrefoil Library at 1220 E Lake St Minneapolis. \nwhen: Wednesday nights from 7-9 pm \naccessibility: please wear a mask. \nhelp us cultivate a welcoming group: crafting is for all gender identities and types of gender expression; ask for (rather than assume) pronouns; all types of yarn and materials\, experience levels\, and portable craft projects are welcome.
URL:https://qlibrary.org/event/queer-threads-4/2025-10-15/
LOCATION:Quatrefoil Library\, 1220 East Lake Street\, Minneapolis\, MN\, 55407\, United States
CATEGORIES:Community Club
END:VEVENT
BEGIN:VEVENT
DTSTART;TZID=America/Chicago:20251014T190000
DTEND;TZID=America/Chicago:20251014T203000
DTSTAMP:20260423T144147
CREATED:20250211T005150Z
LAST-MODIFIED:20250211T005150Z
UID:10003150-1760468400-1760473800@qlibrary.org
SUMMARY:North Country Gaylaxians Book Club (Online)
DESCRIPTION:The meeting of the Twin Cities chapter of the Gaylactic Network\, an organization for the GLBT fan community\, whether it be science fiction\, fantasy\, horror\, comics\, or gaming. We read and discuss books of speculative fiction with GLBT or similar content or by GLBT authors. We meet the second Tuesday of the month at 7:00 pm on Zoom. Also\, monthly gaming get-togethers in a private home. \n  \nInfo on events can be found on their Facebook page:    https://www.facebook.com/groups/NorthCountryGaylaxians/
URL:https://qlibrary.org/event/north-country-gaylaxians-book-club-online/2025-10-14/
LOCATION:Quatrefoil Library\, 1220 East Lake Street\, Minneapolis\, MN\, 55407\, United States
CATEGORIES:Book Club,Online Events
END:VEVENT
BEGIN:VEVENT
DTSTART;TZID=America/Chicago:20251014T180000
DTEND;TZID=America/Chicago:20251014T190000
DTSTAMP:20260423T144147
CREATED:20250909T212319Z
LAST-MODIFIED:20250909T212320Z
UID:10003642-1760464800-1760468400@qlibrary.org
SUMMARY:Programming Committee Meeting
DESCRIPTION:Regular meeting of the Quatrefoil Programming Committee. Committee meets every second and fourth Tuesday in the library (with a virtual option available for committee members) from 6:00 – 7:00pm. Reach out to programming@quatrefoil.org if you are interested in joining.
URL:https://qlibrary.org/event/programming-committee-meeting-6-2-2-2/2025-10-14/
LOCATION:Quatrefoil Library\, 1220 East Lake Street\, Minneapolis\, MN\, 55407\, United States
CATEGORIES:Committee Meetings
END:VEVENT
BEGIN:VEVENT
DTSTART;TZID=America/Chicago:20251011T183000
DTEND;TZID=America/Chicago:20251011T213000
DTSTAMP:20260423T144147
CREATED:20241028T215649Z
LAST-MODIFIED:20241028T220924Z
UID:10002464-1760207400-1760218200@qlibrary.org
SUMMARY:Quatrefoil Game Night
DESCRIPTION:
URL:https://qlibrary.org/event/quatrefoil-game-night/2025-10-11/
LOCATION:Quatrefoil Library\, 1220 East Lake Street\, Minneapolis\, MN\, 55407\, United States
CATEGORIES:Community Club
END:VEVENT
BEGIN:VEVENT
DTSTART;TZID=America/Chicago:20251011T150000
DTEND;TZID=America/Chicago:20251011T170000
DTSTAMP:20260423T144147
CREATED:20251002T001249Z
LAST-MODIFIED:20251002T001323Z
UID:10003876-1760194800-1760202000@qlibrary.org
SUMMARY:Sustained Futures with Boneshaker Books
DESCRIPTION:Volunteers from Boneshaker Books share what goes into sustaining a collectively run bookstore and community space\, discuss the projects we appreciate in the Twin Cities\, and dream about the things we wished existed\, and the type of effort that might be required to make them real. \n  \nJoin us for a presentation\, an interactive brainstorming activity\, and a shared discussion. People of all ages (children included) are welcome! This is the first event in the We Take Care of Us: Queer Resilience Event Series with Quatrefoil Library.
URL:https://qlibrary.org/event/sustained-futures-with-boneshaker-books/
LOCATION:Quatrefoil Library\, 1220 East Lake Street\, Minneapolis\, MN\, 55407\, United States
CATEGORIES:Event Series
END:VEVENT
BEGIN:VEVENT
DTSTART;TZID=America/Chicago:20251011T120000
DTEND;TZID=America/Chicago:20251011T140000
DTSTAMP:20260423T144147
CREATED:20250130T234137Z
LAST-MODIFIED:20250130T234630Z
UID:10003031-1760184000-1760191200@qlibrary.org
SUMMARY:Radical Queer Tarot Reading Group
DESCRIPTION:Radical Queer Tarot Reading Group is a space for novice to expert tarot readers to gather in non-hierarchical community to explore applying the wisdom of the tarot to apocalyptic times. We’ll focus on reading BIPOC/Queer/Leftist/Radical/Anti-Capitalist authors of tarot interpretation\, discussing what we’re learning\, & doing tarot spreads together to experience & interpret our new ideas. From tarot-curious to tarot master — if this offering speaks to you\, please join us. Contact radicalqueertarotreadinggroup@gmail.com for more information.
URL:https://qlibrary.org/event/radical-queer-tarot-reading-group/2025-10-11/
LOCATION:Quatrefoil Library\, 1220 East Lake Street\, Minneapolis\, MN\, 55407\, United States
CATEGORIES:Community Club
END:VEVENT
BEGIN:VEVENT
DTSTART;TZID=America/Chicago:20251009T190000
DTEND;TZID=America/Chicago:20251009T200000
DTSTAMP:20260423T144147
CREATED:20250527T225555Z
LAST-MODIFIED:20250527T225556Z
UID:10003428-1760036400-1760040000@qlibrary.org
SUMMARY:Library Patron's Union Meeting
DESCRIPTION:The Library Patrons Union is an explicitly leftist\, community-run union of Hennepin County Library patrons\, organizing for more just public libraries. https://librarypatronsunion.com \nEmail librarypatronsunion@gmail.com with questions.
URL:https://qlibrary.org/event/library-patrons-union-meeting-2-2-2/2025-10-09/
LOCATION:Quatrefoil Library\, 1220 East Lake Street\, Minneapolis\, MN\, 55407\, United States
CATEGORIES:Community Club
END:VEVENT
BEGIN:VEVENT
DTSTART;TZID=America/Chicago:20251009T183000
DTEND;TZID=America/Chicago:20251009T203000
DTSTAMP:20260423T144147
CREATED:20250909T213448Z
LAST-MODIFIED:20250909T223636Z
UID:10003866-1760034600-1760041800@qlibrary.org
SUMMARY:OFFSITE - Minnesota Writers Off the Page - The Lonely Veteran’s Guide to Companionship
DESCRIPTION:Hosting by the Minnesota Humanities Center\, the event will show how in the collection of interrelated essays\, a queer veteran explores companionship\, the role of the outsider\, and the myriad ways we navigate aimlessness while searching for stability and meaning.
URL:https://qlibrary.org/event/offsite-minnesota-writers-off-the-page-the-lonely-veterans-guide-to-companionship/
LOCATION:Minnesota Humanities Center\, 987 Ivy Ave E\,\, St Paul\, MN\, 55106\, United States
CATEGORIES:Reading
END:VEVENT
BEGIN:VEVENT
DTSTART;TZID=America/Chicago:20251008T190000
DTEND;TZID=America/Chicago:20251008T200000
DTSTAMP:20260423T144147
CREATED:20250114T004229Z
LAST-MODIFIED:20250114T004622Z
UID:10000941-1759950000-1759953600@qlibrary.org
SUMMARY:Moon Palace Queer Book Club
DESCRIPTION:Event by Moon Palace Books \nPublic  ·  Join us for Queer Book Club every second Wednesday from 7-8pm at Quatrefoil Library\, 1220 East Lake Street\, Minneapolis\, MN 55407! (Please note that in the summer we will only meet at Quatrefoil if it rains. Otherwise we will meet at Brackett Park.) \n  \n\n\n\n\n\n\n\nQueer Book Club April\n\n\n\nWednesday Apr 9th\, 2025\n\n\n7:00 PM\n\n\n–\n\n\n8:00 PM\n\n\n Quatrefoil Library\, 1220 East Lake Street\, Minneapolis\, MN 55407\n\n\n\n\n\n\n\nJoin us for Queer Book Club on Wednesday\, April 9th\, at 7:00pm at Quatrefoil Library\, 1220 East Lake Street\, Minneapolis\, MN 55407. We’ll be discussing Blood Orange by Mx. Yaffa. Anyone is welcome to join whether you’ve read the whole book or just skimmed a few pages. We meet the second Wednesdays of every month! \n“Blood Orange” is a highly emotional\, important and timely poetry collection by Mx. Yaffa (They/She)\, a trans Muslim displaced Indigenous Palestinian. Their writings probe the yearning for home\, belonging\, mental health\, queerness\, transness\, and other dimensions of marginalization while nurturing dreams of utopia against the background of ongoing displacement and genocide of indigenous Palestinians. \nThis highly charged and cathartic body of work confronts the anguish and loss inflicted by genocide but also embraces a vision of a world free of it. The poems within “Blood Orange” were a means of working through and processing the grief caused by recent events and serve as an act of protest and defiance against settler colonialism as a whole. \n\n\n\n\n\n\n\n\n\n\n\nBuy Books
URL:https://qlibrary.org/event/moon-palace-queer-book-club-2-2-2-2/2025-10-08/
LOCATION:Quatrefoil Library\, 1220 East Lake Street\, Minneapolis\, MN\, 55407\, United States
CATEGORIES:Book Club
END:VEVENT
BEGIN:VEVENT
DTSTART;TZID=America/Chicago:20251007T190000
DTEND;TZID=America/Chicago:20251007T203000
DTSTAMP:20260423T144147
CREATED:20250527T225421Z
LAST-MODIFIED:20250527T225421Z
UID:10003369-1759863600-1759869000@qlibrary.org
SUMMARY:Technology Committee Meeting
DESCRIPTION:The tech committee meets hybrid on the first Tuesday of each month. Contact technology@quatrefoil.org if you are interested in joining!
URL:https://qlibrary.org/event/technology-committee-meeting/2025-10-07/
LOCATION:Quatrefoil Library\, 1220 East Lake Street\, Minneapolis\, MN\, 55407\, United States
CATEGORIES:Committee Meetings
END:VEVENT
BEGIN:VEVENT
DTSTART;TZID=America/Chicago:20251005T133000
DTEND;TZID=America/Chicago:20251005T153000
DTSTAMP:20260423T144147
CREATED:20250909T212153Z
LAST-MODIFIED:20250909T212155Z
UID:10002615-1759671000-1759678200@qlibrary.org
SUMMARY:Twin Cities Aroace Solidarity Group
DESCRIPTION:Twin Cities Aroace Solidarity group is a joyful\, embracing 21+ creative community for progressive aroace-spec (aromantic and/or asexual spectrum) and queer allies to share mutual aid and friendship. We gather to socialize and discuss queer media. \nFind us on Meetup at: meetup.com/twin-cities-aroace-solidarity
URL:https://qlibrary.org/event/twin-cities-aroace-solidarity-group-4/2025-10-05/
LOCATION:Quatrefoil Library\, 1220 East Lake Street\, Minneapolis\, MN\, 55407\, United States
CATEGORIES:Community Club
END:VEVENT
END:VCALENDAR