BEGIN:VCALENDAR
VERSION:2.0
PRODID:-//Quatrefoil Library - ECPv6.15.20//NONSGML v1.0//EN
CALSCALE:GREGORIAN
METHOD:PUBLISH
X-WR-CALNAME:Quatrefoil Library
X-ORIGINAL-URL:https://qlibrary.org
X-WR-CALDESC:Events for Quatrefoil Library
REFRESH-INTERVAL;VALUE=DURATION:PT1H
X-Robots-Tag:noindex
X-PUBLISHED-TTL:PT1H
BEGIN:VTIMEZONE
TZID:America/Chicago
BEGIN:DAYLIGHT
TZOFFSETFROM:-0600
TZOFFSETTO:-0500
TZNAME:CDT
DTSTART:20230312T080000
END:DAYLIGHT
BEGIN:STANDARD
TZOFFSETFROM:-0500
TZOFFSETTO:-0600
TZNAME:CST
DTSTART:20231105T070000
END:STANDARD
BEGIN:DAYLIGHT
TZOFFSETFROM:-0600
TZOFFSETTO:-0500
TZNAME:CDT
DTSTART:20240310T080000
END:DAYLIGHT
BEGIN:STANDARD
TZOFFSETFROM:-0500
TZOFFSETTO:-0600
TZNAME:CST
DTSTART:20241103T070000
END:STANDARD
BEGIN:DAYLIGHT
TZOFFSETFROM:-0600
TZOFFSETTO:-0500
TZNAME:CDT
DTSTART:20250309T080000
END:DAYLIGHT
BEGIN:STANDARD
TZOFFSETFROM:-0500
TZOFFSETTO:-0600
TZNAME:CST
DTSTART:20251102T070000
END:STANDARD
END:VTIMEZONE
BEGIN:VEVENT
DTSTART;TZID=America/Chicago:20241113T190000
DTEND;TZID=America/Chicago:20241113T200000
DTSTAMP:20260424T104723
CREATED:20231214T010600Z
LAST-MODIFIED:20231214T010737Z
UID:10000930-1731524400-1731528000@qlibrary.org
SUMMARY:Moon Palace Queer Book Club
DESCRIPTION:Event by Moon Palace Books \nPublic  ·  Join us for Queer Book Club every second Wednesday from 7-8pm at Quatrefoil Library\, 1220 East Lake Street\, Minneapolis\, MN 55407! (Please note that in June\, July\, and August we will only meet at Quatrefoil if it rains. Otherwise we will meet at Brackett Park.)
URL:https://qlibrary.org/event/moon-palace-queer-book-club-2/2024-11-13/
LOCATION:Quatrefoil Library\, 1220 East Lake Street\, Minneapolis\, MN\, 55407\, United States
END:VEVENT
BEGIN:VEVENT
DTSTART;TZID=America/Chicago:20241111T063000
DTEND;TZID=America/Chicago:20241111T200000
DTSTAMP:20260424T104723
CREATED:20240923T150000Z
LAST-MODIFIED:20240923T150001Z
UID:10002112-1731306600-1731355200@qlibrary.org
SUMMARY:Programming Committee Meeting
DESCRIPTION:Regular meeting of the Quatrefoil Programming Committee. Committee meets every second and fourth Monday in the library (with a virtual option available for committee members) from 6:30 – 8:00pm. Reach out to programming@quatrefoil.org if you are interested in joining.
URL:https://qlibrary.org/event/programming-committee-meeting-6-2/2024-11-11/
LOCATION:Quatrefoil Library\, 1220 East Lake Street\, Minneapolis\, MN\, 55407\, United States
CATEGORIES:Committee Meetings
END:VEVENT
BEGIN:VEVENT
DTSTART;TZID=America/Chicago:20241109T183000
DTEND;TZID=America/Chicago:20241109T213000
DTSTAMP:20260424T104723
CREATED:20241028T215649Z
LAST-MODIFIED:20241028T220924Z
UID:10002453-1731177000-1731187800@qlibrary.org
SUMMARY:Quatrefoil Game Night
DESCRIPTION:
URL:https://qlibrary.org/event/quatrefoil-game-night/2024-11-09/
LOCATION:Quatrefoil Library\, 1220 East Lake Street\, Minneapolis\, MN\, 55407\, United States
CATEGORIES:Community Club
END:VEVENT
BEGIN:VEVENT
DTSTART;TZID=America/Chicago:20241109T150000
DTEND;TZID=America/Chicago:20241109T163000
DTSTAMP:20260424T104723
CREATED:20241007T230157Z
LAST-MODIFIED:20241007T234109Z
UID:10002328-1731164400-1731169800@qlibrary.org
SUMMARY:A Few Tales - Faerie & Otherwise with Patrick Scully
DESCRIPTION:Join us for the Second Event in the Quatrefoil Programming Queer History Event Series! \n“A Few Tales – Faerie & Otherwise will be Patrick Scully\, on stage telling stories\, his most at-home mode – honed over decades of hosting Patrick’s Cabaret. \nMany people have told him: You should write a book. Here it comes\, but not on paper\, on stage! More storyteller than writer\, he resisted writing – too much computer time! He feels most alive and at ease telling stories\, like he did at Patrick’s Cabaret. Voila – “A Few Tales – Faerie & Otherwise”. \nThe structure of “A Few Tales…” is based on TV’s “Jeopardy”. Behind each box is a story. The audience determines the flow of the show\, choosing box by box among 6 categories\, with 5 choices in each category to determine the evening’s stories. The 6 categories across the top are things like: Resisting Authority\, Making Queer Art\, Being Gay & HIV+\, Being Naked\, Creating\nSpaces\, and Wandering. The categories at Quatrefoil will be created specifically for Quatrefoil. The vertical choices in each category – 5 decades: 70s\, 80s\, 90s\, 00s\, 10s. \nPatrick has been called a provocateur\, free speech champion\, impresario\, raconteur\, choreographer\, performance artist\, orator\, storyteller\, pioneer. And activist. He’ll be onstage telling these personal stories\, and more!
URL:https://qlibrary.org/event/a-few-tales-faerie-otherwise-with-patrick-scully/
LOCATION:Quatrefoil Library\, 1220 East Lake Street\, Minneapolis\, MN\, 55407\, United States
CATEGORIES:Event Series
END:VEVENT
BEGIN:VEVENT
DTSTART;TZID=America/Chicago:20241107T190000
DTEND;TZID=America/Chicago:20241107T200000
DTSTAMP:20260424T104723
CREATED:20241008T000416Z
LAST-MODIFIED:20241207T165917Z
UID:10002330-1731006000-1731009600@qlibrary.org
SUMMARY:Library Patron's Union Meeting
DESCRIPTION:The Library Patrons Union is an explicitly leftist\, community-run union of Hennepin County Library patrons\, organizing for more just public libraries. https://librarypatronsunion.com \nEmail librarypatronsunion@gmail.com with questions.
URL:https://qlibrary.org/event/library-patrons-union-meeting/2024-11-07/
LOCATION:Quatrefoil Library\, 1220 East Lake Street\, Minneapolis\, MN\, 55407\, United States
CATEGORIES:Community Club
END:VEVENT
BEGIN:VEVENT
DTSTART;TZID=America/Chicago:20241106T190000
DTEND;TZID=America/Chicago:20241106T210000
DTSTAMP:20260424T104723
CREATED:20240324T164527Z
LAST-MODIFIED:20240324T164545Z
UID:10001602-1730919600-1730926800@qlibrary.org
SUMMARY:Queer Threads
DESCRIPTION:Queer threads: a weekly intergenerational craft night for LGBTQ people of all genders \nwhat: a weekly craft night for knitting\, crochet\, embroidery\, mending\, quilting\, and other portable crafts \nwhy: find community and camaraderie with other LGBTQ crafters \nwho: for all ages and genders. Kids are welcome\, but childcare is not provided. \nwhere: Quatrefoil Library at 1220 E Lake St Minneapolis. \nwhen: 1st and 3rd Wednesday nights from 7-9 pm \naccessibility: please wear a mask. \nhelp us cultivate a welcoming group: crafting is for all gender identities and types of gender expression; ask for (rather than assume) pronouns; all types of yarn and materials\, experience levels\, and portable craft projects are welcome.
URL:https://qlibrary.org/event/queer-threads-6/2024-11-06/
LOCATION:Quatrefoil Library: Spirit on Lake Community Room\, 1220 E Lake St\, Minneapolis\, MN\, 55407\, United States
CATEGORIES:Community Club
END:VEVENT
BEGIN:VEVENT
DTSTART;TZID=America/Chicago:20241104T173000
DTEND;TZID=America/Chicago:20241104T183000
DTSTAMP:20260424T104723
CREATED:20240407T163732Z
LAST-MODIFIED:20240407T163747Z
UID:10001922-1730741400-1730745000@qlibrary.org
SUMMARY:Operations Committee Meeting
DESCRIPTION:The Monthly Operations Committee meeting for the Quatrefoil Library\, for questions\, contact Tom Nechodomu (Operations Chair) or email operations@quatrefoil.org.
URL:https://qlibrary.org/event/operations-committee-meeting-2/2024-11-04/
LOCATION:Quatrefoil Library\, 1220 East Lake Street\, Minneapolis\, MN\, 55407\, United States
CATEGORIES:Committee Meetings
END:VEVENT
BEGIN:VEVENT
DTSTART;TZID=America/Chicago:20241103T180000
DTEND;TZID=America/Chicago:20241103T200000
DTSTAMP:20260424T104723
CREATED:20241026T182542Z
LAST-MODIFIED:20241026T182542Z
UID:10002391-1730656800-1730664000@qlibrary.org
SUMMARY:20th Anniversary Screening of "Venus of Mars" Film (Free)
DESCRIPTION:Quatrefoil Library & Flip the Script present: 20th Anniversary Screening of “Venus of Mars” Film \nTransgender pioneer Venus\, the force behind the glam rock band All The Pretty Horses\, and her wife Lynette negotiate the frontiers of love and gender in Emily Goldberg’s award-winning documentary. Q & A with Venus de Mars\, Lynette Reini-Grandell and Emily Goldberg following the screening. This is a free event. \nParking in the lot (anywhere) behind the building off of 13th Ave\, or street parking. 21 bus route. Mask-wearing always encouraged.  \n 
URL:https://qlibrary.org/event/20th-anniversary-screening-of-venus-of-mars-film-free/
LOCATION:Quatrefoil Library\, 1220 East Lake Street\, Minneapolis\, MN\, 55407\, United States
CATEGORIES:Film Screenings,Moving Images
END:VEVENT
BEGIN:VEVENT
DTSTART;TZID=America/Chicago:20241103T140000
DTEND;TZID=America/Chicago:20241103T170000
DTSTAMP:20260424T104723
CREATED:20240916T213547Z
LAST-MODIFIED:20240916T213547Z
UID:10002245-1730642400-1730653200@qlibrary.org
SUMMARY:Q Clothing Swap
DESCRIPTION:Free clothing swap! Clean out your closet\, bring your clothes to the Library\, and exchange them with members of the community! Free and open to all\, bringing materials to swap encouraged but not required.
URL:https://qlibrary.org/event/q-clothing-swap/
LOCATION:Quatrefoil Library\, 1220 East Lake Street\, Minneapolis\, MN\, 55407\, United States
END:VEVENT
BEGIN:VEVENT
DTSTART;TZID=America/Chicago:20241103T110000
DTEND;TZID=America/Chicago:20241103T130000
DTSTAMP:20260424T104723
CREATED:20241028T215403Z
LAST-MODIFIED:20241028T215403Z
UID:10002392-1730631600-1730638800@qlibrary.org
SUMMARY:Rainbow Reads
DESCRIPTION:Queer reading party (not a book club) that meets in the Library on the first Sunday of every month. This group allows people to share what they have been reading and interested in\, rather than discuss one book everyone has read.
URL:https://qlibrary.org/event/rainbow-reads-2/2024-11-03/
LOCATION:Quatrefoil Library\, 1220 East Lake Street\, Minneapolis\, MN\, 55407\, United States
CATEGORIES:Book Club
END:VEVENT
BEGIN:VEVENT
DTSTART;TZID=America/Chicago:20241102T130000
DTEND;TZID=America/Chicago:20241102T170000
DTSTAMP:20260424T104723
CREATED:20241026T175745Z
LAST-MODIFIED:20241026T175956Z
UID:10002390-1730552400-1730566800@qlibrary.org
SUMMARY:Autumn Used Book Sale
DESCRIPTION:Join us for our Autumn Used Book Sale! 1 pm – 5 pm. Come and pick up a pile of gorgeously queer reads for yourself! Bring a friend! Parking available in the lot behind the building off of 13th Ave.\nPeace coffee will be provided. Mask-wearing is encouraged. Funds support library acquisitions fund! \nAutumn Used Book Sale
URL:https://qlibrary.org/event/autumn-used-book-sale/
LOCATION:Quatrefoil Library\, 1220 East Lake Street\, Minneapolis\, MN\, 55407\, United States
CATEGORIES:book sale
END:VEVENT
BEGIN:VEVENT
DTSTART;TZID=America/Chicago:20241028T183000
DTEND;TZID=America/Chicago:20241028T200000
DTSTAMP:20260424T104723
CREATED:20240923T150102Z
LAST-MODIFIED:20240923T150102Z
UID:10002269-1730140200-1730145600@qlibrary.org
SUMMARY:Programming Committee Meeting
DESCRIPTION:Regular meeting of the Quatrefoil Programming Committee. Committee meets every second and fourth Monday in the library (with a virtual option available for committee members) from 6:30 – 8:00pm. Reach out to programming@quatrefoil.org if you are interested in joining.
URL:https://qlibrary.org/event/programming-committee-meeting-8/2024-10-28/
LOCATION:Quatrefoil Library\, 1220 East Lake Street\, Minneapolis\, MN\, 55407\, United States
CATEGORIES:Committee Meetings
END:VEVENT
BEGIN:VEVENT
DTSTART;TZID=America/Chicago:20241028T173000
DTEND;TZID=America/Chicago:20241028T183000
DTSTAMP:20260424T104723
CREATED:20240324T163158Z
LAST-MODIFIED:20240407T163136Z
UID:10001730-1730136600-1730140200@qlibrary.org
SUMMARY:Volunteer Committee Meeting
DESCRIPTION:Our volunteer committee is responsible for recruiting and training volunteers. They also maintain our volunteer schedule\, for operating hours and special events. \nAnyone is welcome to stop in if interested in joining\, or to share constructive ideas. You can also sign up via our volunteer form. \nThis meeting is held in the library space\, with a virtual option available.
URL:https://qlibrary.org/event/volunteer-committee-meeting-3/2024-10-28/
LOCATION:Quatrefoil Library\, 1220 East Lake Street\, Minneapolis\, MN\, 55407\, United States
CATEGORIES:Committee Meetings
END:VEVENT
BEGIN:VEVENT
DTSTART;TZID=America/Chicago:20241027T130000
DTEND;TZID=America/Chicago:20241027T150000
DTSTAMP:20260424T104723
CREATED:20240110T193410Z
LAST-MODIFIED:20240114T224609Z
UID:10001044-1730034000-1730041200@qlibrary.org
SUMMARY:Transgender Book Club
DESCRIPTION:The Transgender Book Club meets the fourth Sunday of the month from 1-2pm to discuss books by and about trans people. We welcome people of all genders\, orientations\, and backgrounds! \n2024 Schedule: \n1/28 Nimona by ND Stevenson\n2/25 Freshwater by Akwaeke Emezi\n3/24 Hell Followed With Us by Andrew Joseph White\n4/28 Nobody Needs to Know by Pidgeon Pagonis\n5/26 The Lamb Will Slaughter the Lion by Margaret Killjoy\n6/23 Summer Fun by Jeanne Thornton\n7/28 Drag Me Up by RM Virtues\n8/25 How Far the Light Reaches by Sabrina Imbler\n9/22 Confluence by Nyri Bakkalian\n10/27 Mimosa by Archie Bongiovanni\n11/24 Bye Bye Binary by Eric Geron \nFind us on Facebook: “Transgender Book Club at Quatrefoil Library”\nFor more information\, email Kai at kaigottschalk101@gmail.com.
URL:https://qlibrary.org/event/transgender-book-club-5/2024-10-27/
LOCATION:Quatrefoil Library\, 1220 East Lake Street\, Minneapolis\, MN\, 55407\, United States
END:VEVENT
BEGIN:VEVENT
DTSTART;TZID=America/Chicago:20241023T190000
DTEND;TZID=America/Chicago:20241023T200000
DTSTAMP:20260424T104723
CREATED:20240120T001553Z
LAST-MODIFIED:20240324T162721Z
UID:10001274-1729710000-1729713600@qlibrary.org
SUMMARY:Twin Cities Queer Transplant Group
DESCRIPTION:The Twin Cities Queer Transplant Group is a new community meetup for folks who have recently relocated to the Twin Cities. Drop by to meet new people\, learn about local LGBTQIA+ resources\, chat\, and share your favorite Twin Cities discoveries! Locals\, partners\, and family welcome. Meetings hosted every 4th Wednesday at Quatrefoil Library. Questions and information requests can be sent to TCTransplants@gmail.com
URL:https://qlibrary.org/event/twin-cities-queer-transplant-group/2024-10-23/
LOCATION:Quatrefoil Library\, 1220 East Lake Street\, Minneapolis\, MN\, 55407\, United States
CATEGORIES:Community Club
END:VEVENT
BEGIN:VEVENT
DTSTART;TZID=America/Chicago:20241020T130000
DTEND;TZID=America/Chicago:20241020T160000
DTSTAMP:20260424T104723
CREATED:20231118T021214Z
LAST-MODIFIED:20231118T021255Z
UID:10000867-1729429200-1729440000@qlibrary.org
SUMMARY:Prime Timers Dominoes
DESCRIPTION:Join the Prime Timers for an afternoon of dominoes. Feel free to bring a snack to share and your dominoes set\, though not required.
URL:https://qlibrary.org/event/prime-timers-dominoes-5-2/2024-10-20/
LOCATION:MN
END:VEVENT
BEGIN:VEVENT
DTSTART;TZID=America/Chicago:20241019T131500
DTEND;TZID=America/Chicago:20241019T151500
DTSTAMP:20260424T104723
CREATED:20240114T221451Z
LAST-MODIFIED:20240114T225022Z
UID:10001124-1729343700-1729350900@qlibrary.org
SUMMARY:Prime Timers Bookclub
DESCRIPTION:This monthly book club is a subgroup of the Twin Cities Prime Timers Club\, which is affiliated with the state and national organizations. It meets each third Saturday of the month at Quatrefoil from 1:15pm – 3:15pm. \nBook of the month:
URL:https://qlibrary.org/event/prime-timers-bookclub-4-2/2024-10-19/
LOCATION:Quatrefoil Library\, 1220 East Lake Street\, Minneapolis\, MN\, 55407\, United States
END:VEVENT
BEGIN:VEVENT
DTSTART;TZID=America/Chicago:20241016T190000
DTEND;TZID=America/Chicago:20241016T210000
DTSTAMP:20260424T104723
CREATED:20240916T220022Z
LAST-MODIFIED:20240923T135510Z
UID:10001208-1729105200-1729112400@qlibrary.org
SUMMARY:Twin Cities Lesbian Fiction Book Club
DESCRIPTION:Virtual Book Club that meets online via Zoom – please direct all questions and requests for the Zoom link to jchandlerauthor@gmail.com \nYou are welcome to attend even if you didn’t read the book\, or didn’t like it. We enjoy staying in touch with our friends! \nBook of the month: \n2024 \nOctober—CLOUDED WATERS by Dianna Hunter \nNovember—DARING DUPLICITY by Edale Lane \nDecember—A GRAVE Talent by Laurie R. King \n2025 \nJanuary—CHRISTMASSED by Blythe H. Warren \nFebruary—DEVIL’S BREATH by Anna Paxton \nMarch—JONES by Gerri Hill \n 
URL:https://qlibrary.org/event/twin-cities-lesbian-fiction-book-club-4-5-3/2024-10-16/
LOCATION:Online Events
CATEGORIES:Book Club,Online Events
END:VEVENT
BEGIN:VEVENT
DTSTART;TZID=America/Chicago:20241016T190000
DTEND;TZID=America/Chicago:20241016T210000
DTSTAMP:20260424T104723
CREATED:20240114T181948Z
LAST-MODIFIED:20240324T164415Z
UID:10001540-1729105200-1729112400@qlibrary.org
SUMMARY:Queer Threads
DESCRIPTION:Queer threads: a weekly intergenerational craft night for LGBTQ people of all genders \nwhat: a weekly craft night for knitting\, crochet\, embroidery\, mending\, quilting\, and other portable crafts \nwhy: find community and camaraderie with other LGBTQ crafters \nwho: for all ages and genders. Kids are welcome\, but childcare is not provided. \nwhere: Quatrefoil Library at 1220 E Lake St Minneapolis. \nwhen: Wednesday nights from 7-9 pm \naccessibility: please wear a mask. \nhelp us cultivate a welcoming group: crafting is for all gender identities and types of gender expression; ask for (rather than assume) pronouns; all types of yarn and materials\, experience levels\, and portable craft projects are welcome.
URL:https://qlibrary.org/event/queer-threads-4/2024-10-16/
LOCATION:Quatrefoil Library\, 1220 East Lake Street\, Minneapolis\, MN\, 55407\, United States
CATEGORIES:Community Club
END:VEVENT
BEGIN:VEVENT
DTSTART;TZID=America/Chicago:20241016T180000
DTEND;TZID=America/Chicago:20241016T184500
DTSTAMP:20260424T104723
CREATED:20240407T163356Z
LAST-MODIFIED:20240407T163435Z
UID:10001798-1729101600-1729104300@qlibrary.org
SUMMARY:Communications Committee Meeting
DESCRIPTION:The regular meeting of the Quatrefoil Library’s Communications Committee. If you are interested in getting involved\, contact Nicole Olila\, LibraryManager@quatrefoil.org.
URL:https://qlibrary.org/event/communications-committee-meeting-2/2024-10-16/
LOCATION:Quatrefoil Library\, 1220 East Lake Street\, Minneapolis\, MN\, 55407\, United States
CATEGORIES:Committee Meetings
END:VEVENT
BEGIN:VEVENT
DTSTART;TZID=America/Chicago:20241014T190000
DTEND;TZID=America/Chicago:20241014T210000
DTSTAMP:20260424T104723
CREATED:20240923T150458Z
LAST-MODIFIED:20240923T150459Z
UID:10002241-1728932400-1728939600@qlibrary.org
SUMMARY:"Out in the Stacks" Panel: The Grass/Leaves/Land Under Your Feet
DESCRIPTION:Join local organization Queer Voices for three panel discussions that will address issues of craft and wider social issues facing LGBTQIA+ authors at our intersections. Out in the Stacks Panel Series provides space for our writers and the greater public to gather around intersectional topics- from craft to everyday life. https://linktr.ee/queervoicesmn \nThe Grass/Leaves/Land Under Your Feet – crafting relationships with land & place; collectivity\, place and queer community (Hosted by Folasade) 10/14 7-9pm
URL:https://qlibrary.org/event/out-in-the-stacks-panel-series-4/
LOCATION:Quatrefoil Library\, 1220 East Lake Street\, Minneapolis\, MN\, 55407\, United States
CATEGORIES:Event Series
END:VEVENT
BEGIN:VEVENT
DTSTART;TZID=America/Chicago:20241012T153000
DTEND;TZID=America/Chicago:20241012T170000
DTSTAMP:20260424T104723
CREATED:20240916T213331Z
LAST-MODIFIED:20240916T213344Z
UID:10002244-1728747000-1728752400@qlibrary.org
SUMMARY:National Coming Out Day Reading & Open Mic
DESCRIPTION:National Coming Out Day Reading & Open Mic\, an afternoon of readings from 2SLGBTQIA+ authors followed by a queer voices open mic. Open to All! Saturday October 12th from 3:30-5:00.
URL:https://qlibrary.org/event/national-coming-out-day-reading-open-mic-2/
LOCATION:Quatrefoil Library\, 1220 East Lake Street\, Minneapolis\, MN\, 55407\, United States
CATEGORIES:Reading
END:VEVENT
BEGIN:VEVENT
DTSTART;TZID=America/Chicago:20241010T190000
DTEND;TZID=America/Chicago:20241010T210000
DTSTAMP:20260424T104723
CREATED:20240407T162805Z
LAST-MODIFIED:20240407T162823Z
UID:10001670-1728586800-1728594000@qlibrary.org
SUMMARY:Quatrefoil Board Meeting
DESCRIPTION:The Quatrefoil Board meets monthly on the second Thursday of the month in the community room.
URL:https://qlibrary.org/event/quatrefoil-board-meeting/2024-10-10/
LOCATION:Quatrefoil Library\, 1220 East Lake Street\, Minneapolis\, MN\, 55407\, United States
CATEGORIES:Committee Meetings
END:VEVENT
BEGIN:VEVENT
DTSTART;TZID=America/Chicago:20241009T190000
DTEND;TZID=America/Chicago:20241009T200000
DTSTAMP:20260424T104723
CREATED:20231214T010600Z
LAST-MODIFIED:20231214T010737Z
UID:10000929-1728500400-1728504000@qlibrary.org
SUMMARY:Moon Palace Queer Book Club
DESCRIPTION:Event by Moon Palace Books \nPublic  ·  Join us for Queer Book Club every second Wednesday from 7-8pm at Quatrefoil Library\, 1220 East Lake Street\, Minneapolis\, MN 55407! (Please note that in June\, July\, and August we will only meet at Quatrefoil if it rains. Otherwise we will meet at Brackett Park.)
URL:https://qlibrary.org/event/moon-palace-queer-book-club-2/2024-10-09/
LOCATION:Quatrefoil Library\, 1220 East Lake Street\, Minneapolis\, MN\, 55407\, United States
END:VEVENT
BEGIN:VEVENT
DTSTART;TZID=America/Chicago:20241007T190000
DTEND;TZID=America/Chicago:20241007T210000
DTSTAMP:20260424T104723
CREATED:20240923T150351Z
LAST-MODIFIED:20240923T150352Z
UID:10002240-1728327600-1728334800@qlibrary.org
SUMMARY:"Out in the Stacks" Panel: Where Does Your Identity Live?
DESCRIPTION:Join local organization Queer Voices for three panel discussions that will address issues of craft and wider social issues facing LGBTQIA+ authors at our intersections. Out in the Stacks Panel Series provides space for our writers and the greater public to gather around intersectional topics- from craft to everyday life. https://linktr.ee/queervoicesmn \nWhere Does Your Identity Live? – on identity\, craft and queer embodiment (Hosted by Folasade) 10/7 7-9pm
URL:https://qlibrary.org/event/out-in-the-stacks-panel-series-3/
LOCATION:Quatrefoil Library\, 1220 East Lake Street\, Minneapolis\, MN\, 55407\, United States
CATEGORIES:Event Series
END:VEVENT
BEGIN:VEVENT
DTSTART;TZID=America/Chicago:20241007T173000
DTEND;TZID=America/Chicago:20241007T183000
DTSTAMP:20260424T104723
CREATED:20240407T163732Z
LAST-MODIFIED:20240407T163747Z
UID:10001921-1728322200-1728325800@qlibrary.org
SUMMARY:Operations Committee Meeting
DESCRIPTION:The Monthly Operations Committee meeting for the Quatrefoil Library\, for questions\, contact Tom Nechodomu (Operations Chair) or email operations@quatrefoil.org.
URL:https://qlibrary.org/event/operations-committee-meeting-2/2024-10-07/
LOCATION:Quatrefoil Library\, 1220 East Lake Street\, Minneapolis\, MN\, 55407\, United States
CATEGORIES:Committee Meetings
END:VEVENT
BEGIN:VEVENT
DTSTART;TZID=America/Chicago:20241006T140000
DTEND;TZID=America/Chicago:20241006T160000
DTSTAMP:20260424T104723
CREATED:20240916T212936Z
LAST-MODIFIED:20240923T142640Z
UID:10002243-1728223200-1728230400@qlibrary.org
SUMMARY:Book Reading: In the Evening
DESCRIPTION:Enjoy a poetry reading by local author William Reichard with poet and novelist Raymond Luczak. The event will have an ASL interpreter. \nAt the close of his title poem\, William Reichard declares that he will “let silence speak in my stead” – which in this case mean giving voice to the silent dead (such as those lost in two politicized pandemics)\, or stepping aside for others to be heard\, like his “American Saints” mostly martyrs to homophobia\, or his heart taking the form of birds. He derives his themes of evening and silence from the Austrian poet Georg Trakl\, and this collection includes a cycle of “mistranslations” in dialog with Trakl’s verse. In some respects less personal than Reichard’s previous collections (“I was not going to say anything / about love” – but of course he does\, being “stupid in love”)\, it nevertheless is infused with hope of being “sustained / by love\,” opening with possibility\, and offering these lines in remembrance of another poet\, Jonathan Williams: “history is made of old men\, / fragile\, human\, full of flaws and wonder and lust\, / before time’s half-truths transforms them\, and they / turn into the impossibly perfect heroes we praise.” \nhttps://www.broadstonebooks.com/shop/p/in-the-evening-poetry-by-william-reichard
URL:https://qlibrary.org/event/book-reading-in-the-evening/
LOCATION:Quatrefoil Library\, 1220 East Lake Street\, Minneapolis\, MN\, 55407\, United States
CATEGORIES:Reading
END:VEVENT
BEGIN:VEVENT
DTSTART;TZID=America/Chicago:20241005T180000
DTEND;TZID=America/Chicago:20241005T200000
DTSTAMP:20260424T104723
CREATED:20240916T212248Z
LAST-MODIFIED:20240923T135904Z
UID:10002242-1728151200-1728158400@qlibrary.org
SUMMARY:Going Out Coming In Exhibit Launch Party
DESCRIPTION:This is the launch party event for the Library hosting the Going Out\, Coming In exhibit from the Minnesota Historical Society. The Library will be hosting the panels through December 2024. 
URL:https://qlibrary.org/event/going-out-coming-in-exhibit-launch-party/
LOCATION:Quatrefoil Library\, 1220 East Lake Street\, Minneapolis\, MN\, 55407\, United States
CATEGORIES:Event Series
END:VEVENT
BEGIN:VEVENT
DTSTART;TZID=America/Chicago:20241003T190000
DTEND;TZID=America/Chicago:20241003T200000
DTSTAMP:20260424T104723
CREATED:20241008T000416Z
LAST-MODIFIED:20241207T165917Z
UID:10002329-1727982000-1727985600@qlibrary.org
SUMMARY:Library Patron's Union Meeting
DESCRIPTION:The Library Patrons Union is an explicitly leftist\, community-run union of Hennepin County Library patrons\, organizing for more just public libraries. https://librarypatronsunion.com \nEmail librarypatronsunion@gmail.com with questions.
URL:https://qlibrary.org/event/library-patrons-union-meeting/2024-10-03/
LOCATION:Quatrefoil Library\, 1220 East Lake Street\, Minneapolis\, MN\, 55407\, United States
CATEGORIES:Community Club
END:VEVENT
BEGIN:VEVENT
DTSTART;TZID=America/Chicago:20241002T190000
DTEND;TZID=America/Chicago:20241002T210000
DTSTAMP:20260424T104724
CREATED:20240324T164527Z
LAST-MODIFIED:20240324T164545Z
UID:10001601-1727895600-1727902800@qlibrary.org
SUMMARY:Queer Threads
DESCRIPTION:Queer threads: a weekly intergenerational craft night for LGBTQ people of all genders \nwhat: a weekly craft night for knitting\, crochet\, embroidery\, mending\, quilting\, and other portable crafts \nwhy: find community and camaraderie with other LGBTQ crafters \nwho: for all ages and genders. Kids are welcome\, but childcare is not provided. \nwhere: Quatrefoil Library at 1220 E Lake St Minneapolis. \nwhen: 1st and 3rd Wednesday nights from 7-9 pm \naccessibility: please wear a mask. \nhelp us cultivate a welcoming group: crafting is for all gender identities and types of gender expression; ask for (rather than assume) pronouns; all types of yarn and materials\, experience levels\, and portable craft projects are welcome.
URL:https://qlibrary.org/event/queer-threads-6/2024-10-02/
LOCATION:Quatrefoil Library: Spirit on Lake Community Room\, 1220 E Lake St\, Minneapolis\, MN\, 55407\, United States
CATEGORIES:Community Club
END:VEVENT
END:VCALENDAR