BEGIN:VCALENDAR
VERSION:2.0
PRODID:-//Quatrefoil Library - ECPv6.15.20//NONSGML v1.0//EN
CALSCALE:GREGORIAN
METHOD:PUBLISH
X-ORIGINAL-URL:https://qlibrary.org
X-WR-CALDESC:Events for Quatrefoil Library
REFRESH-INTERVAL;VALUE=DURATION:PT1H
X-Robots-Tag:noindex
X-PUBLISHED-TTL:PT1H
BEGIN:VTIMEZONE
TZID:America/Chicago
BEGIN:DAYLIGHT
TZOFFSETFROM:-0600
TZOFFSETTO:-0500
TZNAME:CDT
DTSTART:20230312T080000
END:DAYLIGHT
BEGIN:STANDARD
TZOFFSETFROM:-0500
TZOFFSETTO:-0600
TZNAME:CST
DTSTART:20231105T070000
END:STANDARD
BEGIN:DAYLIGHT
TZOFFSETFROM:-0600
TZOFFSETTO:-0500
TZNAME:CDT
DTSTART:20240310T080000
END:DAYLIGHT
BEGIN:STANDARD
TZOFFSETFROM:-0500
TZOFFSETTO:-0600
TZNAME:CST
DTSTART:20241103T070000
END:STANDARD
BEGIN:DAYLIGHT
TZOFFSETFROM:-0600
TZOFFSETTO:-0500
TZNAME:CDT
DTSTART:20250309T080000
END:DAYLIGHT
BEGIN:STANDARD
TZOFFSETFROM:-0500
TZOFFSETTO:-0600
TZNAME:CST
DTSTART:20251102T070000
END:STANDARD
END:VTIMEZONE
BEGIN:VEVENT
DTSTART;TZID=America/Chicago:20240929T120000
DTEND;TZID=America/Chicago:20240929T140000
DTSTAMP:20260425T200032
CREATED:20240916T210557Z
LAST-MODIFIED:20240916T210557Z
UID:10002237-1727611200-1727618400@qlibrary.org
SUMMARY:Book Reading: Bodies in Transition
DESCRIPTION:Enjoy a book reading by local poet G. Gazelka! \nBodies in Transition is a collection of poems about the transition of spaces and bodies. Capturing memories as early as childhood\, G. Gazelka covers fundamental periods of development in their queer and trans identity and reckoning with social justice. In 2006\, their father\, at the time a member of the Minnesota House of Representatives\, introduced a bill to define marriage as between one man and one woman while they were just discovering their queer identity. He sent them to a clinic which has been accused of practicing conversion therapy. Unchanged\, their parents kicked them out of the family. They spent 10 years away from their family’s home struggling to find systems of support\, survive\, and become a man. Many of these poems deal with their social and physical transition after they returned to Minnesota in 2017. Due to the issues of legality surround trans identities\, one of the poems “Everyone Bleeds” even references how they were sent out of state to North Dakota for a diagnosis of mental illness after speaking to reporters about how they had and were experiencing conversion therapy for their sex and sexual identity. At the forefront of the fight for equality\, G. Gazelka believes these poems dealing with discrimination\, longing for love\, and belonging will resonate with their readers. \nhttps://www.magersandquinn.com/product/BODIES-IN-TRANSITION/27012950 \n 
URL:https://qlibrary.org/event/book-reading-bodies-in-transition/
LOCATION:Quatrefoil Library\, 1220 East Lake Street\, Minneapolis\, MN\, 55407\, United States
CATEGORIES:Reading
END:VEVENT
END:VCALENDAR