BEGIN:VCALENDAR
VERSION:2.0
PRODID:-//Quatrefoil Library - ECPv6.15.20//NONSGML v1.0//EN
CALSCALE:GREGORIAN
METHOD:PUBLISH
X-WR-CALNAME:Quatrefoil Library
X-ORIGINAL-URL:https://qlibrary.org
X-WR-CALDESC:Events for Quatrefoil Library
REFRESH-INTERVAL;VALUE=DURATION:PT1H
X-Robots-Tag:noindex
X-PUBLISHED-TTL:PT1H
BEGIN:VTIMEZONE
TZID:America/Chicago
BEGIN:DAYLIGHT
TZOFFSETFROM:-0600
TZOFFSETTO:-0500
TZNAME:CDT
DTSTART:20180311T080000
END:DAYLIGHT
BEGIN:STANDARD
TZOFFSETFROM:-0500
TZOFFSETTO:-0600
TZNAME:CST
DTSTART:20181104T070000
END:STANDARD
BEGIN:DAYLIGHT
TZOFFSETFROM:-0600
TZOFFSETTO:-0500
TZNAME:CDT
DTSTART:20190310T080000
END:DAYLIGHT
BEGIN:STANDARD
TZOFFSETFROM:-0500
TZOFFSETTO:-0600
TZNAME:CST
DTSTART:20191103T070000
END:STANDARD
BEGIN:DAYLIGHT
TZOFFSETFROM:-0600
TZOFFSETTO:-0500
TZNAME:CDT
DTSTART:20200308T080000
END:DAYLIGHT
BEGIN:STANDARD
TZOFFSETFROM:-0500
TZOFFSETTO:-0600
TZNAME:CST
DTSTART:20201101T070000
END:STANDARD
BEGIN:DAYLIGHT
TZOFFSETFROM:-0600
TZOFFSETTO:-0500
TZNAME:CDT
DTSTART:20210314T080000
END:DAYLIGHT
BEGIN:STANDARD
TZOFFSETFROM:-0500
TZOFFSETTO:-0600
TZNAME:CST
DTSTART:20211107T070000
END:STANDARD
BEGIN:DAYLIGHT
TZOFFSETFROM:-0600
TZOFFSETTO:-0500
TZNAME:CDT
DTSTART:20220313T080000
END:DAYLIGHT
BEGIN:STANDARD
TZOFFSETFROM:-0500
TZOFFSETTO:-0600
TZNAME:CST
DTSTART:20221106T070000
END:STANDARD
BEGIN:DAYLIGHT
TZOFFSETFROM:-0600
TZOFFSETTO:-0500
TZNAME:CDT
DTSTART:20230312T080000
END:DAYLIGHT
BEGIN:STANDARD
TZOFFSETFROM:-0500
TZOFFSETTO:-0600
TZNAME:CST
DTSTART:20231105T070000
END:STANDARD
END:VTIMEZONE
BEGIN:VEVENT
DTSTART;TZID=America/Chicago:20220513T190000
DTEND;TZID=America/Chicago:20220513T201500
DTSTAMP:20260423T131048
CREATED:20220327T192443Z
LAST-MODIFIED:20220327T192443Z
UID:10000541-1652468400-1652472900@qlibrary.org
SUMMARY:Queer Voices reading (on Zoom)
DESCRIPTION:Celebrate Queer Voices in a reading by five local writers that also launches a chapbook of their work developed over months of workshops together.
URL:https://qlibrary.org/event/queer-voices-reading-on-zoom/
CATEGORIES:Online Events
END:VEVENT
BEGIN:VEVENT
DTSTART;TZID=America/Chicago:20211015T190000
DTEND;TZID=America/Chicago:20211015T200000
DTSTAMP:20260423T131048
CREATED:20211005T145535Z
LAST-MODIFIED:20211005T150208Z
UID:10000538-1634324400-1634328000@qlibrary.org
SUMMARY:"Carnival Lights" with Chris Stark
DESCRIPTION:In this free Zoom event\, Chris Stark will read from and talk about her new novel “Carnival Lights.” It’s a rich series of interconnected narratives that switches between the 1890s and the 1960s\, when two girls flee their reservation for the Twin Cities. Bestselling author William Kent Krueger said the Minnesota-set novel offers “a heartbreaking portrait of multigenerational trauma in the lives of one Ojibwe family. Read it and it may change you forever.”Stark (Anishinaabe and Cherokee) is an award-winning writer\, researcher\, visual artist and speaker. Her first novel\, “Nickels: A Tale of Dissociation\,” was a Lambda Literary Prize finalist.Here’s link to Oct\, 15 Zoom meeting: https://us02web.zoom.us/j/9861922720 Meeting ID: 986 192 2720
URL:https://qlibrary.org/event/carnival-lights-with-chris-stark/
LOCATION:Online Events
CATEGORIES:Online Events
ATTACH;FMTTYPE=image/jpeg:https://qlibrary.org/wp-content/uploads/2021/10/51JOMFqGuS._SX331_BO1204203200_.jpg
END:VEVENT
BEGIN:VEVENT
DTSTART;TZID=America/Chicago:20210527T190000
DTEND;TZID=America/Chicago:20210527T210000
DTSTAMP:20260423T131048
CREATED:20210312T014746Z
LAST-MODIFIED:20210511T173343Z
UID:10000345-1622142000-1622149200@qlibrary.org
SUMMARY:Book Launch With Brian Malloy
DESCRIPTION:In his new novel “After Francesco\,” acclaimed Minneapolis author Brian Malloy (“The Year of Ice”) brings insight\, humor\, and the authenticity of his own experiences as a member of the AIDS generation to this universal story of love and loss set in New York City and Minneapolis at the peak of the AIDS crisis.\n“After Francesco” is both a tribute to a generation lost to the pandemic as well as a powerful exploration of heartbreak\, recovery and how love can defy grief. \nAfter Malloy reads from his just- published novel\, he will discuss it with writer Christopher Bram (“Gods and Monsters”) and Claude Peck of Quatrefoil\, and take questions. The virtual event is presented by Quatrefoil and Moon Palace books.\nBook Launch with Brian Malloy\nTime: May 27\, 2021 07:00 PM Central Time (US and Canada)
URL:https://qlibrary.org/event/book-launch-with-brian-malloy/
LOCATION:Online Events
CATEGORIES:Online Events
END:VEVENT
BEGIN:VEVENT
DTSTART;TZID=America/Chicago:20210416T190000
DTEND;TZID=America/Chicago:20210416T210000
DTSTAMP:20260423T131048
CREATED:20210310T202734Z
LAST-MODIFIED:20210310T202734Z
UID:10000346-1618599600-1618606800@qlibrary.org
SUMMARY:Book Launch with John Medeiros
DESCRIPTION:Minneapolis writer John Medeiros launches his new book\, “Self\, Divided\,” (Howling Bird Press\, 2021) in a free Zoom event. Please join us.\n\nMedeiros and his identical twin brother participated in a gene therapy study in which the HIV-positive twin was infused with billions of genes from the HIV-negative twin. This memoir details\, from a firsthand perspective\, a time in our recent history when the world had to reckon with the emergence of a seemingly undefeatable virus. SELF\, DIVIDED explores the dysfunctional yet enduring relationships that surround this pivotal moment in Medeiros’s life and family\, brilliantly capturing how we all are connected\, in one way or another\, to those around us.
URL:https://qlibrary.org/event/book-launch-with-john-medeiros/
LOCATION:Online Events
CATEGORIES:Online Events
END:VEVENT
BEGIN:VEVENT
DTSTART;TZID=America/Chicago:20200918T190000
DTEND;TZID=America/Chicago:20200918T200000
DTSTAMP:20260423T131048
CREATED:20200910T191738Z
LAST-MODIFIED:20200915T145645Z
UID:10000348-1600455600-1600459200@qlibrary.org
SUMMARY:Zoom event : Ty Bo Yule "Chemically Enhanced Butch"
DESCRIPTION:7 p.m. Friday\, Sept. 18 \nFree Zoom event for Ty Bo Yule’s 2020 remarkable\, combustible and funny memoir “Chemically Enhanced Butch.” Yule talks about and reads from the book\, then answers questions from participants. RSVP at Quatrefoil’s Facebook page or go here:\nRegister in advance for this meeting:\n \n\nhttps://us02web.zoom.us/meeting/register/tZAud-qgrTsoHt1MhT1_k2Hhr7CfB8Jl8yAW\n\n\nAfter registering\, you will receive a confirmation email containing information about joining the meeting.\n\n  \nYou are invited to a Zoom meeting. \nWhen: Sep 18\, 2020 07:00 PM Central Time (US and Canada) \n 
URL:https://qlibrary.org/event/zoom-event-ty-bo-yule-chemically-enhanced-butch/
LOCATION:Online Events
CATEGORIES:Online Events
END:VEVENT
BEGIN:VEVENT
DTSTART;TZID=America/Chicago:20200609T190000
DTEND;TZID=America/Chicago:20200609T210000
DTSTAMP:20260423T131048
CREATED:20180419T221148Z
LAST-MODIFIED:20200610T161946Z
UID:10000417-1591729200-1591736400@qlibrary.org
SUMMARY:North Country Gaylaxians Book Club
DESCRIPTION:*Meeting online due to COVID-19* \nEmail for Skype info. \nThis GLBTQ Science Fiction/Fantasy book club meets the second Tuesday of each month at Quatrefoil from 7:00pm – 9:00pm \n 
URL:https://qlibrary.org/event/north-country-gaylaxians-book-club-22-2020-06-09/
LOCATION:BOOKS Will Fellows Talks About ‘Gay Bar’
CATEGORIES:Book Club,Online Events
END:VEVENT
BEGIN:VEVENT
DTSTART;TZID=America/Chicago:20190619T190000
DTEND;TZID=America/Chicago:20190619T210000
DTSTAMP:20260423T131048
CREATED:20150326T155909Z
LAST-MODIFIED:20200610T163030Z
UID:10000061-1560970800-1560978000@qlibrary.org
SUMMARY:Lesbian Fiction Book Club
DESCRIPTION:We’ve missed seeing all of you!   Until we can meet in person\, Judy Kerr has set up Zoom for us.  You can use Zoom on your phone\, tablet or laptop.  \nemail info@qlibrary for Zoom details. \nUPCOMING BOOKS: \nJune: Beyond the Checkpoint\, Addison Conley (author chat)\nJuly: Black Friday by Judy M Kerr (author attending)\nAugust: Lesbian Nuns: Breaking Silence by Nancy Manahan (author chat)\nSeptember: The Lady’s Guide to Celestial Mechanics by Olivia Waite\nOctober:  River Walker by Cate Culpepper\nNovember: One Walk in Winter by Georgia Beers (author chat)\nDecember: If the Shoe Fits by EJ Noyes \n\n\n\n\n\n\n\n\n\n\n\nYou are welcome to attend even if you didn’t read the book\, or didn’t like it. We enjoy staying in touch with our friends! \nRemember that we meet the third Wednesday of every month at 7pm.  We anticipate that the next few meetings will be virtual.
URL:https://qlibrary.org/event/lesbian-fiction-book-club/
LOCATION:Online Events
CATEGORIES:Book Club,Online Events
END:VEVENT
END:VCALENDAR