BEGIN:VCALENDAR
VERSION:2.0
PRODID:-//Quatrefoil Library - ECPv6.15.20//NONSGML v1.0//EN
CALSCALE:GREGORIAN
METHOD:PUBLISH
X-ORIGINAL-URL:https://qlibrary.org
X-WR-CALDESC:Events for Quatrefoil Library
REFRESH-INTERVAL;VALUE=DURATION:PT1H
X-Robots-Tag:noindex
X-PUBLISHED-TTL:PT1H
BEGIN:VTIMEZONE
TZID:America/Chicago
BEGIN:DAYLIGHT
TZOFFSETFROM:-0600
TZOFFSETTO:-0500
TZNAME:CDT
DTSTART:20240310T080000
END:DAYLIGHT
BEGIN:STANDARD
TZOFFSETFROM:-0500
TZOFFSETTO:-0600
TZNAME:CST
DTSTART:20241103T070000
END:STANDARD
BEGIN:DAYLIGHT
TZOFFSETFROM:-0600
TZOFFSETTO:-0500
TZNAME:CDT
DTSTART:20250309T080000
END:DAYLIGHT
BEGIN:STANDARD
TZOFFSETFROM:-0500
TZOFFSETTO:-0600
TZNAME:CST
DTSTART:20251102T070000
END:STANDARD
BEGIN:DAYLIGHT
TZOFFSETFROM:-0600
TZOFFSETTO:-0500
TZNAME:CDT
DTSTART:20260308T080000
END:DAYLIGHT
BEGIN:STANDARD
TZOFFSETFROM:-0500
TZOFFSETTO:-0600
TZNAME:CST
DTSTART:20261101T070000
END:STANDARD
END:VTIMEZONE
BEGIN:VEVENT
DTSTART;TZID=America/Chicago:20250812T190000
DTEND;TZID=America/Chicago:20250812T203000
DTSTAMP:20260423T175752
CREATED:20250211T005150Z
LAST-MODIFIED:20250211T005150Z
UID:10003148-1755025200-1755030600@qlibrary.org
SUMMARY:North Country Gaylaxians Book Club (Online)
DESCRIPTION:The meeting of the Twin Cities chapter of the Gaylactic Network\, an organization for the GLBT fan community\, whether it be science fiction\, fantasy\, horror\, comics\, or gaming. We read and discuss books of speculative fiction with GLBT or similar content or by GLBT authors. We meet the second Tuesday of the month at 7:00 pm on Zoom. Also\, monthly gaming get-togethers in a private home. \n  \nInfo on events can be found on their Facebook page:    https://www.facebook.com/groups/NorthCountryGaylaxians/
URL:https://qlibrary.org/event/north-country-gaylaxians-book-club-online/2025-08-12/
LOCATION:Quatrefoil Library\, 1220 East Lake Street\, Minneapolis\, MN\, 55407\, United States
CATEGORIES:Book Club,Online Events
END:VEVENT
BEGIN:VEVENT
DTSTART;TZID=America/Chicago:20250820T190000
DTEND;TZID=America/Chicago:20250820T210000
DTSTAMP:20260423T175752
CREATED:20250719T153650Z
LAST-MODIFIED:20250816T174847Z
UID:10001218-1755716400-1755723600@qlibrary.org
SUMMARY:Twin Cities Lesbian Fiction Book Club (Online)
DESCRIPTION:Virtual Book Club that meets online via Zoom – please direct all questions and requests for the Zoom link to jchandlerauthor@gmail.com \nYou are welcome to attend even if you didn’t read the book\, or didn’t like it. We enjoy staying in touch with our friends! \nBook of the month: \n2025 \nJuly (will discuss in August)—LAST CHANCE CHICAGO by Diana DiGangi \nAugust—SCORCHED GRACE by Margo Douaihy \nSeptember—POSTMARKED CASTLE COVE by Judy Kerr \nOctober—DESPITE HERSELF by Jessie Chandler \nNovember—WATERLOGGED by Nance Sparks \nDecember—THE SAFEKEEP by Yael Van der Wouden (in hardcover now\, but will be out in paperback May 27th)
URL:https://qlibrary.org/event/twin-cities-lesbian-fiction-book-club-5-2/2025-08-20/
LOCATION:Online Events
CATEGORIES:Book Club,Online Events
END:VEVENT
END:VCALENDAR