BEGIN:VCALENDAR
VERSION:2.0
PRODID:-//Quatrefoil Library - ECPv6.15.20//NONSGML v1.0//EN
CALSCALE:GREGORIAN
METHOD:PUBLISH
X-WR-CALNAME:Quatrefoil Library
X-ORIGINAL-URL:https://qlibrary.org
X-WR-CALDESC:Events for Quatrefoil Library
REFRESH-INTERVAL;VALUE=DURATION:PT1H
X-Robots-Tag:noindex
X-PUBLISHED-TTL:PT1H
BEGIN:VTIMEZONE
TZID:America/Chicago
BEGIN:DAYLIGHT
TZOFFSETFROM:-0600
TZOFFSETTO:-0500
TZNAME:CDT
DTSTART:20240310T080000
END:DAYLIGHT
BEGIN:STANDARD
TZOFFSETFROM:-0500
TZOFFSETTO:-0600
TZNAME:CST
DTSTART:20241103T070000
END:STANDARD
BEGIN:DAYLIGHT
TZOFFSETFROM:-0600
TZOFFSETTO:-0500
TZNAME:CDT
DTSTART:20250309T080000
END:DAYLIGHT
BEGIN:STANDARD
TZOFFSETFROM:-0500
TZOFFSETTO:-0600
TZNAME:CST
DTSTART:20251102T070000
END:STANDARD
BEGIN:DAYLIGHT
TZOFFSETFROM:-0600
TZOFFSETTO:-0500
TZNAME:CDT
DTSTART:20260308T080000
END:DAYLIGHT
BEGIN:STANDARD
TZOFFSETFROM:-0500
TZOFFSETTO:-0600
TZNAME:CST
DTSTART:20261101T070000
END:STANDARD
END:VTIMEZONE
BEGIN:VEVENT
DTSTART;TZID=America/Chicago:20250202T133000
DTEND;TZID=America/Chicago:20250202T153000
DTSTAMP:20260425T125000
CREATED:20241109T190017Z
LAST-MODIFIED:20241109T190017Z
UID:10002607-1738503000-1738510200@qlibrary.org
SUMMARY:Twin Cities Aroace Solidarity Group
DESCRIPTION:Twin Cities Aroace Solidarity group is a joyful\, embracing 21+ creative community for progressive aroace-spec (aromantic and/or asexual spectrum) and queer allies to share mutual aid and friendship; creative/artistic exchange; and learning\, peer education & guidance across gender\, age\, income level\, ethnicity & other lines of social difference. We gather at Quatrefoil monthly to socialize and discuss queer media.\n\n\nPlease email or text group organizer Amy Brooks at abbrooks77@icloud.com | (937) 901-9205
URL:https://qlibrary.org/event/twin-cities-aroace-solidarity-group/2025-02-02/
LOCATION:Quatrefoil Library\, 1220 East Lake Street\, Minneapolis\, MN\, 55407\, United States
CATEGORIES:Community Club
END:VEVENT
BEGIN:VEVENT
DTSTART;TZID=America/Chicago:20250205T190000
DTEND;TZID=America/Chicago:20250205T210000
DTSTAMP:20260425T125000
CREATED:20240324T164527Z
LAST-MODIFIED:20240324T164545Z
UID:10001605-1738782000-1738789200@qlibrary.org
SUMMARY:Queer Threads
DESCRIPTION:Queer threads: a weekly intergenerational craft night for LGBTQ people of all genders \nwhat: a weekly craft night for knitting\, crochet\, embroidery\, mending\, quilting\, and other portable crafts \nwhy: find community and camaraderie with other LGBTQ crafters \nwho: for all ages and genders. Kids are welcome\, but childcare is not provided. \nwhere: Quatrefoil Library at 1220 E Lake St Minneapolis. \nwhen: 1st and 3rd Wednesday nights from 7-9 pm \naccessibility: please wear a mask. \nhelp us cultivate a welcoming group: crafting is for all gender identities and types of gender expression; ask for (rather than assume) pronouns; all types of yarn and materials\, experience levels\, and portable craft projects are welcome.
URL:https://qlibrary.org/event/queer-threads-6/2025-02-05/
LOCATION:Quatrefoil Library: Spirit on Lake Community Room\, 1220 E Lake St\, Minneapolis\, MN\, 55407\, United States
CATEGORIES:Community Club
END:VEVENT
BEGIN:VEVENT
DTSTART;TZID=America/Chicago:20250206T190000
DTEND;TZID=America/Chicago:20250206T200000
DTSTAMP:20260425T125000
CREATED:20250130T231134Z
LAST-MODIFIED:20250130T231356Z
UID:10002333-1738868400-1738872000@qlibrary.org
SUMMARY:CANCELLED: Library Patron's Union Meeting
DESCRIPTION:The February meeting is cancelled\, this group will reconvene in March. \nThe Library Patrons Union is an explicitly leftist\, community-run union of Hennepin County Library patrons\, organizing for more just public libraries. https://librarypatronsunion.com \nEmail librarypatronsunion@gmail.com with questions.
URL:https://qlibrary.org/event/library-patrons-union-meeting-2/
LOCATION:Quatrefoil Library\, 1220 East Lake Street\, Minneapolis\, MN\, 55407\, United States
CATEGORIES:Community Club
END:VEVENT
BEGIN:VEVENT
DTSTART;TZID=America/Chicago:20250208T183000
DTEND;TZID=America/Chicago:20250208T213000
DTSTAMP:20260425T125000
CREATED:20241028T215649Z
LAST-MODIFIED:20241028T220924Z
UID:10002456-1739039400-1739050200@qlibrary.org
SUMMARY:Quatrefoil Game Night
DESCRIPTION:
URL:https://qlibrary.org/event/quatrefoil-game-night/2025-02-08/
LOCATION:Quatrefoil Library\, 1220 East Lake Street\, Minneapolis\, MN\, 55407\, United States
CATEGORIES:Community Club
END:VEVENT
BEGIN:VEVENT
DTSTART;TZID=America/Chicago:20250215T103000
DTEND;TZID=America/Chicago:20250215T113000
DTSTAMP:20260425T125000
CREATED:20250114T002115Z
LAST-MODIFIED:20250211T010517Z
UID:10002964-1739615400-1739619000@qlibrary.org
SUMMARY:Knotty Recovery
DESCRIPTION:Knotty Recovery is a 12-step group who shares their experience\, strength\, and hope with each other to solve their common problems related to addiction. Meeting on the 1st & 3rd Saturday of every month\, this is a space where you can openly to discuss sexuality and kink in recovery and the format is similar to a traditional 12 step meeting. The only requirement for attendance is a desire to quit whatever addictive substance or behavior is affecting your life.
URL:https://qlibrary.org/event/knotty-recovery-2/2025-02-15/
LOCATION:Quatrefoil Library\, 1220 East Lake Street\, Minneapolis\, MN\, 55407\, United States
CATEGORIES:Community Club
END:VEVENT
BEGIN:VEVENT
DTSTART;TZID=America/Chicago:20250219T190000
DTEND;TZID=America/Chicago:20250219T210000
DTSTAMP:20260425T125000
CREATED:20240114T181948Z
LAST-MODIFIED:20240324T164415Z
UID:10001544-1739991600-1739998800@qlibrary.org
SUMMARY:Queer Threads
DESCRIPTION:Queer threads: a weekly intergenerational craft night for LGBTQ people of all genders \nwhat: a weekly craft night for knitting\, crochet\, embroidery\, mending\, quilting\, and other portable crafts \nwhy: find community and camaraderie with other LGBTQ crafters \nwho: for all ages and genders. Kids are welcome\, but childcare is not provided. \nwhere: Quatrefoil Library at 1220 E Lake St Minneapolis. \nwhen: Wednesday nights from 7-9 pm \naccessibility: please wear a mask. \nhelp us cultivate a welcoming group: crafting is for all gender identities and types of gender expression; ask for (rather than assume) pronouns; all types of yarn and materials\, experience levels\, and portable craft projects are welcome.
URL:https://qlibrary.org/event/queer-threads-4/2025-02-19/
LOCATION:Quatrefoil Library\, 1220 East Lake Street\, Minneapolis\, MN\, 55407\, United States
CATEGORIES:Community Club
END:VEVENT
BEGIN:VEVENT
DTSTART;TZID=America/Chicago:20250222T153000
DTEND;TZID=America/Chicago:20250222T170000
DTSTAMP:20260425T125000
CREATED:20250211T005613Z
LAST-MODIFIED:20250211T005613Z
UID:10003202-1740238200-1740243600@qlibrary.org
SUMMARY:Seed Exchange - North Star Pride Party
DESCRIPTION:Our North Star Pride Party group is hosting a seed exchange. Members can bring seeds to share or come to learn more about gardening and what has and hasn’t worked for others in the past. \n  \nQuestions? Reach out to northstarprideparty@gmail.com
URL:https://qlibrary.org/event/seed-exchange-north-star-pride-party/
LOCATION:Quatrefoil Library\, 1220 East Lake Street\, Minneapolis\, MN\, 55407\, United States
CATEGORIES:Community Club
END:VEVENT
BEGIN:VEVENT
DTSTART;TZID=America/Chicago:20250222T183000
DTEND;TZID=America/Chicago:20250222T213000
DTSTAMP:20260425T125000
CREATED:20241028T215739Z
LAST-MODIFIED:20241028T215739Z
UID:10002516-1740249000-1740259800@qlibrary.org
SUMMARY:Quatrefoil Game Night
DESCRIPTION:
URL:https://qlibrary.org/event/quatrefoil-game-night-2/2025-02-22/
LOCATION:Quatrefoil Library\, 1220 East Lake Street\, Minneapolis\, MN\, 55407\, United States
CATEGORIES:Community Club
END:VEVENT
BEGIN:VEVENT
DTSTART;TZID=America/Chicago:20250226T190000
DTEND;TZID=America/Chicago:20250226T210000
DTSTAMP:20260425T125000
CREATED:20250211T005853Z
LAST-MODIFIED:20250211T005853Z
UID:10001278-1740596400-1740603600@qlibrary.org
SUMMARY:Twin Cities Queer Transplant Group
DESCRIPTION:The Twin Cities Queer Transplant Group is a new community meetup for folks who have recently relocated to the Twin Cities. Drop by to meet new people\, learn about local LGBTQIA+ resources\, chat\, and share your favorite Twin Cities discoveries! Locals\, partners\, and family welcome. Meetings hosted every 4th Wednesday at Quatrefoil Library. \n  \nQuestions and information requests can be sent to TCTransplants@gmail.com
URL:https://qlibrary.org/event/twin-cities-queer-transplant-group-2/2025-02-26/
LOCATION:Quatrefoil Library\, 1220 East Lake Street\, Minneapolis\, MN\, 55407\, United States
CATEGORIES:Community Club
END:VEVENT
END:VCALENDAR