BEGIN:VCALENDAR
VERSION:2.0
PRODID:-//Quatrefoil Library - ECPv6.15.20//NONSGML v1.0//EN
CALSCALE:GREGORIAN
METHOD:PUBLISH
X-ORIGINAL-URL:https://qlibrary.org
X-WR-CALDESC:Events for Quatrefoil Library
REFRESH-INTERVAL;VALUE=DURATION:PT1H
X-Robots-Tag:noindex
X-PUBLISHED-TTL:PT1H
BEGIN:VTIMEZONE
TZID:America/Chicago
BEGIN:DAYLIGHT
TZOFFSETFROM:-0600
TZOFFSETTO:-0500
TZNAME:CDT
DTSTART:20230312T080000
END:DAYLIGHT
BEGIN:STANDARD
TZOFFSETFROM:-0500
TZOFFSETTO:-0600
TZNAME:CST
DTSTART:20231105T070000
END:STANDARD
BEGIN:DAYLIGHT
TZOFFSETFROM:-0600
TZOFFSETTO:-0500
TZNAME:CDT
DTSTART:20240310T080000
END:DAYLIGHT
BEGIN:STANDARD
TZOFFSETFROM:-0500
TZOFFSETTO:-0600
TZNAME:CST
DTSTART:20241103T070000
END:STANDARD
BEGIN:DAYLIGHT
TZOFFSETFROM:-0600
TZOFFSETTO:-0500
TZNAME:CDT
DTSTART:20250309T080000
END:DAYLIGHT
BEGIN:STANDARD
TZOFFSETFROM:-0500
TZOFFSETTO:-0600
TZNAME:CST
DTSTART:20251102T070000
END:STANDARD
END:VTIMEZONE
BEGIN:VEVENT
DTSTART;TZID=America/Chicago:20241201T133000
DTEND;TZID=America/Chicago:20241201T153000
DTSTAMP:20260425T155457
CREATED:20241109T190017Z
LAST-MODIFIED:20241109T190017Z
UID:10002605-1733059800-1733067000@qlibrary.org
SUMMARY:Twin Cities Aroace Solidarity Group
DESCRIPTION:Twin Cities Aroace Solidarity group is a joyful\, embracing 21+ creative community for progressive aroace-spec (aromantic and/or asexual spectrum) and queer allies to share mutual aid and friendship; creative/artistic exchange; and learning\, peer education & guidance across gender\, age\, income level\, ethnicity & other lines of social difference. We gather at Quatrefoil monthly to socialize and discuss queer media.\n\n\nPlease email or text group organizer Amy Brooks at abbrooks77@icloud.com | (937) 901-9205
URL:https://qlibrary.org/event/twin-cities-aroace-solidarity-group/2024-12-01/
LOCATION:Quatrefoil Library\, 1220 East Lake Street\, Minneapolis\, MN\, 55407\, United States
CATEGORIES:Community Club
END:VEVENT
BEGIN:VEVENT
DTSTART;TZID=America/Chicago:20241204T190000
DTEND;TZID=America/Chicago:20241204T210000
DTSTAMP:20260425T155457
CREATED:20240324T164527Z
LAST-MODIFIED:20240324T164545Z
UID:10001603-1733338800-1733346000@qlibrary.org
SUMMARY:Queer Threads
DESCRIPTION:Queer threads: a weekly intergenerational craft night for LGBTQ people of all genders \nwhat: a weekly craft night for knitting\, crochet\, embroidery\, mending\, quilting\, and other portable crafts \nwhy: find community and camaraderie with other LGBTQ crafters \nwho: for all ages and genders. Kids are welcome\, but childcare is not provided. \nwhere: Quatrefoil Library at 1220 E Lake St Minneapolis. \nwhen: 1st and 3rd Wednesday nights from 7-9 pm \naccessibility: please wear a mask. \nhelp us cultivate a welcoming group: crafting is for all gender identities and types of gender expression; ask for (rather than assume) pronouns; all types of yarn and materials\, experience levels\, and portable craft projects are welcome.
URL:https://qlibrary.org/event/queer-threads-6/2024-12-04/
LOCATION:Quatrefoil Library: Spirit on Lake Community Room\, 1220 E Lake St\, Minneapolis\, MN\, 55407\, United States
CATEGORIES:Community Club
END:VEVENT
BEGIN:VEVENT
DTSTART;TZID=America/Chicago:20241205T190000
DTEND;TZID=America/Chicago:20241205T200000
DTSTAMP:20260425T155457
CREATED:20241008T000416Z
LAST-MODIFIED:20241207T165917Z
UID:10002331-1733425200-1733428800@qlibrary.org
SUMMARY:Library Patron's Union Meeting
DESCRIPTION:The Library Patrons Union is an explicitly leftist\, community-run union of Hennepin County Library patrons\, organizing for more just public libraries. https://librarypatronsunion.com \nEmail librarypatronsunion@gmail.com with questions.
URL:https://qlibrary.org/event/library-patrons-union-meeting/2024-12-05/
LOCATION:Quatrefoil Library\, 1220 East Lake Street\, Minneapolis\, MN\, 55407\, United States
CATEGORIES:Community Club
END:VEVENT
BEGIN:VEVENT
DTSTART;TZID=America/Chicago:20241214T183000
DTEND;TZID=America/Chicago:20241214T213000
DTSTAMP:20260425T155457
CREATED:20241028T215649Z
LAST-MODIFIED:20241028T220924Z
UID:10002454-1734201000-1734211800@qlibrary.org
SUMMARY:Quatrefoil Game Night
DESCRIPTION:
URL:https://qlibrary.org/event/quatrefoil-game-night/2024-12-14/
LOCATION:Quatrefoil Library\, 1220 East Lake Street\, Minneapolis\, MN\, 55407\, United States
CATEGORIES:Community Club
END:VEVENT
BEGIN:VEVENT
DTSTART;TZID=America/Chicago:20241218T190000
DTEND;TZID=America/Chicago:20241218T210000
DTSTAMP:20260425T155457
CREATED:20240114T181948Z
LAST-MODIFIED:20240324T164415Z
UID:10001542-1734548400-1734555600@qlibrary.org
SUMMARY:Queer Threads
DESCRIPTION:Queer threads: a weekly intergenerational craft night for LGBTQ people of all genders \nwhat: a weekly craft night for knitting\, crochet\, embroidery\, mending\, quilting\, and other portable crafts \nwhy: find community and camaraderie with other LGBTQ crafters \nwho: for all ages and genders. Kids are welcome\, but childcare is not provided. \nwhere: Quatrefoil Library at 1220 E Lake St Minneapolis. \nwhen: Wednesday nights from 7-9 pm \naccessibility: please wear a mask. \nhelp us cultivate a welcoming group: crafting is for all gender identities and types of gender expression; ask for (rather than assume) pronouns; all types of yarn and materials\, experience levels\, and portable craft projects are welcome.
URL:https://qlibrary.org/event/queer-threads-4/2024-12-18/
LOCATION:Quatrefoil Library\, 1220 East Lake Street\, Minneapolis\, MN\, 55407\, United States
CATEGORIES:Community Club
END:VEVENT
BEGIN:VEVENT
DTSTART;TZID=America/Chicago:20241225T190000
DTEND;TZID=America/Chicago:20241225T200000
DTSTAMP:20260425T155457
CREATED:20240120T001553Z
LAST-MODIFIED:20240324T162721Z
UID:10001276-1735153200-1735156800@qlibrary.org
SUMMARY:Twin Cities Queer Transplant Group
DESCRIPTION:The Twin Cities Queer Transplant Group is a new community meetup for folks who have recently relocated to the Twin Cities. Drop by to meet new people\, learn about local LGBTQIA+ resources\, chat\, and share your favorite Twin Cities discoveries! Locals\, partners\, and family welcome. Meetings hosted every 4th Wednesday at Quatrefoil Library. Questions and information requests can be sent to TCTransplants@gmail.com
URL:https://qlibrary.org/event/twin-cities-queer-transplant-group/2024-12-25/
LOCATION:Quatrefoil Library\, 1220 East Lake Street\, Minneapolis\, MN\, 55407\, United States
CATEGORIES:Community Club
END:VEVENT
BEGIN:VEVENT
DTSTART;TZID=America/Chicago:20241228T183000
DTEND;TZID=America/Chicago:20241228T213000
DTSTAMP:20260425T155457
CREATED:20241224T010402Z
LAST-MODIFIED:20241224T010840Z
UID:10002514-1735410600-1735421400@qlibrary.org
SUMMARY:CANCELLED: Quatrefoil Game Night
DESCRIPTION:Game night cancelled tonight due to the holiday season. We will be back in the new year!
URL:https://qlibrary.org/event/quatrefoil-game-night-2-2/
LOCATION:Quatrefoil Library\, 1220 East Lake Street\, Minneapolis\, MN\, 55407\, United States
CATEGORIES:Community Club
END:VEVENT
END:VCALENDAR