BEGIN:VCALENDAR
VERSION:2.0
PRODID:-//Quatrefoil Library - ECPv6.15.20//NONSGML v1.0//EN
CALSCALE:GREGORIAN
METHOD:PUBLISH
X-WR-CALNAME:Quatrefoil Library
X-ORIGINAL-URL:https://qlibrary.org
X-WR-CALDESC:Events for Quatrefoil Library
REFRESH-INTERVAL;VALUE=DURATION:PT1H
X-Robots-Tag:noindex
X-PUBLISHED-TTL:PT1H
BEGIN:VTIMEZONE
TZID:America/Chicago
BEGIN:DAYLIGHT
TZOFFSETFROM:-0600
TZOFFSETTO:-0500
TZNAME:CDT
DTSTART:20280312T080000
END:DAYLIGHT
BEGIN:STANDARD
TZOFFSETFROM:-0500
TZOFFSETTO:-0600
TZNAME:CST
DTSTART:20281105T070000
END:STANDARD
BEGIN:DAYLIGHT
TZOFFSETFROM:-0600
TZOFFSETTO:-0500
TZNAME:CDT
DTSTART:20290311T080000
END:DAYLIGHT
BEGIN:STANDARD
TZOFFSETFROM:-0500
TZOFFSETTO:-0600
TZNAME:CST
DTSTART:20291104T070000
END:STANDARD
BEGIN:DAYLIGHT
TZOFFSETFROM:-0600
TZOFFSETTO:-0500
TZNAME:CDT
DTSTART:20300310T080000
END:DAYLIGHT
BEGIN:STANDARD
TZOFFSETFROM:-0500
TZOFFSETTO:-0600
TZNAME:CST
DTSTART:20301103T070000
END:STANDARD
BEGIN:DAYLIGHT
TZOFFSETFROM:-0600
TZOFFSETTO:-0500
TZNAME:CDT
DTSTART:20310309T080000
END:DAYLIGHT
BEGIN:STANDARD
TZOFFSETFROM:-0500
TZOFFSETTO:-0600
TZNAME:CST
DTSTART:20311102T070000
END:STANDARD
END:VTIMEZONE
BEGIN:VEVENT
DTSTART;TZID=America/Chicago:20291023T180000
DTEND;TZID=America/Chicago:20291023T190000
DTSTAMP:20260425T062824
CREATED:20250909T212404Z
LAST-MODIFIED:20250909T212404Z
UID:10003815-1887472800-1887476400@qlibrary.org
SUMMARY:Programming Committee Meeting
DESCRIPTION:Regular meeting of the Quatrefoil Programming Committee. Committee meets every second and fourth Tuesday in the library (with a virtual option available for committee members) from 6:00 – 7:00pm. Reach out to programming@quatrefoil.org if you are interested in joining.
URL:https://qlibrary.org/event/programming-committee-meeting-8-2/2029-10-23/
LOCATION:Quatrefoil Library\, 1220 East Lake Street\, Minneapolis\, MN\, 55407\, United States
CATEGORIES:Committee Meetings
END:VEVENT
BEGIN:VEVENT
DTSTART;TZID=America/Chicago:20291101T183000
DTEND;TZID=America/Chicago:20291101T200000
DTSTAMP:20260425T062824
CREATED:20260108T021858Z
LAST-MODIFIED:20260108T021858Z
UID:10004401-1888252200-1888257600@qlibrary.org
SUMMARY:Quatrefoil Board Meeting
DESCRIPTION:The Quatrefoil Board meets monthly on the first Thursday of the month in the Community Room.
URL:https://qlibrary.org/event/quatrefoil-board-meeting-2-2-2/2029-11-01/
LOCATION:Quatrefoil Library\, 1220 East Lake Street\, Minneapolis\, MN\, 55407\, United States
CATEGORIES:Committee Meetings
END:VEVENT
BEGIN:VEVENT
DTSTART;TZID=America/Chicago:20291105T173000
DTEND;TZID=America/Chicago:20291105T190000
DTSTAMP:20260425T062824
CREATED:20260406T202954Z
LAST-MODIFIED:20260406T202954Z
UID:10004546-1888594200-1888599600@qlibrary.org
SUMMARY:Finance & Development Committee Meeting
DESCRIPTION:The Finance and Development committees meet hybrid on the first Monday of each month. Contact development@quatrefoil.org if you are interested in joining!
URL:https://qlibrary.org/event/finance-development-committee-meeting/2029-11-05/
LOCATION:Quatrefoil Library\, 1220 East Lake Street\, Minneapolis\, MN\, 55407\, United States
CATEGORIES:Committee Meetings
END:VEVENT
BEGIN:VEVENT
DTSTART;TZID=America/Chicago:20291106T190000
DTEND;TZID=America/Chicago:20291106T203000
DTSTAMP:20260425T062824
CREATED:20250527T225421Z
LAST-MODIFIED:20250527T225421Z
UID:10003418-1888686000-1888691400@qlibrary.org
SUMMARY:Technology Committee Meeting
DESCRIPTION:The tech committee meets hybrid on the first Tuesday of each month. Contact technology@quatrefoil.org if you are interested in joining!
URL:https://qlibrary.org/event/technology-committee-meeting/2029-11-06/
LOCATION:Quatrefoil Library\, 1220 East Lake Street\, Minneapolis\, MN\, 55407\, United States
CATEGORIES:Committee Meetings
END:VEVENT
BEGIN:VEVENT
DTSTART;TZID=America/Chicago:20291112T173000
DTEND;TZID=America/Chicago:20291112T183000
DTSTAMP:20260425T062824
CREATED:20260406T203149Z
LAST-MODIFIED:20260406T203149Z
UID:10004606-1889199000-1889202600@qlibrary.org
SUMMARY:Volunteer Committee Meeting
DESCRIPTION:Our volunteer committee is responsible for recruiting and training volunteers. They also maintain our volunteer schedule\, for operating hours and special events. \nAnyone is welcome to stop in if interested in joining\, or to share constructive ideas. You can also sign up via our volunteer form. \nThis meeting is held in the library space\, with a virtual option available.
URL:https://qlibrary.org/event/volunteer-committee-meeting-4/2029-11-12/
LOCATION:Quatrefoil Library\, 1220 East Lake Street\, Minneapolis\, MN\, 55407\, United States
CATEGORIES:Committee Meetings
END:VEVENT
BEGIN:VEVENT
DTSTART;TZID=America/Chicago:20291113T180000
DTEND;TZID=America/Chicago:20291113T190000
DTSTAMP:20260425T062824
CREATED:20251207T180057Z
LAST-MODIFIED:20251207T180057Z
UID:10003691-1889287200-1889290800@qlibrary.org
SUMMARY:Programming Committee Meeting
DESCRIPTION:*Programming is on break from December 2025- January 2026. We will resume regular meeting times in February. If interested in joining in the new year\, reach out to Programming via email.* \nRegular meeting of the Quatrefoil Programming Committee. Committee meets every second and fourth Tuesday in the library (with a virtual option available for committee members) from 6:00 – 7:00pm. Reach out to programming@quatrefoil.org if you are interested in joining.
URL:https://qlibrary.org/event/programming-committee-meeting-6-2-2-2-2/2029-11-13/
LOCATION:Quatrefoil Library\, 1220 East Lake Street\, Minneapolis\, MN\, 55407\, United States
CATEGORIES:Committee Meetings
END:VEVENT
BEGIN:VEVENT
DTSTART;TZID=America/Chicago:20291127T180000
DTEND;TZID=America/Chicago:20291127T190000
DTSTAMP:20260425T062824
CREATED:20250909T212404Z
LAST-MODIFIED:20250909T212404Z
UID:10003816-1890496800-1890500400@qlibrary.org
SUMMARY:Programming Committee Meeting
DESCRIPTION:Regular meeting of the Quatrefoil Programming Committee. Committee meets every second and fourth Tuesday in the library (with a virtual option available for committee members) from 6:00 – 7:00pm. Reach out to programming@quatrefoil.org if you are interested in joining.
URL:https://qlibrary.org/event/programming-committee-meeting-8-2/2029-11-27/
LOCATION:Quatrefoil Library\, 1220 East Lake Street\, Minneapolis\, MN\, 55407\, United States
CATEGORIES:Committee Meetings
END:VEVENT
BEGIN:VEVENT
DTSTART;TZID=America/Chicago:20291203T173000
DTEND;TZID=America/Chicago:20291203T190000
DTSTAMP:20260425T062824
CREATED:20260406T202954Z
LAST-MODIFIED:20260406T202954Z
UID:10004547-1891013400-1891018800@qlibrary.org
SUMMARY:Finance & Development Committee Meeting
DESCRIPTION:The Finance and Development committees meet hybrid on the first Monday of each month. Contact development@quatrefoil.org if you are interested in joining!
URL:https://qlibrary.org/event/finance-development-committee-meeting/2029-12-03/
LOCATION:Quatrefoil Library\, 1220 East Lake Street\, Minneapolis\, MN\, 55407\, United States
CATEGORIES:Committee Meetings
END:VEVENT
BEGIN:VEVENT
DTSTART;TZID=America/Chicago:20291204T190000
DTEND;TZID=America/Chicago:20291204T203000
DTSTAMP:20260425T062824
CREATED:20250527T225421Z
LAST-MODIFIED:20250527T225421Z
UID:10003419-1891105200-1891110600@qlibrary.org
SUMMARY:Technology Committee Meeting
DESCRIPTION:The tech committee meets hybrid on the first Tuesday of each month. Contact technology@quatrefoil.org if you are interested in joining!
URL:https://qlibrary.org/event/technology-committee-meeting/2029-12-04/
LOCATION:Quatrefoil Library\, 1220 East Lake Street\, Minneapolis\, MN\, 55407\, United States
CATEGORIES:Committee Meetings
END:VEVENT
BEGIN:VEVENT
DTSTART;TZID=America/Chicago:20291206T183000
DTEND;TZID=America/Chicago:20291206T200000
DTSTAMP:20260425T062824
CREATED:20260108T021858Z
LAST-MODIFIED:20260108T021858Z
UID:10004402-1891276200-1891281600@qlibrary.org
SUMMARY:Quatrefoil Board Meeting
DESCRIPTION:The Quatrefoil Board meets monthly on the first Thursday of the month in the Community Room.
URL:https://qlibrary.org/event/quatrefoil-board-meeting-2-2-2/2029-12-06/
LOCATION:Quatrefoil Library\, 1220 East Lake Street\, Minneapolis\, MN\, 55407\, United States
CATEGORIES:Committee Meetings
END:VEVENT
BEGIN:VEVENT
DTSTART;TZID=America/Chicago:20291210T173000
DTEND;TZID=America/Chicago:20291210T183000
DTSTAMP:20260425T062824
CREATED:20260406T203149Z
LAST-MODIFIED:20260406T203149Z
UID:10004607-1891618200-1891621800@qlibrary.org
SUMMARY:Volunteer Committee Meeting
DESCRIPTION:Our volunteer committee is responsible for recruiting and training volunteers. They also maintain our volunteer schedule\, for operating hours and special events. \nAnyone is welcome to stop in if interested in joining\, or to share constructive ideas. You can also sign up via our volunteer form. \nThis meeting is held in the library space\, with a virtual option available.
URL:https://qlibrary.org/event/volunteer-committee-meeting-4/2029-12-10/
LOCATION:Quatrefoil Library\, 1220 East Lake Street\, Minneapolis\, MN\, 55407\, United States
CATEGORIES:Committee Meetings
END:VEVENT
BEGIN:VEVENT
DTSTART;TZID=America/Chicago:20291211T180000
DTEND;TZID=America/Chicago:20291211T190000
DTSTAMP:20260425T062824
CREATED:20251207T180057Z
LAST-MODIFIED:20251207T180057Z
UID:10003692-1891706400-1891710000@qlibrary.org
SUMMARY:Programming Committee Meeting
DESCRIPTION:*Programming is on break from December 2025- January 2026. We will resume regular meeting times in February. If interested in joining in the new year\, reach out to Programming via email.* \nRegular meeting of the Quatrefoil Programming Committee. Committee meets every second and fourth Tuesday in the library (with a virtual option available for committee members) from 6:00 – 7:00pm. Reach out to programming@quatrefoil.org if you are interested in joining.
URL:https://qlibrary.org/event/programming-committee-meeting-6-2-2-2-2/2029-12-11/
LOCATION:Quatrefoil Library\, 1220 East Lake Street\, Minneapolis\, MN\, 55407\, United States
CATEGORIES:Committee Meetings
END:VEVENT
BEGIN:VEVENT
DTSTART;TZID=America/Chicago:20291225T180000
DTEND;TZID=America/Chicago:20291225T190000
DTSTAMP:20260425T062824
CREATED:20250909T212404Z
LAST-MODIFIED:20250909T212404Z
UID:10003817-1892916000-1892919600@qlibrary.org
SUMMARY:Programming Committee Meeting
DESCRIPTION:Regular meeting of the Quatrefoil Programming Committee. Committee meets every second and fourth Tuesday in the library (with a virtual option available for committee members) from 6:00 – 7:00pm. Reach out to programming@quatrefoil.org if you are interested in joining.
URL:https://qlibrary.org/event/programming-committee-meeting-8-2/2029-12-25/
LOCATION:Quatrefoil Library\, 1220 East Lake Street\, Minneapolis\, MN\, 55407\, United States
CATEGORIES:Committee Meetings
END:VEVENT
BEGIN:VEVENT
DTSTART;TZID=America/Chicago:20300101T190000
DTEND;TZID=America/Chicago:20300101T203000
DTSTAMP:20260425T062824
CREATED:20250527T225421Z
LAST-MODIFIED:20250527T225421Z
UID:10003420-1893524400-1893529800@qlibrary.org
SUMMARY:Technology Committee Meeting
DESCRIPTION:The tech committee meets hybrid on the first Tuesday of each month. Contact technology@quatrefoil.org if you are interested in joining!
URL:https://qlibrary.org/event/technology-committee-meeting/2030-01-01/
LOCATION:Quatrefoil Library\, 1220 East Lake Street\, Minneapolis\, MN\, 55407\, United States
CATEGORIES:Committee Meetings
END:VEVENT
BEGIN:VEVENT
DTSTART;TZID=America/Chicago:20300103T183000
DTEND;TZID=America/Chicago:20300103T200000
DTSTAMP:20260425T062824
CREATED:20260108T021858Z
LAST-MODIFIED:20260108T021858Z
UID:10004403-1893695400-1893700800@qlibrary.org
SUMMARY:Quatrefoil Board Meeting
DESCRIPTION:The Quatrefoil Board meets monthly on the first Thursday of the month in the Community Room.
URL:https://qlibrary.org/event/quatrefoil-board-meeting-2-2-2/2030-01-03/
LOCATION:Quatrefoil Library\, 1220 East Lake Street\, Minneapolis\, MN\, 55407\, United States
CATEGORIES:Committee Meetings
END:VEVENT
BEGIN:VEVENT
DTSTART;TZID=America/Chicago:20300107T173000
DTEND;TZID=America/Chicago:20300107T190000
DTSTAMP:20260425T062824
CREATED:20260406T202954Z
LAST-MODIFIED:20260406T202954Z
UID:10004548-1894037400-1894042800@qlibrary.org
SUMMARY:Finance & Development Committee Meeting
DESCRIPTION:The Finance and Development committees meet hybrid on the first Monday of each month. Contact development@quatrefoil.org if you are interested in joining!
URL:https://qlibrary.org/event/finance-development-committee-meeting/2030-01-07/
LOCATION:Quatrefoil Library\, 1220 East Lake Street\, Minneapolis\, MN\, 55407\, United States
CATEGORIES:Committee Meetings
END:VEVENT
BEGIN:VEVENT
DTSTART;TZID=America/Chicago:20300108T180000
DTEND;TZID=America/Chicago:20300108T190000
DTSTAMP:20260425T062824
CREATED:20251207T180057Z
LAST-MODIFIED:20251207T180057Z
UID:10003693-1894125600-1894129200@qlibrary.org
SUMMARY:Programming Committee Meeting
DESCRIPTION:*Programming is on break from December 2025- January 2026. We will resume regular meeting times in February. If interested in joining in the new year\, reach out to Programming via email.* \nRegular meeting of the Quatrefoil Programming Committee. Committee meets every second and fourth Tuesday in the library (with a virtual option available for committee members) from 6:00 – 7:00pm. Reach out to programming@quatrefoil.org if you are interested in joining.
URL:https://qlibrary.org/event/programming-committee-meeting-6-2-2-2-2/2030-01-08/
LOCATION:Quatrefoil Library\, 1220 East Lake Street\, Minneapolis\, MN\, 55407\, United States
CATEGORIES:Committee Meetings
END:VEVENT
BEGIN:VEVENT
DTSTART;TZID=America/Chicago:20300114T173000
DTEND;TZID=America/Chicago:20300114T183000
DTSTAMP:20260425T062824
CREATED:20260406T203149Z
LAST-MODIFIED:20260406T203149Z
UID:10004608-1894642200-1894645800@qlibrary.org
SUMMARY:Volunteer Committee Meeting
DESCRIPTION:Our volunteer committee is responsible for recruiting and training volunteers. They also maintain our volunteer schedule\, for operating hours and special events. \nAnyone is welcome to stop in if interested in joining\, or to share constructive ideas. You can also sign up via our volunteer form. \nThis meeting is held in the library space\, with a virtual option available.
URL:https://qlibrary.org/event/volunteer-committee-meeting-4/2030-01-14/
LOCATION:Quatrefoil Library\, 1220 East Lake Street\, Minneapolis\, MN\, 55407\, United States
CATEGORIES:Committee Meetings
END:VEVENT
BEGIN:VEVENT
DTSTART;TZID=America/Chicago:20300122T180000
DTEND;TZID=America/Chicago:20300122T190000
DTSTAMP:20260425T062824
CREATED:20250909T212404Z
LAST-MODIFIED:20250909T212404Z
UID:10003818-1895335200-1895338800@qlibrary.org
SUMMARY:Programming Committee Meeting
DESCRIPTION:Regular meeting of the Quatrefoil Programming Committee. Committee meets every second and fourth Tuesday in the library (with a virtual option available for committee members) from 6:00 – 7:00pm. Reach out to programming@quatrefoil.org if you are interested in joining.
URL:https://qlibrary.org/event/programming-committee-meeting-8-2/2030-01-22/
LOCATION:Quatrefoil Library\, 1220 East Lake Street\, Minneapolis\, MN\, 55407\, United States
CATEGORIES:Committee Meetings
END:VEVENT
BEGIN:VEVENT
DTSTART;TZID=America/Chicago:20300204T173000
DTEND;TZID=America/Chicago:20300204T190000
DTSTAMP:20260425T062824
CREATED:20260406T202954Z
LAST-MODIFIED:20260406T202954Z
UID:10004549-1896456600-1896462000@qlibrary.org
SUMMARY:Finance & Development Committee Meeting
DESCRIPTION:The Finance and Development committees meet hybrid on the first Monday of each month. Contact development@quatrefoil.org if you are interested in joining!
URL:https://qlibrary.org/event/finance-development-committee-meeting/2030-02-04/
LOCATION:Quatrefoil Library\, 1220 East Lake Street\, Minneapolis\, MN\, 55407\, United States
CATEGORIES:Committee Meetings
END:VEVENT
BEGIN:VEVENT
DTSTART;TZID=America/Chicago:20300205T190000
DTEND;TZID=America/Chicago:20300205T203000
DTSTAMP:20260425T062824
CREATED:20250527T225421Z
LAST-MODIFIED:20250527T225421Z
UID:10003421-1896548400-1896553800@qlibrary.org
SUMMARY:Technology Committee Meeting
DESCRIPTION:The tech committee meets hybrid on the first Tuesday of each month. Contact technology@quatrefoil.org if you are interested in joining!
URL:https://qlibrary.org/event/technology-committee-meeting/2030-02-05/
LOCATION:Quatrefoil Library\, 1220 East Lake Street\, Minneapolis\, MN\, 55407\, United States
CATEGORIES:Committee Meetings
END:VEVENT
BEGIN:VEVENT
DTSTART;TZID=America/Chicago:20300207T183000
DTEND;TZID=America/Chicago:20300207T200000
DTSTAMP:20260425T062824
CREATED:20260108T021858Z
LAST-MODIFIED:20260108T021858Z
UID:10004404-1896719400-1896724800@qlibrary.org
SUMMARY:Quatrefoil Board Meeting
DESCRIPTION:The Quatrefoil Board meets monthly on the first Thursday of the month in the Community Room.
URL:https://qlibrary.org/event/quatrefoil-board-meeting-2-2-2/2030-02-07/
LOCATION:Quatrefoil Library\, 1220 East Lake Street\, Minneapolis\, MN\, 55407\, United States
CATEGORIES:Committee Meetings
END:VEVENT
BEGIN:VEVENT
DTSTART;TZID=America/Chicago:20300211T173000
DTEND;TZID=America/Chicago:20300211T183000
DTSTAMP:20260425T062824
CREATED:20260406T203149Z
LAST-MODIFIED:20260406T203149Z
UID:10004609-1897061400-1897065000@qlibrary.org
SUMMARY:Volunteer Committee Meeting
DESCRIPTION:Our volunteer committee is responsible for recruiting and training volunteers. They also maintain our volunteer schedule\, for operating hours and special events. \nAnyone is welcome to stop in if interested in joining\, or to share constructive ideas. You can also sign up via our volunteer form. \nThis meeting is held in the library space\, with a virtual option available.
URL:https://qlibrary.org/event/volunteer-committee-meeting-4/2030-02-11/
LOCATION:Quatrefoil Library\, 1220 East Lake Street\, Minneapolis\, MN\, 55407\, United States
CATEGORIES:Committee Meetings
END:VEVENT
BEGIN:VEVENT
DTSTART;TZID=America/Chicago:20300212T180000
DTEND;TZID=America/Chicago:20300212T190000
DTSTAMP:20260425T062824
CREATED:20251207T180057Z
LAST-MODIFIED:20251207T180057Z
UID:10003694-1897149600-1897153200@qlibrary.org
SUMMARY:Programming Committee Meeting
DESCRIPTION:*Programming is on break from December 2025- January 2026. We will resume regular meeting times in February. If interested in joining in the new year\, reach out to Programming via email.* \nRegular meeting of the Quatrefoil Programming Committee. Committee meets every second and fourth Tuesday in the library (with a virtual option available for committee members) from 6:00 – 7:00pm. Reach out to programming@quatrefoil.org if you are interested in joining.
URL:https://qlibrary.org/event/programming-committee-meeting-6-2-2-2-2/2030-02-12/
LOCATION:Quatrefoil Library\, 1220 East Lake Street\, Minneapolis\, MN\, 55407\, United States
CATEGORIES:Committee Meetings
END:VEVENT
BEGIN:VEVENT
DTSTART;TZID=America/Chicago:20300226T180000
DTEND;TZID=America/Chicago:20300226T190000
DTSTAMP:20260425T062824
CREATED:20250909T212404Z
LAST-MODIFIED:20250909T212404Z
UID:10003819-1898359200-1898362800@qlibrary.org
SUMMARY:Programming Committee Meeting
DESCRIPTION:Regular meeting of the Quatrefoil Programming Committee. Committee meets every second and fourth Tuesday in the library (with a virtual option available for committee members) from 6:00 – 7:00pm. Reach out to programming@quatrefoil.org if you are interested in joining.
URL:https://qlibrary.org/event/programming-committee-meeting-8-2/2030-02-26/
LOCATION:Quatrefoil Library\, 1220 East Lake Street\, Minneapolis\, MN\, 55407\, United States
CATEGORIES:Committee Meetings
END:VEVENT
BEGIN:VEVENT
DTSTART;TZID=America/Chicago:20300304T173000
DTEND;TZID=America/Chicago:20300304T190000
DTSTAMP:20260425T062824
CREATED:20260406T202954Z
LAST-MODIFIED:20260406T202954Z
UID:10004550-1898875800-1898881200@qlibrary.org
SUMMARY:Finance & Development Committee Meeting
DESCRIPTION:The Finance and Development committees meet hybrid on the first Monday of each month. Contact development@quatrefoil.org if you are interested in joining!
URL:https://qlibrary.org/event/finance-development-committee-meeting/2030-03-04/
LOCATION:Quatrefoil Library\, 1220 East Lake Street\, Minneapolis\, MN\, 55407\, United States
CATEGORIES:Committee Meetings
END:VEVENT
BEGIN:VEVENT
DTSTART;TZID=America/Chicago:20300305T190000
DTEND;TZID=America/Chicago:20300305T203000
DTSTAMP:20260425T062824
CREATED:20250527T225421Z
LAST-MODIFIED:20250527T225421Z
UID:10003422-1898967600-1898973000@qlibrary.org
SUMMARY:Technology Committee Meeting
DESCRIPTION:The tech committee meets hybrid on the first Tuesday of each month. Contact technology@quatrefoil.org if you are interested in joining!
URL:https://qlibrary.org/event/technology-committee-meeting/2030-03-05/
LOCATION:Quatrefoil Library\, 1220 East Lake Street\, Minneapolis\, MN\, 55407\, United States
CATEGORIES:Committee Meetings
END:VEVENT
BEGIN:VEVENT
DTSTART;TZID=America/Chicago:20300307T183000
DTEND;TZID=America/Chicago:20300307T200000
DTSTAMP:20260425T062824
CREATED:20260108T021858Z
LAST-MODIFIED:20260108T021858Z
UID:10004405-1899138600-1899144000@qlibrary.org
SUMMARY:Quatrefoil Board Meeting
DESCRIPTION:The Quatrefoil Board meets monthly on the first Thursday of the month in the Community Room.
URL:https://qlibrary.org/event/quatrefoil-board-meeting-2-2-2/2030-03-07/
LOCATION:Quatrefoil Library\, 1220 East Lake Street\, Minneapolis\, MN\, 55407\, United States
CATEGORIES:Committee Meetings
END:VEVENT
BEGIN:VEVENT
DTSTART;TZID=America/Chicago:20300311T173000
DTEND;TZID=America/Chicago:20300311T183000
DTSTAMP:20260425T062824
CREATED:20260406T203149Z
LAST-MODIFIED:20260406T203149Z
UID:10004610-1899480600-1899484200@qlibrary.org
SUMMARY:Volunteer Committee Meeting
DESCRIPTION:Our volunteer committee is responsible for recruiting and training volunteers. They also maintain our volunteer schedule\, for operating hours and special events. \nAnyone is welcome to stop in if interested in joining\, or to share constructive ideas. You can also sign up via our volunteer form. \nThis meeting is held in the library space\, with a virtual option available.
URL:https://qlibrary.org/event/volunteer-committee-meeting-4/2030-03-11/
LOCATION:Quatrefoil Library\, 1220 East Lake Street\, Minneapolis\, MN\, 55407\, United States
CATEGORIES:Committee Meetings
END:VEVENT
BEGIN:VEVENT
DTSTART;TZID=America/Chicago:20300312T180000
DTEND;TZID=America/Chicago:20300312T190000
DTSTAMP:20260425T062824
CREATED:20251207T180057Z
LAST-MODIFIED:20251207T180057Z
UID:10003695-1899568800-1899572400@qlibrary.org
SUMMARY:Programming Committee Meeting
DESCRIPTION:*Programming is on break from December 2025- January 2026. We will resume regular meeting times in February. If interested in joining in the new year\, reach out to Programming via email.* \nRegular meeting of the Quatrefoil Programming Committee. Committee meets every second and fourth Tuesday in the library (with a virtual option available for committee members) from 6:00 – 7:00pm. Reach out to programming@quatrefoil.org if you are interested in joining.
URL:https://qlibrary.org/event/programming-committee-meeting-6-2-2-2-2/2030-03-12/
LOCATION:Quatrefoil Library\, 1220 East Lake Street\, Minneapolis\, MN\, 55407\, United States
CATEGORIES:Committee Meetings
END:VEVENT
END:VCALENDAR