BEGIN:VCALENDAR
VERSION:2.0
PRODID:-//Quatrefoil Library - ECPv6.15.20//NONSGML v1.0//EN
CALSCALE:GREGORIAN
METHOD:PUBLISH
X-ORIGINAL-URL:https://qlibrary.org
X-WR-CALDESC:Events for Quatrefoil Library
REFRESH-INTERVAL;VALUE=DURATION:PT1H
X-Robots-Tag:noindex
X-PUBLISHED-TTL:PT1H
BEGIN:VTIMEZONE
TZID:America/Chicago
BEGIN:DAYLIGHT
TZOFFSETFROM:-0600
TZOFFSETTO:-0500
TZNAME:CDT
DTSTART:20250309T080000
END:DAYLIGHT
BEGIN:STANDARD
TZOFFSETFROM:-0500
TZOFFSETTO:-0600
TZNAME:CST
DTSTART:20251102T070000
END:STANDARD
BEGIN:DAYLIGHT
TZOFFSETFROM:-0600
TZOFFSETTO:-0500
TZNAME:CDT
DTSTART:20260308T080000
END:DAYLIGHT
BEGIN:STANDARD
TZOFFSETFROM:-0500
TZOFFSETTO:-0600
TZNAME:CST
DTSTART:20261101T070000
END:STANDARD
BEGIN:DAYLIGHT
TZOFFSETFROM:-0600
TZOFFSETTO:-0500
TZNAME:CDT
DTSTART:20270314T080000
END:DAYLIGHT
BEGIN:STANDARD
TZOFFSETFROM:-0500
TZOFFSETTO:-0600
TZNAME:CST
DTSTART:20271107T070000
END:STANDARD
BEGIN:DAYLIGHT
TZOFFSETFROM:-0600
TZOFFSETTO:-0500
TZNAME:CDT
DTSTART:20280312T080000
END:DAYLIGHT
BEGIN:STANDARD
TZOFFSETFROM:-0500
TZOFFSETTO:-0600
TZNAME:CST
DTSTART:20281105T070000
END:STANDARD
END:VTIMEZONE
BEGIN:VEVENT
DTSTART;TZID=America/Chicago:20260825T180000
DTEND;TZID=America/Chicago:20260825T190000
DTSTAMP:20260423T162157
CREATED:20250909T212404Z
LAST-MODIFIED:20250909T212404Z
UID:10003777-1787680800-1787684400@qlibrary.org
SUMMARY:Programming Committee Meeting
DESCRIPTION:Regular meeting of the Quatrefoil Programming Committee. Committee meets every second and fourth Tuesday in the library (with a virtual option available for committee members) from 6:00 – 7:00pm. Reach out to programming@quatrefoil.org if you are interested in joining.
URL:https://qlibrary.org/event/programming-committee-meeting-8-2/2026-08-25/
LOCATION:Quatrefoil Library\, 1220 East Lake Street\, Minneapolis\, MN\, 55407\, United States
CATEGORIES:Committee Meetings
END:VEVENT
BEGIN:VEVENT
DTSTART;TZID=America/Chicago:20260901T190000
DTEND;TZID=America/Chicago:20260901T203000
DTSTAMP:20260423T162157
CREATED:20250527T225421Z
LAST-MODIFIED:20250527T225421Z
UID:10003380-1788289200-1788294600@qlibrary.org
SUMMARY:Technology Committee Meeting
DESCRIPTION:The tech committee meets hybrid on the first Tuesday of each month. Contact technology@quatrefoil.org if you are interested in joining!
URL:https://qlibrary.org/event/technology-committee-meeting/2026-09-01/
LOCATION:Quatrefoil Library\, 1220 East Lake Street\, Minneapolis\, MN\, 55407\, United States
CATEGORIES:Committee Meetings
END:VEVENT
BEGIN:VEVENT
DTSTART;TZID=America/Chicago:20260903T183000
DTEND;TZID=America/Chicago:20260903T200000
DTSTAMP:20260423T162157
CREATED:20260108T021858Z
LAST-MODIFIED:20260108T021858Z
UID:10004363-1788460200-1788465600@qlibrary.org
SUMMARY:Quatrefoil Board Meeting
DESCRIPTION:The Quatrefoil Board meets monthly on the first Thursday of the month in the Community Room.
URL:https://qlibrary.org/event/quatrefoil-board-meeting-2-2-2/2026-09-03/
LOCATION:Quatrefoil Library\, 1220 East Lake Street\, Minneapolis\, MN\, 55407\, United States
CATEGORIES:Committee Meetings
END:VEVENT
BEGIN:VEVENT
DTSTART;TZID=America/Chicago:20260907T173000
DTEND;TZID=America/Chicago:20260907T190000
DTSTAMP:20260423T162157
CREATED:20260406T202954Z
LAST-MODIFIED:20260406T202954Z
UID:10004508-1788802200-1788807600@qlibrary.org
SUMMARY:Finance & Development Committee Meeting
DESCRIPTION:The Finance and Development committees meet hybrid on the first Monday of each month. Contact development@quatrefoil.org if you are interested in joining!
URL:https://qlibrary.org/event/finance-development-committee-meeting/2026-09-07/
LOCATION:Quatrefoil Library\, 1220 East Lake Street\, Minneapolis\, MN\, 55407\, United States
CATEGORIES:Committee Meetings
END:VEVENT
BEGIN:VEVENT
DTSTART;TZID=America/Chicago:20260908T180000
DTEND;TZID=America/Chicago:20260908T190000
DTSTAMP:20260423T162157
CREATED:20251207T180057Z
LAST-MODIFIED:20251207T180057Z
UID:10003653-1788890400-1788894000@qlibrary.org
SUMMARY:Programming Committee Meeting
DESCRIPTION:*Programming is on break from December 2025- January 2026. We will resume regular meeting times in February. If interested in joining in the new year\, reach out to Programming via email.* \nRegular meeting of the Quatrefoil Programming Committee. Committee meets every second and fourth Tuesday in the library (with a virtual option available for committee members) from 6:00 – 7:00pm. Reach out to programming@quatrefoil.org if you are interested in joining.
URL:https://qlibrary.org/event/programming-committee-meeting-6-2-2-2-2/2026-09-08/
LOCATION:Quatrefoil Library\, 1220 East Lake Street\, Minneapolis\, MN\, 55407\, United States
CATEGORIES:Committee Meetings
END:VEVENT
BEGIN:VEVENT
DTSTART;TZID=America/Chicago:20260914T173000
DTEND;TZID=America/Chicago:20260914T183000
DTSTAMP:20260423T162157
CREATED:20260406T203149Z
LAST-MODIFIED:20260406T203149Z
UID:10004568-1789407000-1789410600@qlibrary.org
SUMMARY:Volunteer Committee Meeting
DESCRIPTION:Our volunteer committee is responsible for recruiting and training volunteers. They also maintain our volunteer schedule\, for operating hours and special events. \nAnyone is welcome to stop in if interested in joining\, or to share constructive ideas. You can also sign up via our volunteer form. \nThis meeting is held in the library space\, with a virtual option available.
URL:https://qlibrary.org/event/volunteer-committee-meeting-4/2026-09-14/
LOCATION:Quatrefoil Library\, 1220 East Lake Street\, Minneapolis\, MN\, 55407\, United States
CATEGORIES:Committee Meetings
END:VEVENT
BEGIN:VEVENT
DTSTART;TZID=America/Chicago:20260922T180000
DTEND;TZID=America/Chicago:20260922T190000
DTSTAMP:20260423T162157
CREATED:20250909T212404Z
LAST-MODIFIED:20250909T212404Z
UID:10003778-1790100000-1790103600@qlibrary.org
SUMMARY:Programming Committee Meeting
DESCRIPTION:Regular meeting of the Quatrefoil Programming Committee. Committee meets every second and fourth Tuesday in the library (with a virtual option available for committee members) from 6:00 – 7:00pm. Reach out to programming@quatrefoil.org if you are interested in joining.
URL:https://qlibrary.org/event/programming-committee-meeting-8-2/2026-09-22/
LOCATION:Quatrefoil Library\, 1220 East Lake Street\, Minneapolis\, MN\, 55407\, United States
CATEGORIES:Committee Meetings
END:VEVENT
BEGIN:VEVENT
DTSTART;TZID=America/Chicago:20260928T173000
DTEND;TZID=America/Chicago:20260928T183000
DTSTAMP:20260423T162157
CREATED:20240324T163158Z
LAST-MODIFIED:20240407T163136Z
UID:10001753-1790616600-1790620200@qlibrary.org
SUMMARY:Volunteer Committee Meeting
DESCRIPTION:Our volunteer committee is responsible for recruiting and training volunteers. They also maintain our volunteer schedule\, for operating hours and special events. \nAnyone is welcome to stop in if interested in joining\, or to share constructive ideas. You can also sign up via our volunteer form. \nThis meeting is held in the library space\, with a virtual option available.
URL:https://qlibrary.org/event/volunteer-committee-meeting-3/2026-09-28/
LOCATION:Quatrefoil Library\, 1220 East Lake Street\, Minneapolis\, MN\, 55407\, United States
CATEGORIES:Committee Meetings
END:VEVENT
BEGIN:VEVENT
DTSTART;TZID=America/Chicago:20261001T183000
DTEND;TZID=America/Chicago:20261001T200000
DTSTAMP:20260423T162157
CREATED:20260108T021858Z
LAST-MODIFIED:20260108T021858Z
UID:10004364-1790879400-1790884800@qlibrary.org
SUMMARY:Quatrefoil Board Meeting
DESCRIPTION:The Quatrefoil Board meets monthly on the first Thursday of the month in the Community Room.
URL:https://qlibrary.org/event/quatrefoil-board-meeting-2-2-2/2026-10-01/
LOCATION:Quatrefoil Library\, 1220 East Lake Street\, Minneapolis\, MN\, 55407\, United States
CATEGORIES:Committee Meetings
END:VEVENT
BEGIN:VEVENT
DTSTART;TZID=America/Chicago:20261005T173000
DTEND;TZID=America/Chicago:20261005T190000
DTSTAMP:20260423T162157
CREATED:20260406T202954Z
LAST-MODIFIED:20260406T202954Z
UID:10004509-1791221400-1791226800@qlibrary.org
SUMMARY:Finance & Development Committee Meeting
DESCRIPTION:The Finance and Development committees meet hybrid on the first Monday of each month. Contact development@quatrefoil.org if you are interested in joining!
URL:https://qlibrary.org/event/finance-development-committee-meeting/2026-10-05/
LOCATION:Quatrefoil Library\, 1220 East Lake Street\, Minneapolis\, MN\, 55407\, United States
CATEGORIES:Committee Meetings
END:VEVENT
BEGIN:VEVENT
DTSTART;TZID=America/Chicago:20261006T190000
DTEND;TZID=America/Chicago:20261006T203000
DTSTAMP:20260423T162157
CREATED:20250527T225421Z
LAST-MODIFIED:20250527T225421Z
UID:10003381-1791313200-1791318600@qlibrary.org
SUMMARY:Technology Committee Meeting
DESCRIPTION:The tech committee meets hybrid on the first Tuesday of each month. Contact technology@quatrefoil.org if you are interested in joining!
URL:https://qlibrary.org/event/technology-committee-meeting/2026-10-06/
LOCATION:Quatrefoil Library\, 1220 East Lake Street\, Minneapolis\, MN\, 55407\, United States
CATEGORIES:Committee Meetings
END:VEVENT
BEGIN:VEVENT
DTSTART;TZID=America/Chicago:20261012T173000
DTEND;TZID=America/Chicago:20261012T183000
DTSTAMP:20260423T162157
CREATED:20260406T203149Z
LAST-MODIFIED:20260406T203149Z
UID:10004569-1791826200-1791829800@qlibrary.org
SUMMARY:Volunteer Committee Meeting
DESCRIPTION:Our volunteer committee is responsible for recruiting and training volunteers. They also maintain our volunteer schedule\, for operating hours and special events. \nAnyone is welcome to stop in if interested in joining\, or to share constructive ideas. You can also sign up via our volunteer form. \nThis meeting is held in the library space\, with a virtual option available.
URL:https://qlibrary.org/event/volunteer-committee-meeting-4/2026-10-12/
LOCATION:Quatrefoil Library\, 1220 East Lake Street\, Minneapolis\, MN\, 55407\, United States
CATEGORIES:Committee Meetings
END:VEVENT
BEGIN:VEVENT
DTSTART;TZID=America/Chicago:20261013T180000
DTEND;TZID=America/Chicago:20261013T190000
DTSTAMP:20260423T162157
CREATED:20251207T180057Z
LAST-MODIFIED:20251207T180057Z
UID:10003654-1791914400-1791918000@qlibrary.org
SUMMARY:Programming Committee Meeting
DESCRIPTION:*Programming is on break from December 2025- January 2026. We will resume regular meeting times in February. If interested in joining in the new year\, reach out to Programming via email.* \nRegular meeting of the Quatrefoil Programming Committee. Committee meets every second and fourth Tuesday in the library (with a virtual option available for committee members) from 6:00 – 7:00pm. Reach out to programming@quatrefoil.org if you are interested in joining.
URL:https://qlibrary.org/event/programming-committee-meeting-6-2-2-2-2/2026-10-13/
LOCATION:Quatrefoil Library\, 1220 East Lake Street\, Minneapolis\, MN\, 55407\, United States
CATEGORIES:Committee Meetings
END:VEVENT
BEGIN:VEVENT
DTSTART;TZID=America/Chicago:20261026T173000
DTEND;TZID=America/Chicago:20261026T183000
DTSTAMP:20260423T162157
CREATED:20240324T163158Z
LAST-MODIFIED:20240407T163136Z
UID:10001754-1793035800-1793039400@qlibrary.org
SUMMARY:Volunteer Committee Meeting
DESCRIPTION:Our volunteer committee is responsible for recruiting and training volunteers. They also maintain our volunteer schedule\, for operating hours and special events. \nAnyone is welcome to stop in if interested in joining\, or to share constructive ideas. You can also sign up via our volunteer form. \nThis meeting is held in the library space\, with a virtual option available.
URL:https://qlibrary.org/event/volunteer-committee-meeting-3/2026-10-26/
LOCATION:Quatrefoil Library\, 1220 East Lake Street\, Minneapolis\, MN\, 55407\, United States
CATEGORIES:Committee Meetings
END:VEVENT
BEGIN:VEVENT
DTSTART;TZID=America/Chicago:20261027T180000
DTEND;TZID=America/Chicago:20261027T190000
DTSTAMP:20260423T162157
CREATED:20250909T212404Z
LAST-MODIFIED:20250909T212404Z
UID:10003779-1793124000-1793127600@qlibrary.org
SUMMARY:Programming Committee Meeting
DESCRIPTION:Regular meeting of the Quatrefoil Programming Committee. Committee meets every second and fourth Tuesday in the library (with a virtual option available for committee members) from 6:00 – 7:00pm. Reach out to programming@quatrefoil.org if you are interested in joining.
URL:https://qlibrary.org/event/programming-committee-meeting-8-2/2026-10-27/
LOCATION:Quatrefoil Library\, 1220 East Lake Street\, Minneapolis\, MN\, 55407\, United States
CATEGORIES:Committee Meetings
END:VEVENT
BEGIN:VEVENT
DTSTART;TZID=America/Chicago:20261102T173000
DTEND;TZID=America/Chicago:20261102T190000
DTSTAMP:20260423T162157
CREATED:20260406T202954Z
LAST-MODIFIED:20260406T202954Z
UID:10004510-1793640600-1793646000@qlibrary.org
SUMMARY:Finance & Development Committee Meeting
DESCRIPTION:The Finance and Development committees meet hybrid on the first Monday of each month. Contact development@quatrefoil.org if you are interested in joining!
URL:https://qlibrary.org/event/finance-development-committee-meeting/2026-11-02/
LOCATION:Quatrefoil Library\, 1220 East Lake Street\, Minneapolis\, MN\, 55407\, United States
CATEGORIES:Committee Meetings
END:VEVENT
BEGIN:VEVENT
DTSTART;TZID=America/Chicago:20261103T190000
DTEND;TZID=America/Chicago:20261103T203000
DTSTAMP:20260423T162157
CREATED:20250527T225421Z
LAST-MODIFIED:20250527T225421Z
UID:10003382-1793732400-1793737800@qlibrary.org
SUMMARY:Technology Committee Meeting
DESCRIPTION:The tech committee meets hybrid on the first Tuesday of each month. Contact technology@quatrefoil.org if you are interested in joining!
URL:https://qlibrary.org/event/technology-committee-meeting/2026-11-03/
LOCATION:Quatrefoil Library\, 1220 East Lake Street\, Minneapolis\, MN\, 55407\, United States
CATEGORIES:Committee Meetings
END:VEVENT
BEGIN:VEVENT
DTSTART;TZID=America/Chicago:20261105T183000
DTEND;TZID=America/Chicago:20261105T200000
DTSTAMP:20260423T162157
CREATED:20260108T021858Z
LAST-MODIFIED:20260108T021858Z
UID:10004365-1793903400-1793908800@qlibrary.org
SUMMARY:Quatrefoil Board Meeting
DESCRIPTION:The Quatrefoil Board meets monthly on the first Thursday of the month in the Community Room.
URL:https://qlibrary.org/event/quatrefoil-board-meeting-2-2-2/2026-11-05/
LOCATION:Quatrefoil Library\, 1220 East Lake Street\, Minneapolis\, MN\, 55407\, United States
CATEGORIES:Committee Meetings
END:VEVENT
BEGIN:VEVENT
DTSTART;TZID=America/Chicago:20261109T173000
DTEND;TZID=America/Chicago:20261109T183000
DTSTAMP:20260423T162157
CREATED:20260406T203149Z
LAST-MODIFIED:20260406T203149Z
UID:10004570-1794245400-1794249000@qlibrary.org
SUMMARY:Volunteer Committee Meeting
DESCRIPTION:Our volunteer committee is responsible for recruiting and training volunteers. They also maintain our volunteer schedule\, for operating hours and special events. \nAnyone is welcome to stop in if interested in joining\, or to share constructive ideas. You can also sign up via our volunteer form. \nThis meeting is held in the library space\, with a virtual option available.
URL:https://qlibrary.org/event/volunteer-committee-meeting-4/2026-11-09/
LOCATION:Quatrefoil Library\, 1220 East Lake Street\, Minneapolis\, MN\, 55407\, United States
CATEGORIES:Committee Meetings
END:VEVENT
BEGIN:VEVENT
DTSTART;TZID=America/Chicago:20261110T180000
DTEND;TZID=America/Chicago:20261110T190000
DTSTAMP:20260423T162157
CREATED:20251207T180057Z
LAST-MODIFIED:20251207T180057Z
UID:10003655-1794333600-1794337200@qlibrary.org
SUMMARY:Programming Committee Meeting
DESCRIPTION:*Programming is on break from December 2025- January 2026. We will resume regular meeting times in February. If interested in joining in the new year\, reach out to Programming via email.* \nRegular meeting of the Quatrefoil Programming Committee. Committee meets every second and fourth Tuesday in the library (with a virtual option available for committee members) from 6:00 – 7:00pm. Reach out to programming@quatrefoil.org if you are interested in joining.
URL:https://qlibrary.org/event/programming-committee-meeting-6-2-2-2-2/2026-11-10/
LOCATION:Quatrefoil Library\, 1220 East Lake Street\, Minneapolis\, MN\, 55407\, United States
CATEGORIES:Committee Meetings
END:VEVENT
BEGIN:VEVENT
DTSTART;TZID=America/Chicago:20261123T173000
DTEND;TZID=America/Chicago:20261123T183000
DTSTAMP:20260423T162157
CREATED:20240324T163158Z
LAST-MODIFIED:20240407T163136Z
UID:10001755-1795455000-1795458600@qlibrary.org
SUMMARY:Volunteer Committee Meeting
DESCRIPTION:Our volunteer committee is responsible for recruiting and training volunteers. They also maintain our volunteer schedule\, for operating hours and special events. \nAnyone is welcome to stop in if interested in joining\, or to share constructive ideas. You can also sign up via our volunteer form. \nThis meeting is held in the library space\, with a virtual option available.
URL:https://qlibrary.org/event/volunteer-committee-meeting-3/2026-11-23/
LOCATION:Quatrefoil Library\, 1220 East Lake Street\, Minneapolis\, MN\, 55407\, United States
CATEGORIES:Committee Meetings
END:VEVENT
BEGIN:VEVENT
DTSTART;TZID=America/Chicago:20261124T180000
DTEND;TZID=America/Chicago:20261124T190000
DTSTAMP:20260423T162157
CREATED:20250909T212404Z
LAST-MODIFIED:20250909T212404Z
UID:10003780-1795543200-1795546800@qlibrary.org
SUMMARY:Programming Committee Meeting
DESCRIPTION:Regular meeting of the Quatrefoil Programming Committee. Committee meets every second and fourth Tuesday in the library (with a virtual option available for committee members) from 6:00 – 7:00pm. Reach out to programming@quatrefoil.org if you are interested in joining.
URL:https://qlibrary.org/event/programming-committee-meeting-8-2/2026-11-24/
LOCATION:Quatrefoil Library\, 1220 East Lake Street\, Minneapolis\, MN\, 55407\, United States
CATEGORIES:Committee Meetings
END:VEVENT
BEGIN:VEVENT
DTSTART;TZID=America/Chicago:20261201T190000
DTEND;TZID=America/Chicago:20261201T203000
DTSTAMP:20260423T162157
CREATED:20250527T225421Z
LAST-MODIFIED:20250527T225421Z
UID:10003383-1796151600-1796157000@qlibrary.org
SUMMARY:Technology Committee Meeting
DESCRIPTION:The tech committee meets hybrid on the first Tuesday of each month. Contact technology@quatrefoil.org if you are interested in joining!
URL:https://qlibrary.org/event/technology-committee-meeting/2026-12-01/
LOCATION:Quatrefoil Library\, 1220 East Lake Street\, Minneapolis\, MN\, 55407\, United States
CATEGORIES:Committee Meetings
END:VEVENT
BEGIN:VEVENT
DTSTART;TZID=America/Chicago:20261203T183000
DTEND;TZID=America/Chicago:20261203T200000
DTSTAMP:20260423T162157
CREATED:20260108T021858Z
LAST-MODIFIED:20260108T021858Z
UID:10004366-1796322600-1796328000@qlibrary.org
SUMMARY:Quatrefoil Board Meeting
DESCRIPTION:The Quatrefoil Board meets monthly on the first Thursday of the month in the Community Room.
URL:https://qlibrary.org/event/quatrefoil-board-meeting-2-2-2/2026-12-03/
LOCATION:Quatrefoil Library\, 1220 East Lake Street\, Minneapolis\, MN\, 55407\, United States
CATEGORIES:Committee Meetings
END:VEVENT
BEGIN:VEVENT
DTSTART;TZID=America/Chicago:20261207T173000
DTEND;TZID=America/Chicago:20261207T190000
DTSTAMP:20260423T162157
CREATED:20260406T202954Z
LAST-MODIFIED:20260406T202954Z
UID:10004511-1796664600-1796670000@qlibrary.org
SUMMARY:Finance & Development Committee Meeting
DESCRIPTION:The Finance and Development committees meet hybrid on the first Monday of each month. Contact development@quatrefoil.org if you are interested in joining!
URL:https://qlibrary.org/event/finance-development-committee-meeting/2026-12-07/
LOCATION:Quatrefoil Library\, 1220 East Lake Street\, Minneapolis\, MN\, 55407\, United States
CATEGORIES:Committee Meetings
END:VEVENT
BEGIN:VEVENT
DTSTART;TZID=America/Chicago:20261208T180000
DTEND;TZID=America/Chicago:20261208T190000
DTSTAMP:20260423T162157
CREATED:20251207T180057Z
LAST-MODIFIED:20251207T180057Z
UID:10003656-1796752800-1796756400@qlibrary.org
SUMMARY:Programming Committee Meeting
DESCRIPTION:*Programming is on break from December 2025- January 2026. We will resume regular meeting times in February. If interested in joining in the new year\, reach out to Programming via email.* \nRegular meeting of the Quatrefoil Programming Committee. Committee meets every second and fourth Tuesday in the library (with a virtual option available for committee members) from 6:00 – 7:00pm. Reach out to programming@quatrefoil.org if you are interested in joining.
URL:https://qlibrary.org/event/programming-committee-meeting-6-2-2-2-2/2026-12-08/
LOCATION:Quatrefoil Library\, 1220 East Lake Street\, Minneapolis\, MN\, 55407\, United States
CATEGORIES:Committee Meetings
END:VEVENT
BEGIN:VEVENT
DTSTART;TZID=America/Chicago:20261214T173000
DTEND;TZID=America/Chicago:20261214T183000
DTSTAMP:20260423T162157
CREATED:20260406T203149Z
LAST-MODIFIED:20260406T203149Z
UID:10004571-1797269400-1797273000@qlibrary.org
SUMMARY:Volunteer Committee Meeting
DESCRIPTION:Our volunteer committee is responsible for recruiting and training volunteers. They also maintain our volunteer schedule\, for operating hours and special events. \nAnyone is welcome to stop in if interested in joining\, or to share constructive ideas. You can also sign up via our volunteer form. \nThis meeting is held in the library space\, with a virtual option available.
URL:https://qlibrary.org/event/volunteer-committee-meeting-4/2026-12-14/
LOCATION:Quatrefoil Library\, 1220 East Lake Street\, Minneapolis\, MN\, 55407\, United States
CATEGORIES:Committee Meetings
END:VEVENT
BEGIN:VEVENT
DTSTART;TZID=America/Chicago:20261222T180000
DTEND;TZID=America/Chicago:20261222T190000
DTSTAMP:20260423T162157
CREATED:20250909T212404Z
LAST-MODIFIED:20250909T212404Z
UID:10003781-1797962400-1797966000@qlibrary.org
SUMMARY:Programming Committee Meeting
DESCRIPTION:Regular meeting of the Quatrefoil Programming Committee. Committee meets every second and fourth Tuesday in the library (with a virtual option available for committee members) from 6:00 – 7:00pm. Reach out to programming@quatrefoil.org if you are interested in joining.
URL:https://qlibrary.org/event/programming-committee-meeting-8-2/2026-12-22/
LOCATION:Quatrefoil Library\, 1220 East Lake Street\, Minneapolis\, MN\, 55407\, United States
CATEGORIES:Committee Meetings
END:VEVENT
BEGIN:VEVENT
DTSTART;TZID=America/Chicago:20261228T173000
DTEND;TZID=America/Chicago:20261228T183000
DTSTAMP:20260423T162157
CREATED:20240324T163158Z
LAST-MODIFIED:20240407T163136Z
UID:10001756-1798479000-1798482600@qlibrary.org
SUMMARY:Volunteer Committee Meeting
DESCRIPTION:Our volunteer committee is responsible for recruiting and training volunteers. They also maintain our volunteer schedule\, for operating hours and special events. \nAnyone is welcome to stop in if interested in joining\, or to share constructive ideas. You can also sign up via our volunteer form. \nThis meeting is held in the library space\, with a virtual option available.
URL:https://qlibrary.org/event/volunteer-committee-meeting-3/2026-12-28/
LOCATION:Quatrefoil Library\, 1220 East Lake Street\, Minneapolis\, MN\, 55407\, United States
CATEGORIES:Committee Meetings
END:VEVENT
BEGIN:VEVENT
DTSTART;TZID=America/Chicago:20270104T173000
DTEND;TZID=America/Chicago:20270104T190000
DTSTAMP:20260423T162157
CREATED:20260406T202954Z
LAST-MODIFIED:20260406T202954Z
UID:10004512-1799083800-1799089200@qlibrary.org
SUMMARY:Finance & Development Committee Meeting
DESCRIPTION:The Finance and Development committees meet hybrid on the first Monday of each month. Contact development@quatrefoil.org if you are interested in joining!
URL:https://qlibrary.org/event/finance-development-committee-meeting/2027-01-04/
LOCATION:Quatrefoil Library\, 1220 East Lake Street\, Minneapolis\, MN\, 55407\, United States
CATEGORIES:Committee Meetings
END:VEVENT
END:VCALENDAR