BEGIN:VCALENDAR
VERSION:2.0
PRODID:-//Quatrefoil Library - ECPv6.15.20//NONSGML v1.0//EN
CALSCALE:GREGORIAN
METHOD:PUBLISH
X-ORIGINAL-URL:https://qlibrary.org
X-WR-CALDESC:Events for Quatrefoil Library
REFRESH-INTERVAL;VALUE=DURATION:PT1H
X-Robots-Tag:noindex
X-PUBLISHED-TTL:PT1H
BEGIN:VTIMEZONE
TZID:America/Chicago
BEGIN:DAYLIGHT
TZOFFSETFROM:-0600
TZOFFSETTO:-0500
TZNAME:CDT
DTSTART:20280312T080000
END:DAYLIGHT
BEGIN:STANDARD
TZOFFSETFROM:-0500
TZOFFSETTO:-0600
TZNAME:CST
DTSTART:20281105T070000
END:STANDARD
BEGIN:DAYLIGHT
TZOFFSETFROM:-0600
TZOFFSETTO:-0500
TZNAME:CDT
DTSTART:20290311T080000
END:DAYLIGHT
BEGIN:STANDARD
TZOFFSETFROM:-0500
TZOFFSETTO:-0600
TZNAME:CST
DTSTART:20291104T070000
END:STANDARD
BEGIN:DAYLIGHT
TZOFFSETFROM:-0600
TZOFFSETTO:-0500
TZNAME:CDT
DTSTART:20300310T080000
END:DAYLIGHT
BEGIN:STANDARD
TZOFFSETFROM:-0500
TZOFFSETTO:-0600
TZNAME:CST
DTSTART:20301103T070000
END:STANDARD
END:VTIMEZONE
BEGIN:VEVENT
DTSTART;TZID=America/Chicago:20290605T190000
DTEND;TZID=America/Chicago:20290605T203000
DTSTAMP:20260425T075609
CREATED:20250527T225421Z
LAST-MODIFIED:20250527T225421Z
UID:10003413-1875380400-1875385800@qlibrary.org
SUMMARY:Technology Committee Meeting
DESCRIPTION:The tech committee meets hybrid on the first Tuesday of each month. Contact technology@quatrefoil.org if you are interested in joining!
URL:https://qlibrary.org/event/technology-committee-meeting/2029-06-05/
LOCATION:Quatrefoil Library\, 1220 East Lake Street\, Minneapolis\, MN\, 55407\, United States
CATEGORIES:Committee Meetings
END:VEVENT
BEGIN:VEVENT
DTSTART;TZID=America/Chicago:20290607T183000
DTEND;TZID=America/Chicago:20290607T200000
DTSTAMP:20260425T075609
CREATED:20260108T021858Z
LAST-MODIFIED:20260108T021858Z
UID:10004396-1875551400-1875556800@qlibrary.org
SUMMARY:Quatrefoil Board Meeting
DESCRIPTION:The Quatrefoil Board meets monthly on the first Thursday of the month in the Community Room.
URL:https://qlibrary.org/event/quatrefoil-board-meeting-2-2-2/2029-06-07/
LOCATION:Quatrefoil Library\, 1220 East Lake Street\, Minneapolis\, MN\, 55407\, United States
CATEGORIES:Committee Meetings
END:VEVENT
BEGIN:VEVENT
DTSTART;TZID=America/Chicago:20290611T173000
DTEND;TZID=America/Chicago:20290611T183000
DTSTAMP:20260425T075609
CREATED:20260406T203149Z
LAST-MODIFIED:20260406T203149Z
UID:10004601-1875893400-1875897000@qlibrary.org
SUMMARY:Volunteer Committee Meeting
DESCRIPTION:Our volunteer committee is responsible for recruiting and training volunteers. They also maintain our volunteer schedule\, for operating hours and special events. \nAnyone is welcome to stop in if interested in joining\, or to share constructive ideas. You can also sign up via our volunteer form. \nThis meeting is held in the library space\, with a virtual option available.
URL:https://qlibrary.org/event/volunteer-committee-meeting-4/2029-06-11/
LOCATION:Quatrefoil Library\, 1220 East Lake Street\, Minneapolis\, MN\, 55407\, United States
CATEGORIES:Committee Meetings
END:VEVENT
BEGIN:VEVENT
DTSTART;TZID=America/Chicago:20290612T180000
DTEND;TZID=America/Chicago:20290612T190000
DTSTAMP:20260425T075609
CREATED:20251207T180057Z
LAST-MODIFIED:20251207T180057Z
UID:10003686-1875981600-1875985200@qlibrary.org
SUMMARY:Programming Committee Meeting
DESCRIPTION:*Programming is on break from December 2025- January 2026. We will resume regular meeting times in February. If interested in joining in the new year\, reach out to Programming via email.* \nRegular meeting of the Quatrefoil Programming Committee. Committee meets every second and fourth Tuesday in the library (with a virtual option available for committee members) from 6:00 – 7:00pm. Reach out to programming@quatrefoil.org if you are interested in joining.
URL:https://qlibrary.org/event/programming-committee-meeting-6-2-2-2-2/2029-06-12/
LOCATION:Quatrefoil Library\, 1220 East Lake Street\, Minneapolis\, MN\, 55407\, United States
CATEGORIES:Committee Meetings
END:VEVENT
BEGIN:VEVENT
DTSTART;TZID=America/Chicago:20290626T180000
DTEND;TZID=America/Chicago:20290626T190000
DTSTAMP:20260425T075609
CREATED:20250909T212404Z
LAST-MODIFIED:20250909T212404Z
UID:10003811-1877191200-1877194800@qlibrary.org
SUMMARY:Programming Committee Meeting
DESCRIPTION:Regular meeting of the Quatrefoil Programming Committee. Committee meets every second and fourth Tuesday in the library (with a virtual option available for committee members) from 6:00 – 7:00pm. Reach out to programming@quatrefoil.org if you are interested in joining.
URL:https://qlibrary.org/event/programming-committee-meeting-8-2/2029-06-26/
LOCATION:Quatrefoil Library\, 1220 East Lake Street\, Minneapolis\, MN\, 55407\, United States
CATEGORIES:Committee Meetings
END:VEVENT
BEGIN:VEVENT
DTSTART;TZID=America/Chicago:20290702T173000
DTEND;TZID=America/Chicago:20290702T190000
DTSTAMP:20260425T075609
CREATED:20260406T202954Z
LAST-MODIFIED:20260406T202954Z
UID:10004542-1877707800-1877713200@qlibrary.org
SUMMARY:Finance & Development Committee Meeting
DESCRIPTION:The Finance and Development committees meet hybrid on the first Monday of each month. Contact development@quatrefoil.org if you are interested in joining!
URL:https://qlibrary.org/event/finance-development-committee-meeting/2029-07-02/
LOCATION:Quatrefoil Library\, 1220 East Lake Street\, Minneapolis\, MN\, 55407\, United States
CATEGORIES:Committee Meetings
END:VEVENT
BEGIN:VEVENT
DTSTART;TZID=America/Chicago:20290703T190000
DTEND;TZID=America/Chicago:20290703T203000
DTSTAMP:20260425T075609
CREATED:20250527T225421Z
LAST-MODIFIED:20250527T225421Z
UID:10003414-1877799600-1877805000@qlibrary.org
SUMMARY:Technology Committee Meeting
DESCRIPTION:The tech committee meets hybrid on the first Tuesday of each month. Contact technology@quatrefoil.org if you are interested in joining!
URL:https://qlibrary.org/event/technology-committee-meeting/2029-07-03/
LOCATION:Quatrefoil Library\, 1220 East Lake Street\, Minneapolis\, MN\, 55407\, United States
CATEGORIES:Committee Meetings
END:VEVENT
BEGIN:VEVENT
DTSTART;TZID=America/Chicago:20290705T183000
DTEND;TZID=America/Chicago:20290705T200000
DTSTAMP:20260425T075609
CREATED:20260108T021858Z
LAST-MODIFIED:20260108T021858Z
UID:10004397-1877970600-1877976000@qlibrary.org
SUMMARY:Quatrefoil Board Meeting
DESCRIPTION:The Quatrefoil Board meets monthly on the first Thursday of the month in the Community Room.
URL:https://qlibrary.org/event/quatrefoil-board-meeting-2-2-2/2029-07-05/
LOCATION:Quatrefoil Library\, 1220 East Lake Street\, Minneapolis\, MN\, 55407\, United States
CATEGORIES:Committee Meetings
END:VEVENT
BEGIN:VEVENT
DTSTART;TZID=America/Chicago:20290709T173000
DTEND;TZID=America/Chicago:20290709T183000
DTSTAMP:20260425T075609
CREATED:20260406T203149Z
LAST-MODIFIED:20260406T203149Z
UID:10004602-1878312600-1878316200@qlibrary.org
SUMMARY:Volunteer Committee Meeting
DESCRIPTION:Our volunteer committee is responsible for recruiting and training volunteers. They also maintain our volunteer schedule\, for operating hours and special events. \nAnyone is welcome to stop in if interested in joining\, or to share constructive ideas. You can also sign up via our volunteer form. \nThis meeting is held in the library space\, with a virtual option available.
URL:https://qlibrary.org/event/volunteer-committee-meeting-4/2029-07-09/
LOCATION:Quatrefoil Library\, 1220 East Lake Street\, Minneapolis\, MN\, 55407\, United States
CATEGORIES:Committee Meetings
END:VEVENT
BEGIN:VEVENT
DTSTART;TZID=America/Chicago:20290710T180000
DTEND;TZID=America/Chicago:20290710T190000
DTSTAMP:20260425T075609
CREATED:20251207T180057Z
LAST-MODIFIED:20251207T180057Z
UID:10003687-1878400800-1878404400@qlibrary.org
SUMMARY:Programming Committee Meeting
DESCRIPTION:*Programming is on break from December 2025- January 2026. We will resume regular meeting times in February. If interested in joining in the new year\, reach out to Programming via email.* \nRegular meeting of the Quatrefoil Programming Committee. Committee meets every second and fourth Tuesday in the library (with a virtual option available for committee members) from 6:00 – 7:00pm. Reach out to programming@quatrefoil.org if you are interested in joining.
URL:https://qlibrary.org/event/programming-committee-meeting-6-2-2-2-2/2029-07-10/
LOCATION:Quatrefoil Library\, 1220 East Lake Street\, Minneapolis\, MN\, 55407\, United States
CATEGORIES:Committee Meetings
END:VEVENT
BEGIN:VEVENT
DTSTART;TZID=America/Chicago:20290724T180000
DTEND;TZID=America/Chicago:20290724T190000
DTSTAMP:20260425T075609
CREATED:20250909T212404Z
LAST-MODIFIED:20250909T212404Z
UID:10003812-1879610400-1879614000@qlibrary.org
SUMMARY:Programming Committee Meeting
DESCRIPTION:Regular meeting of the Quatrefoil Programming Committee. Committee meets every second and fourth Tuesday in the library (with a virtual option available for committee members) from 6:00 – 7:00pm. Reach out to programming@quatrefoil.org if you are interested in joining.
URL:https://qlibrary.org/event/programming-committee-meeting-8-2/2029-07-24/
LOCATION:Quatrefoil Library\, 1220 East Lake Street\, Minneapolis\, MN\, 55407\, United States
CATEGORIES:Committee Meetings
END:VEVENT
BEGIN:VEVENT
DTSTART;TZID=America/Chicago:20290802T183000
DTEND;TZID=America/Chicago:20290802T200000
DTSTAMP:20260425T075609
CREATED:20260108T021858Z
LAST-MODIFIED:20260108T021858Z
UID:10004398-1880389800-1880395200@qlibrary.org
SUMMARY:Quatrefoil Board Meeting
DESCRIPTION:The Quatrefoil Board meets monthly on the first Thursday of the month in the Community Room.
URL:https://qlibrary.org/event/quatrefoil-board-meeting-2-2-2/2029-08-02/
LOCATION:Quatrefoil Library\, 1220 East Lake Street\, Minneapolis\, MN\, 55407\, United States
CATEGORIES:Committee Meetings
END:VEVENT
BEGIN:VEVENT
DTSTART;TZID=America/Chicago:20290806T173000
DTEND;TZID=America/Chicago:20290806T190000
DTSTAMP:20260425T075609
CREATED:20260406T202954Z
LAST-MODIFIED:20260406T202954Z
UID:10004543-1880731800-1880737200@qlibrary.org
SUMMARY:Finance & Development Committee Meeting
DESCRIPTION:The Finance and Development committees meet hybrid on the first Monday of each month. Contact development@quatrefoil.org if you are interested in joining!
URL:https://qlibrary.org/event/finance-development-committee-meeting/2029-08-06/
LOCATION:Quatrefoil Library\, 1220 East Lake Street\, Minneapolis\, MN\, 55407\, United States
CATEGORIES:Committee Meetings
END:VEVENT
BEGIN:VEVENT
DTSTART;TZID=America/Chicago:20290807T190000
DTEND;TZID=America/Chicago:20290807T203000
DTSTAMP:20260425T075609
CREATED:20250527T225421Z
LAST-MODIFIED:20250527T225421Z
UID:10003415-1880823600-1880829000@qlibrary.org
SUMMARY:Technology Committee Meeting
DESCRIPTION:The tech committee meets hybrid on the first Tuesday of each month. Contact technology@quatrefoil.org if you are interested in joining!
URL:https://qlibrary.org/event/technology-committee-meeting/2029-08-07/
LOCATION:Quatrefoil Library\, 1220 East Lake Street\, Minneapolis\, MN\, 55407\, United States
CATEGORIES:Committee Meetings
END:VEVENT
BEGIN:VEVENT
DTSTART;TZID=America/Chicago:20290813T173000
DTEND;TZID=America/Chicago:20290813T183000
DTSTAMP:20260425T075609
CREATED:20260406T203149Z
LAST-MODIFIED:20260406T203149Z
UID:10004603-1881336600-1881340200@qlibrary.org
SUMMARY:Volunteer Committee Meeting
DESCRIPTION:Our volunteer committee is responsible for recruiting and training volunteers. They also maintain our volunteer schedule\, for operating hours and special events. \nAnyone is welcome to stop in if interested in joining\, or to share constructive ideas. You can also sign up via our volunteer form. \nThis meeting is held in the library space\, with a virtual option available.
URL:https://qlibrary.org/event/volunteer-committee-meeting-4/2029-08-13/
LOCATION:Quatrefoil Library\, 1220 East Lake Street\, Minneapolis\, MN\, 55407\, United States
CATEGORIES:Committee Meetings
END:VEVENT
BEGIN:VEVENT
DTSTART;TZID=America/Chicago:20290814T180000
DTEND;TZID=America/Chicago:20290814T190000
DTSTAMP:20260425T075609
CREATED:20251207T180057Z
LAST-MODIFIED:20251207T180057Z
UID:10003688-1881424800-1881428400@qlibrary.org
SUMMARY:Programming Committee Meeting
DESCRIPTION:*Programming is on break from December 2025- January 2026. We will resume regular meeting times in February. If interested in joining in the new year\, reach out to Programming via email.* \nRegular meeting of the Quatrefoil Programming Committee. Committee meets every second and fourth Tuesday in the library (with a virtual option available for committee members) from 6:00 – 7:00pm. Reach out to programming@quatrefoil.org if you are interested in joining.
URL:https://qlibrary.org/event/programming-committee-meeting-6-2-2-2-2/2029-08-14/
LOCATION:Quatrefoil Library\, 1220 East Lake Street\, Minneapolis\, MN\, 55407\, United States
CATEGORIES:Committee Meetings
END:VEVENT
BEGIN:VEVENT
DTSTART;TZID=America/Chicago:20290828T180000
DTEND;TZID=America/Chicago:20290828T190000
DTSTAMP:20260425T075609
CREATED:20250909T212404Z
LAST-MODIFIED:20250909T212404Z
UID:10003813-1882634400-1882638000@qlibrary.org
SUMMARY:Programming Committee Meeting
DESCRIPTION:Regular meeting of the Quatrefoil Programming Committee. Committee meets every second and fourth Tuesday in the library (with a virtual option available for committee members) from 6:00 – 7:00pm. Reach out to programming@quatrefoil.org if you are interested in joining.
URL:https://qlibrary.org/event/programming-committee-meeting-8-2/2029-08-28/
LOCATION:Quatrefoil Library\, 1220 East Lake Street\, Minneapolis\, MN\, 55407\, United States
CATEGORIES:Committee Meetings
END:VEVENT
BEGIN:VEVENT
DTSTART;TZID=America/Chicago:20290903T173000
DTEND;TZID=America/Chicago:20290903T190000
DTSTAMP:20260425T075609
CREATED:20260406T202954Z
LAST-MODIFIED:20260406T202954Z
UID:10004544-1883151000-1883156400@qlibrary.org
SUMMARY:Finance & Development Committee Meeting
DESCRIPTION:The Finance and Development committees meet hybrid on the first Monday of each month. Contact development@quatrefoil.org if you are interested in joining!
URL:https://qlibrary.org/event/finance-development-committee-meeting/2029-09-03/
LOCATION:Quatrefoil Library\, 1220 East Lake Street\, Minneapolis\, MN\, 55407\, United States
CATEGORIES:Committee Meetings
END:VEVENT
BEGIN:VEVENT
DTSTART;TZID=America/Chicago:20290904T190000
DTEND;TZID=America/Chicago:20290904T203000
DTSTAMP:20260425T075609
CREATED:20250527T225421Z
LAST-MODIFIED:20250527T225421Z
UID:10003416-1883242800-1883248200@qlibrary.org
SUMMARY:Technology Committee Meeting
DESCRIPTION:The tech committee meets hybrid on the first Tuesday of each month. Contact technology@quatrefoil.org if you are interested in joining!
URL:https://qlibrary.org/event/technology-committee-meeting/2029-09-04/
LOCATION:Quatrefoil Library\, 1220 East Lake Street\, Minneapolis\, MN\, 55407\, United States
CATEGORIES:Committee Meetings
END:VEVENT
BEGIN:VEVENT
DTSTART;TZID=America/Chicago:20290906T183000
DTEND;TZID=America/Chicago:20290906T200000
DTSTAMP:20260425T075609
CREATED:20260108T021858Z
LAST-MODIFIED:20260108T021858Z
UID:10004399-1883413800-1883419200@qlibrary.org
SUMMARY:Quatrefoil Board Meeting
DESCRIPTION:The Quatrefoil Board meets monthly on the first Thursday of the month in the Community Room.
URL:https://qlibrary.org/event/quatrefoil-board-meeting-2-2-2/2029-09-06/
LOCATION:Quatrefoil Library\, 1220 East Lake Street\, Minneapolis\, MN\, 55407\, United States
CATEGORIES:Committee Meetings
END:VEVENT
BEGIN:VEVENT
DTSTART;TZID=America/Chicago:20290910T173000
DTEND;TZID=America/Chicago:20290910T183000
DTSTAMP:20260425T075609
CREATED:20260406T203149Z
LAST-MODIFIED:20260406T203149Z
UID:10004604-1883755800-1883759400@qlibrary.org
SUMMARY:Volunteer Committee Meeting
DESCRIPTION:Our volunteer committee is responsible for recruiting and training volunteers. They also maintain our volunteer schedule\, for operating hours and special events. \nAnyone is welcome to stop in if interested in joining\, or to share constructive ideas. You can also sign up via our volunteer form. \nThis meeting is held in the library space\, with a virtual option available.
URL:https://qlibrary.org/event/volunteer-committee-meeting-4/2029-09-10/
LOCATION:Quatrefoil Library\, 1220 East Lake Street\, Minneapolis\, MN\, 55407\, United States
CATEGORIES:Committee Meetings
END:VEVENT
BEGIN:VEVENT
DTSTART;TZID=America/Chicago:20290911T180000
DTEND;TZID=America/Chicago:20290911T190000
DTSTAMP:20260425T075609
CREATED:20251207T180057Z
LAST-MODIFIED:20251207T180057Z
UID:10003689-1883844000-1883847600@qlibrary.org
SUMMARY:Programming Committee Meeting
DESCRIPTION:*Programming is on break from December 2025- January 2026. We will resume regular meeting times in February. If interested in joining in the new year\, reach out to Programming via email.* \nRegular meeting of the Quatrefoil Programming Committee. Committee meets every second and fourth Tuesday in the library (with a virtual option available for committee members) from 6:00 – 7:00pm. Reach out to programming@quatrefoil.org if you are interested in joining.
URL:https://qlibrary.org/event/programming-committee-meeting-6-2-2-2-2/2029-09-11/
LOCATION:Quatrefoil Library\, 1220 East Lake Street\, Minneapolis\, MN\, 55407\, United States
CATEGORIES:Committee Meetings
END:VEVENT
BEGIN:VEVENT
DTSTART;TZID=America/Chicago:20290925T180000
DTEND;TZID=America/Chicago:20290925T190000
DTSTAMP:20260425T075609
CREATED:20250909T212404Z
LAST-MODIFIED:20250909T212404Z
UID:10003814-1885053600-1885057200@qlibrary.org
SUMMARY:Programming Committee Meeting
DESCRIPTION:Regular meeting of the Quatrefoil Programming Committee. Committee meets every second and fourth Tuesday in the library (with a virtual option available for committee members) from 6:00 – 7:00pm. Reach out to programming@quatrefoil.org if you are interested in joining.
URL:https://qlibrary.org/event/programming-committee-meeting-8-2/2029-09-25/
LOCATION:Quatrefoil Library\, 1220 East Lake Street\, Minneapolis\, MN\, 55407\, United States
CATEGORIES:Committee Meetings
END:VEVENT
BEGIN:VEVENT
DTSTART;TZID=America/Chicago:20291001T173000
DTEND;TZID=America/Chicago:20291001T190000
DTSTAMP:20260425T075609
CREATED:20260406T202954Z
LAST-MODIFIED:20260406T202954Z
UID:10004545-1885570200-1885575600@qlibrary.org
SUMMARY:Finance & Development Committee Meeting
DESCRIPTION:The Finance and Development committees meet hybrid on the first Monday of each month. Contact development@quatrefoil.org if you are interested in joining!
URL:https://qlibrary.org/event/finance-development-committee-meeting/2029-10-01/
LOCATION:Quatrefoil Library\, 1220 East Lake Street\, Minneapolis\, MN\, 55407\, United States
CATEGORIES:Committee Meetings
END:VEVENT
BEGIN:VEVENT
DTSTART;TZID=America/Chicago:20291002T190000
DTEND;TZID=America/Chicago:20291002T203000
DTSTAMP:20260425T075609
CREATED:20250527T225421Z
LAST-MODIFIED:20250527T225421Z
UID:10003417-1885662000-1885667400@qlibrary.org
SUMMARY:Technology Committee Meeting
DESCRIPTION:The tech committee meets hybrid on the first Tuesday of each month. Contact technology@quatrefoil.org if you are interested in joining!
URL:https://qlibrary.org/event/technology-committee-meeting/2029-10-02/
LOCATION:Quatrefoil Library\, 1220 East Lake Street\, Minneapolis\, MN\, 55407\, United States
CATEGORIES:Committee Meetings
END:VEVENT
BEGIN:VEVENT
DTSTART;TZID=America/Chicago:20291004T183000
DTEND;TZID=America/Chicago:20291004T200000
DTSTAMP:20260425T075609
CREATED:20260108T021858Z
LAST-MODIFIED:20260108T021858Z
UID:10004400-1885833000-1885838400@qlibrary.org
SUMMARY:Quatrefoil Board Meeting
DESCRIPTION:The Quatrefoil Board meets monthly on the first Thursday of the month in the Community Room.
URL:https://qlibrary.org/event/quatrefoil-board-meeting-2-2-2/2029-10-04/
LOCATION:Quatrefoil Library\, 1220 East Lake Street\, Minneapolis\, MN\, 55407\, United States
CATEGORIES:Committee Meetings
END:VEVENT
BEGIN:VEVENT
DTSTART;TZID=America/Chicago:20291008T173000
DTEND;TZID=America/Chicago:20291008T183000
DTSTAMP:20260425T075609
CREATED:20260406T203149Z
LAST-MODIFIED:20260406T203149Z
UID:10004605-1886175000-1886178600@qlibrary.org
SUMMARY:Volunteer Committee Meeting
DESCRIPTION:Our volunteer committee is responsible for recruiting and training volunteers. They also maintain our volunteer schedule\, for operating hours and special events. \nAnyone is welcome to stop in if interested in joining\, or to share constructive ideas. You can also sign up via our volunteer form. \nThis meeting is held in the library space\, with a virtual option available.
URL:https://qlibrary.org/event/volunteer-committee-meeting-4/2029-10-08/
LOCATION:Quatrefoil Library\, 1220 East Lake Street\, Minneapolis\, MN\, 55407\, United States
CATEGORIES:Committee Meetings
END:VEVENT
BEGIN:VEVENT
DTSTART;TZID=America/Chicago:20291009T180000
DTEND;TZID=America/Chicago:20291009T190000
DTSTAMP:20260425T075609
CREATED:20251207T180057Z
LAST-MODIFIED:20251207T180057Z
UID:10003690-1886263200-1886266800@qlibrary.org
SUMMARY:Programming Committee Meeting
DESCRIPTION:*Programming is on break from December 2025- January 2026. We will resume regular meeting times in February. If interested in joining in the new year\, reach out to Programming via email.* \nRegular meeting of the Quatrefoil Programming Committee. Committee meets every second and fourth Tuesday in the library (with a virtual option available for committee members) from 6:00 – 7:00pm. Reach out to programming@quatrefoil.org if you are interested in joining.
URL:https://qlibrary.org/event/programming-committee-meeting-6-2-2-2-2/2029-10-09/
LOCATION:Quatrefoil Library\, 1220 East Lake Street\, Minneapolis\, MN\, 55407\, United States
CATEGORIES:Committee Meetings
END:VEVENT
BEGIN:VEVENT
DTSTART;TZID=America/Chicago:20291023T180000
DTEND;TZID=America/Chicago:20291023T190000
DTSTAMP:20260425T075609
CREATED:20250909T212404Z
LAST-MODIFIED:20250909T212404Z
UID:10003815-1887472800-1887476400@qlibrary.org
SUMMARY:Programming Committee Meeting
DESCRIPTION:Regular meeting of the Quatrefoil Programming Committee. Committee meets every second and fourth Tuesday in the library (with a virtual option available for committee members) from 6:00 – 7:00pm. Reach out to programming@quatrefoil.org if you are interested in joining.
URL:https://qlibrary.org/event/programming-committee-meeting-8-2/2029-10-23/
LOCATION:Quatrefoil Library\, 1220 East Lake Street\, Minneapolis\, MN\, 55407\, United States
CATEGORIES:Committee Meetings
END:VEVENT
BEGIN:VEVENT
DTSTART;TZID=America/Chicago:20291101T183000
DTEND;TZID=America/Chicago:20291101T200000
DTSTAMP:20260425T075609
CREATED:20260108T021858Z
LAST-MODIFIED:20260108T021858Z
UID:10004401-1888252200-1888257600@qlibrary.org
SUMMARY:Quatrefoil Board Meeting
DESCRIPTION:The Quatrefoil Board meets monthly on the first Thursday of the month in the Community Room.
URL:https://qlibrary.org/event/quatrefoil-board-meeting-2-2-2/2029-11-01/
LOCATION:Quatrefoil Library\, 1220 East Lake Street\, Minneapolis\, MN\, 55407\, United States
CATEGORIES:Committee Meetings
END:VEVENT
END:VCALENDAR