BEGIN:VCALENDAR
VERSION:2.0
PRODID:-//Quatrefoil Library - ECPv6.15.20//NONSGML v1.0//EN
CALSCALE:GREGORIAN
METHOD:PUBLISH
X-WR-CALNAME:Quatrefoil Library
X-ORIGINAL-URL:https://qlibrary.org
X-WR-CALDESC:Events for Quatrefoil Library
REFRESH-INTERVAL;VALUE=DURATION:PT1H
X-Robots-Tag:noindex
X-PUBLISHED-TTL:PT1H
BEGIN:VTIMEZONE
TZID:America/Chicago
BEGIN:DAYLIGHT
TZOFFSETFROM:-0600
TZOFFSETTO:-0500
TZNAME:CDT
DTSTART:20240310T080000
END:DAYLIGHT
BEGIN:STANDARD
TZOFFSETFROM:-0500
TZOFFSETTO:-0600
TZNAME:CST
DTSTART:20241103T070000
END:STANDARD
BEGIN:DAYLIGHT
TZOFFSETFROM:-0600
TZOFFSETTO:-0500
TZNAME:CDT
DTSTART:20250309T080000
END:DAYLIGHT
BEGIN:STANDARD
TZOFFSETFROM:-0500
TZOFFSETTO:-0600
TZNAME:CST
DTSTART:20251102T070000
END:STANDARD
BEGIN:DAYLIGHT
TZOFFSETFROM:-0600
TZOFFSETTO:-0500
TZNAME:CDT
DTSTART:20260308T080000
END:DAYLIGHT
BEGIN:STANDARD
TZOFFSETFROM:-0500
TZOFFSETTO:-0600
TZNAME:CST
DTSTART:20261101T070000
END:STANDARD
END:VTIMEZONE
BEGIN:VEVENT
DTSTART;TZID=America/Chicago:20251104T190000
DTEND;TZID=America/Chicago:20251104T203000
DTSTAMP:20260423T131051
CREATED:20250527T225421Z
LAST-MODIFIED:20250527T225421Z
UID:10003370-1762282800-1762288200@qlibrary.org
SUMMARY:Technology Committee Meeting
DESCRIPTION:The tech committee meets hybrid on the first Tuesday of each month. Contact technology@quatrefoil.org if you are interested in joining!
URL:https://qlibrary.org/event/technology-committee-meeting/2025-11-04/
LOCATION:Quatrefoil Library\, 1220 East Lake Street\, Minneapolis\, MN\, 55407\, United States
CATEGORIES:Committee Meetings
END:VEVENT
BEGIN:VEVENT
DTSTART;TZID=America/Chicago:20251106T183000
DTEND;TZID=America/Chicago:20251106T200000
DTSTAMP:20260423T131051
CREATED:20250320T214400Z
LAST-MODIFIED:20250320T214400Z
UID:10003300-1762453800-1762459200@qlibrary.org
SUMMARY:Quatrefoil Board Meeting
DESCRIPTION:The Quatrefoil Board meets monthly on the first Thursday of the month in the Community Room.
URL:https://qlibrary.org/event/quatrefoil-board-meeting-2/2025-11-06/
LOCATION:Quatrefoil Library\, 1220 East Lake Street\, Minneapolis\, MN\, 55407\, United States
CATEGORIES:Committee Meetings
END:VEVENT
BEGIN:VEVENT
DTSTART;TZID=America/Chicago:20251111T180000
DTEND;TZID=America/Chicago:20251111T190000
DTSTAMP:20260423T131051
CREATED:20250909T212319Z
LAST-MODIFIED:20250909T212320Z
UID:10003643-1762884000-1762887600@qlibrary.org
SUMMARY:Programming Committee Meeting
DESCRIPTION:Regular meeting of the Quatrefoil Programming Committee. Committee meets every second and fourth Tuesday in the library (with a virtual option available for committee members) from 6:00 – 7:00pm. Reach out to programming@quatrefoil.org if you are interested in joining.
URL:https://qlibrary.org/event/programming-committee-meeting-6-2-2-2/2025-11-11/
LOCATION:Quatrefoil Library\, 1220 East Lake Street\, Minneapolis\, MN\, 55407\, United States
CATEGORIES:Committee Meetings
END:VEVENT
BEGIN:VEVENT
DTSTART;TZID=America/Chicago:20251124T173000
DTEND;TZID=America/Chicago:20251124T183000
DTSTAMP:20260423T131051
CREATED:20240324T163158Z
LAST-MODIFIED:20240407T163136Z
UID:10001743-1764005400-1764009000@qlibrary.org
SUMMARY:Volunteer Committee Meeting
DESCRIPTION:Our volunteer committee is responsible for recruiting and training volunteers. They also maintain our volunteer schedule\, for operating hours and special events. \nAnyone is welcome to stop in if interested in joining\, or to share constructive ideas. You can also sign up via our volunteer form. \nThis meeting is held in the library space\, with a virtual option available.
URL:https://qlibrary.org/event/volunteer-committee-meeting-3/2025-11-24/
LOCATION:Quatrefoil Library\, 1220 East Lake Street\, Minneapolis\, MN\, 55407\, United States
CATEGORIES:Committee Meetings
END:VEVENT
BEGIN:VEVENT
DTSTART;TZID=America/Chicago:20251125T180000
DTEND;TZID=America/Chicago:20251125T190000
DTSTAMP:20260423T131051
CREATED:20250909T212404Z
LAST-MODIFIED:20250909T212404Z
UID:10003768-1764093600-1764097200@qlibrary.org
SUMMARY:Programming Committee Meeting
DESCRIPTION:Regular meeting of the Quatrefoil Programming Committee. Committee meets every second and fourth Tuesday in the library (with a virtual option available for committee members) from 6:00 – 7:00pm. Reach out to programming@quatrefoil.org if you are interested in joining.
URL:https://qlibrary.org/event/programming-committee-meeting-8-2/2025-11-25/
LOCATION:Quatrefoil Library\, 1220 East Lake Street\, Minneapolis\, MN\, 55407\, United States
CATEGORIES:Committee Meetings
END:VEVENT
END:VCALENDAR