BEGIN:VCALENDAR
VERSION:2.0
PRODID:-//Quatrefoil Library - ECPv6.15.20//NONSGML v1.0//EN
CALSCALE:GREGORIAN
METHOD:PUBLISH
X-WR-CALNAME:Quatrefoil Library
X-ORIGINAL-URL:https://qlibrary.org
X-WR-CALDESC:Events for Quatrefoil Library
REFRESH-INTERVAL;VALUE=DURATION:PT1H
X-Robots-Tag:noindex
X-PUBLISHED-TTL:PT1H
BEGIN:VTIMEZONE
TZID:America/Chicago
BEGIN:DAYLIGHT
TZOFFSETFROM:-0600
TZOFFSETTO:-0500
TZNAME:CDT
DTSTART:20290311T080000
END:DAYLIGHT
BEGIN:STANDARD
TZOFFSETFROM:-0500
TZOFFSETTO:-0600
TZNAME:CST
DTSTART:20291104T070000
END:STANDARD
BEGIN:DAYLIGHT
TZOFFSETFROM:-0600
TZOFFSETTO:-0500
TZNAME:CDT
DTSTART:20300310T080000
END:DAYLIGHT
BEGIN:STANDARD
TZOFFSETFROM:-0500
TZOFFSETTO:-0600
TZNAME:CST
DTSTART:20301103T070000
END:STANDARD
BEGIN:DAYLIGHT
TZOFFSETFROM:-0600
TZOFFSETTO:-0500
TZNAME:CDT
DTSTART:20310309T080000
END:DAYLIGHT
BEGIN:STANDARD
TZOFFSETFROM:-0500
TZOFFSETTO:-0600
TZNAME:CST
DTSTART:20311102T070000
END:STANDARD
BEGIN:DAYLIGHT
TZOFFSETFROM:-0600
TZOFFSETTO:-0500
TZNAME:CDT
DTSTART:20320314T080000
END:DAYLIGHT
BEGIN:STANDARD
TZOFFSETFROM:-0500
TZOFFSETTO:-0600
TZNAME:CST
DTSTART:20321107T070000
END:STANDARD
END:VTIMEZONE
BEGIN:VEVENT
DTSTART;TZID=America/Chicago:20301222T130000
DTEND;TZID=America/Chicago:20301222T140000
DTSTAMP:20260425T062537
CREATED:20260108T024423Z
LAST-MODIFIED:20260108T024609Z
UID:10004475-1924174800-1924178400@qlibrary.org
SUMMARY:Transgender Book Club
DESCRIPTION:The Transgender Book Club meets the fourth Sunday of the month from 1-2pm to discuss books by and about trans people. We welcome people of all genders\, orientations\, and backgrounds! \n1/25 Model Home by Rivers Solomon \n2/22 The Four Profound Weaves by R.B. Lemberg \n3/22 Hot Girls with Balls by Benedict Nguyen \n4/26 Rules for Ghosting by Shelley Jay Shore \n5/24 Horse Barbie by Geena Rocero \n6/21 Trans History by Alex L. Combs \n7/26 Just Shy of Ordinary by A.J. Sass \n8/23 Bellies by Nicola Dinan \n9/27 So Many Stars by Caro de Robertis \n10/25 Old Wounds by Logan-Ashley Kisner \n11/22 Call Me Max by Kyle Lukoff \n  \nFind us on Facebook at “Transgender Book Club at Quatrefoil Library” and on Instagram at “tc_transbookclub”
URL:https://qlibrary.org/event/transgender-book-club-7/2030-12-22/
LOCATION:Quatrefoil Library\, 1220 East Lake Street\, Minneapolis\, MN\, 55407\, United States
CATEGORIES:Book Club
END:VEVENT
BEGIN:VEVENT
DTSTART;TZID=America/Chicago:20301225T190000
DTEND;TZID=America/Chicago:20301225T210000
DTSTAMP:20260425T062537
CREATED:20260108T010721Z
LAST-MODIFIED:20260108T010721Z
UID:10004252-1924455600-1924462800@qlibrary.org
SUMMARY:MNPoly Community Building Event
DESCRIPTION:Let’s bring the MNPoly community together on a monthly basis with some exercises designed to build connections. \nWe will have an ice breaker as a whole group\, then break up into groups of 4-5 to perform a team building exercise that helps us really get to know each other a bit more. We’ll scramble the groups and do a second exercise. Then\, we’ll get back together as one big group to discuss what might change for next time. To conclude the night we will finish with an open mingling session to hang with some of your new-found friends!
URL:https://qlibrary.org/event/mnpoly-community-building-event-2-2/2030-12-25/
LOCATION:Quatrefoil Library\, 1220 East Lake Street\, Minneapolis\, MN\, 55407\, United States
CATEGORIES:Community Club,Polyamory
END:VEVENT
BEGIN:VEVENT
DTSTART;TZID=America/Chicago:20310108T190000
DTEND;TZID=America/Chicago:20310108T200000
DTSTAMP:20260425T062537
CREATED:20260124T211424Z
LAST-MODIFIED:20260124T211425Z
UID:10004491-1925665200-1925668800@qlibrary.org
SUMMARY:Moon Palace Queer Book Club
DESCRIPTION:Event by Moon Palace Books \nPublic  ·  Join us for Queer Book Club every second Wednesday from 7-8pm at Quatrefoil Library\, 1220 East Lake Street\, Minneapolis\, MN 55407! (Please note that in the summer we will only meet at Quatrefoil if it rains. Otherwise we will meet at Brackett Park.) \n\n\n\n\n\n\n\n\n\n\n\n\n\n\n\n\n\n\n\n\nBuy Books
URL:https://qlibrary.org/event/moon-palace-queer-book-club-2-2-2-2-2/2031-01-08/
LOCATION:Quatrefoil Library\, 1220 East Lake Street\, Minneapolis\, MN\, 55407\, United States
CATEGORIES:Book Club
END:VEVENT
END:VCALENDAR