BEGIN:VCALENDAR
VERSION:2.0
PRODID:-//Quatrefoil Library - ECPv6.15.20//NONSGML v1.0//EN
CALSCALE:GREGORIAN
METHOD:PUBLISH
X-ORIGINAL-URL:https://qlibrary.org
X-WR-CALDESC:Events for Quatrefoil Library
REFRESH-INTERVAL;VALUE=DURATION:PT1H
X-Robots-Tag:noindex
X-PUBLISHED-TTL:PT1H
BEGIN:VTIMEZONE
TZID:America/Chicago
BEGIN:DAYLIGHT
TZOFFSETFROM:-0600
TZOFFSETTO:-0500
TZNAME:CDT
DTSTART:20180311T080000
END:DAYLIGHT
BEGIN:STANDARD
TZOFFSETFROM:-0500
TZOFFSETTO:-0600
TZNAME:CST
DTSTART:20181104T070000
END:STANDARD
BEGIN:DAYLIGHT
TZOFFSETFROM:-0600
TZOFFSETTO:-0500
TZNAME:CDT
DTSTART:20190310T080000
END:DAYLIGHT
BEGIN:STANDARD
TZOFFSETFROM:-0500
TZOFFSETTO:-0600
TZNAME:CST
DTSTART:20191103T070000
END:STANDARD
BEGIN:DAYLIGHT
TZOFFSETFROM:-0600
TZOFFSETTO:-0500
TZNAME:CDT
DTSTART:20200308T080000
END:DAYLIGHT
BEGIN:STANDARD
TZOFFSETFROM:-0500
TZOFFSETTO:-0600
TZNAME:CST
DTSTART:20201101T070000
END:STANDARD
BEGIN:DAYLIGHT
TZOFFSETFROM:-0600
TZOFFSETTO:-0500
TZNAME:CDT
DTSTART:20210314T080000
END:DAYLIGHT
BEGIN:STANDARD
TZOFFSETFROM:-0500
TZOFFSETTO:-0600
TZNAME:CST
DTSTART:20211107T070000
END:STANDARD
BEGIN:DAYLIGHT
TZOFFSETFROM:-0600
TZOFFSETTO:-0500
TZNAME:CDT
DTSTART:20220313T080000
END:DAYLIGHT
BEGIN:STANDARD
TZOFFSETFROM:-0500
TZOFFSETTO:-0600
TZNAME:CST
DTSTART:20221106T070000
END:STANDARD
BEGIN:DAYLIGHT
TZOFFSETFROM:-0600
TZOFFSETTO:-0500
TZNAME:CDT
DTSTART:20230312T080000
END:DAYLIGHT
BEGIN:STANDARD
TZOFFSETFROM:-0500
TZOFFSETTO:-0600
TZNAME:CST
DTSTART:20231105T070000
END:STANDARD
BEGIN:DAYLIGHT
TZOFFSETFROM:-0600
TZOFFSETTO:-0500
TZNAME:CDT
DTSTART:20240310T080000
END:DAYLIGHT
BEGIN:STANDARD
TZOFFSETFROM:-0500
TZOFFSETTO:-0600
TZNAME:CST
DTSTART:20241103T070000
END:STANDARD
BEGIN:DAYLIGHT
TZOFFSETFROM:-0600
TZOFFSETTO:-0500
TZNAME:CDT
DTSTART:20250309T080000
END:DAYLIGHT
BEGIN:STANDARD
TZOFFSETFROM:-0500
TZOFFSETTO:-0600
TZNAME:CST
DTSTART:20251102T070000
END:STANDARD
END:VTIMEZONE
BEGIN:VEVENT
DTSTART;TZID=America/Chicago:20240821T190000
DTEND;TZID=America/Chicago:20240821T210000
DTSTAMP:20260424T001559
CREATED:20240216T011749Z
LAST-MODIFIED:20240216T011808Z
UID:10001206-1724266800-1724274000@qlibrary.org
SUMMARY:Twin Cities Lesbian Fiction Book Club
DESCRIPTION:Virtual Book Club that meets online via Zoom – please direct all questions and requests for the Zoom link to jchandlerauthor@gmail.com \nYou are welcome to attend even if you didn’t read the book\, or didn’t like it. We enjoy staying in touch with our friends! \nBook of the month and description: \nMay—To Be Determined\nJune—Shanghai Murder by Jessie Chandler\nJuly—Out at the Plate by Lynn Ames (Bio of one of the best softball catchers of all time) I’m going to try and see if the author would join us for this meeting!\nAugust—Devil’s Slide by Stacy Lynn Miller (if we liked FUZE\, I thought we could read this adventure romance and compare and contrast the writing style and substance with FUZE\, the March book. Also\, it’s possible I might be able to arrange for Stacy to visit us during this zoom.\nSeptember—The Senator’s Wife by Jen Lyon (It’s well recommended romance) \n 
URL:https://qlibrary.org/event/twin-cities-lesbian-fiction-book-club-4-5/2024-08-21/
LOCATION:Online Events
CATEGORIES:Book Club
END:VEVENT
BEGIN:VEVENT
DTSTART;TZID=America/Chicago:20240724T190000
DTEND;TZID=America/Chicago:20240724T210000
DTSTAMP:20260424T001559
CREATED:20240210T195053Z
LAST-MODIFIED:20240529T034155Z
UID:10001260-1721847600-1721854800@qlibrary.org
SUMMARY:Queer Jewish Folklore Book Club
DESCRIPTION:Quarterly book club centered on interpretations of Jewish folklore with queer stories and characters. \nBook Selection: From Dust\, A Flame By Rebecca Podos \nHannah’s whole life has been spent in motion. Her mother has kept her and her brother\, Gabe\, on the road for as long as she can remember\, leaving a trail of rental homes and faded relationships behind them. No roots\, no family but one another\, and no explanations. \nAll that changes on Hannah’s seventeenth birthday when she wakes up transformed\, a pair of golden eyes with knife-slit pupils blinking back at her from the mirror—the first of many such impossible mutations. Promising that she knows someone who can help\, her mother leaves Hannah and Gabe behind to find a cure. But as the days turn to weeks and their mother doesn’t return\, they realize it’s up to them to find the truth. \nWhat they discover is a family they never knew and a history more tragic and fantastical than Hannah could have dreamed—one that stretches back to her grandmother’s childhood in Prague under the Nazi occupation\, and beyond\, into the realm of Jewish mysticism and legend. As the past comes crashing into the present\, Hannah must hurry to unearth their family’s secrets in order to break the curse and save the people she loves most\, as well as herself. \nThe e-book and audiobook are both available through MELSA as well! \nContact: \nHunter Wengersky \nPronouns: They/Them/Theirs \nJ-Pride Coordinator \n952-417-2122  Hwengersky@jfcsmpls.org
URL:https://qlibrary.org/event/queer-jewish-folklore-book-club/
LOCATION:Quatrefoil Library\, 1220 East Lake Street\, Minneapolis\, MN\, 55407\, United States
CATEGORIES:Book Club
END:VEVENT
BEGIN:VEVENT
DTSTART;TZID=America/Chicago:20240717T190000
DTEND;TZID=America/Chicago:20240717T210000
DTSTAMP:20260424T001559
CREATED:20240216T011749Z
LAST-MODIFIED:20240216T011808Z
UID:10001205-1721242800-1721250000@qlibrary.org
SUMMARY:Twin Cities Lesbian Fiction Book Club
DESCRIPTION:Virtual Book Club that meets online via Zoom – please direct all questions and requests for the Zoom link to jchandlerauthor@gmail.com \nYou are welcome to attend even if you didn’t read the book\, or didn’t like it. We enjoy staying in touch with our friends! \nBook of the month and description: \nMay—To Be Determined\nJune—Shanghai Murder by Jessie Chandler\nJuly—Out at the Plate by Lynn Ames (Bio of one of the best softball catchers of all time) I’m going to try and see if the author would join us for this meeting!\nAugust—Devil’s Slide by Stacy Lynn Miller (if we liked FUZE\, I thought we could read this adventure romance and compare and contrast the writing style and substance with FUZE\, the March book. Also\, it’s possible I might be able to arrange for Stacy to visit us during this zoom.\nSeptember—The Senator’s Wife by Jen Lyon (It’s well recommended romance) \n 
URL:https://qlibrary.org/event/twin-cities-lesbian-fiction-book-club-4-5/2024-07-17/
LOCATION:Online Events
CATEGORIES:Book Club
END:VEVENT
BEGIN:VEVENT
DTSTART;TZID=America/Chicago:20240619T190000
DTEND;TZID=America/Chicago:20240619T210000
DTSTAMP:20260424T001559
CREATED:20240216T011749Z
LAST-MODIFIED:20240216T011808Z
UID:10001204-1718823600-1718830800@qlibrary.org
SUMMARY:Twin Cities Lesbian Fiction Book Club
DESCRIPTION:Virtual Book Club that meets online via Zoom – please direct all questions and requests for the Zoom link to jchandlerauthor@gmail.com \nYou are welcome to attend even if you didn’t read the book\, or didn’t like it. We enjoy staying in touch with our friends! \nBook of the month and description: \nMay—To Be Determined\nJune—Shanghai Murder by Jessie Chandler\nJuly—Out at the Plate by Lynn Ames (Bio of one of the best softball catchers of all time) I’m going to try and see if the author would join us for this meeting!\nAugust—Devil’s Slide by Stacy Lynn Miller (if we liked FUZE\, I thought we could read this adventure romance and compare and contrast the writing style and substance with FUZE\, the March book. Also\, it’s possible I might be able to arrange for Stacy to visit us during this zoom.\nSeptember—The Senator’s Wife by Jen Lyon (It’s well recommended romance) \n 
URL:https://qlibrary.org/event/twin-cities-lesbian-fiction-book-club-4-5/2024-06-19/
LOCATION:Online Events
CATEGORIES:Book Club
END:VEVENT
BEGIN:VEVENT
DTSTART;TZID=America/Chicago:20240515T190000
DTEND;TZID=America/Chicago:20240515T210000
DTSTAMP:20260424T001559
CREATED:20240419T172721Z
LAST-MODIFIED:20240419T172723Z
UID:10001203-1715799600-1715806800@qlibrary.org
SUMMARY:Twin Cities Lesbian Fiction Book Club
DESCRIPTION:Virtual Book Club that meets online via Zoom – please direct all questions and requests for the Zoom link to jchandlerauthor@gmail.com \nYou are welcome to attend even if you didn’t read the book\, or didn’t like it. We enjoy staying in touch with our friends! \nBook of the month and description: \nMay — Integrity—Book 1 in the Halcyon Division Series by E.J. Noyes \nMay Book \nIt’s an ordinary workday when intelligence analyst Lexie Martin learns about a horrific chemical weapon attack abroad. Just an ordinary day…until a stranger breaks into her house and warns her to forget what she saw and heard\, setting off a chain of events Lexie thought only happened in movies. Falsely accused of stealing intelligence and unsure of who to trust\, Lexie quickly realizes the significance of the intel\, and that she must do everything she can to keep it safe. And as she runs—maybe for her life—Lexie knows she needs something\, or someone\, to help her. \nThere’s a place for truths and lies\, and sometimes you need both to get what you want. Lexie convinces the woman she’s only just started dating to “go on vacation” with her\, hoping a constant companion and witness will keep Them at a distance\, and the intel safe. But when she develops feelings for the beautiful and sweet Sophia Flores\, she wonders if a relationship built on a foundation of secrets can ever work. That might not even matter\, because when Lexie uncovers the truth\, the price of it could be her freedom. \nBook One in the Halcyon Division Series. \nGet the book from Bella. Order from Amazon. Or request it at your local library if they don’t have it. \nJune—Shanghai Murder by Jessie Chandler\nJuly—Out at the Plate by Lynn Ames (Bio of one of the best softball catchers of all time) I’m going to try and see if the author would join us for this meeting!\nAugust—Devil’s Slide by Stacy Lynn Miller (if we liked FUZE\, I thought we could read this adventure romance and compare and contrast the writing style and substance with FUZE\, the March book. Also\, it’s possible I might be able to arrange for Stacy to visit us during this zoom.\nSeptember—The Senator’s Wife by Jen Lyon (It’s well recommended romance) \n 
URL:https://qlibrary.org/event/twin-cities-lesbian-fiction-book-club-4-5-2/
LOCATION:Online Events
CATEGORIES:Book Club
END:VEVENT
BEGIN:VEVENT
DTSTART;TZID=America/Chicago:20240417T190000
DTEND;TZID=America/Chicago:20240417T210000
DTSTAMP:20260424T001559
CREATED:20240216T011633Z
LAST-MODIFIED:20240419T172619Z
UID:10001202-1713380400-1713387600@qlibrary.org
SUMMARY:CANCELLED: Twin Cities Lesbian Fiction Book Club
DESCRIPTION:THIS EVENT HAS BEEN CANCELLED: WE WILL BE READING INTEGRITY FOR THE MAY MEETING \nVirtual Book Club that meets online via Zoom – please direct all questions and requests for the Zoom link to jchandlerauthor@gmail.com \nYou are welcome to attend even if you didn’t read the book\, or didn’t like it. We enjoy staying in touch with our friends! \nBook of the month and description: \nApril — Integrity—Book 1 in the Halcyon Division Series by E.J. Noyes \nApril Book \nIt’s an ordinary workday when intelligence analyst Lexie Martin learns about a horrific chemical weapon attack abroad. Just an ordinary day…until a stranger breaks into her house and warns her to forget what she saw and heard\, setting off a chain of events Lexie thought only happened in movies. Falsely accused of stealing intelligence and unsure of who to trust\, Lexie quickly realizes the significance of the intel\, and that she must do everything she can to keep it safe. And as she runs—maybe for her life—Lexie knows she needs something\, or someone\, to help her. \nThere’s a place for truths and lies\, and sometimes you need both to get what you want. Lexie convinces the woman she’s only just started dating to “go on vacation” with her\, hoping a constant companion and witness will keep Them at a distance\, and the intel safe. But when she develops feelings for the beautiful and sweet Sophia Flores\, she wonders if a relationship built on a foundation of secrets can ever work. That might not even matter\, because when Lexie uncovers the truth\, the price of it could be her freedom. \nBook One in the Halcyon Division Series. \nGet the book from Bella. Order from Amazon. Or request it at your local library if they don’t have it.Or order from your (or\, really mine and Judy’s) favorite bookstore! Once Upon a Crime is a fantastic\, queer-owned Indie bookstore. While they specialize in mysteries\, Devin\, the coolest boss ever\, can order anything and ship it if you don’t want to make the trip into Mpls. Also\, if you’re looking for queer/lesbian etc mysteries\, she’s your numero uno resource!  \n 
URL:https://qlibrary.org/event/twin-cities-lesbian-fiction-book-club-4-4/
LOCATION:Online Events
CATEGORIES:Book Club
END:VEVENT
BEGIN:VEVENT
DTSTART;TZID=America/Chicago:20240320T190000
DTEND;TZID=America/Chicago:20240320T210000
DTSTAMP:20260424T001559
CREATED:20240216T011518Z
LAST-MODIFIED:20240216T011519Z
UID:10001201-1710961200-1710968400@qlibrary.org
SUMMARY:Twin Cities Lesbian Fiction Book Club
DESCRIPTION:Virtual Book Club that meets online via Zoom – please direct all questions and requests for the Zoom link to jchandlerauthor@gmail.com \nYou are welcome to attend even if you didn’t read the book\, or didn’t like it. We enjoy staying in touch with our friends! \nBook of the month and description: \nMarch – FUZE by Stacy Lynn Miller/Brian Shea \nMarch Book \nSpecial Agent Lexi Mills chases the criminal who killed her partner in this thrilling novel of grit\, betrayal\, and retribution. \nAfter a lifetime of fighting to get what she wants\, Lexi Mills has finally made it into the elite ATF Special Response Team. But when a wrong move during a bomb disposal operation takes half her leg―and her partner’s life―Lexi must shoulder the guilt alone. \nNow there’s only one way to put the past behind her: she will hunt down the man who killed her partner. \nWhen Lexi is sent to a border town to investigate a tragic explosion\, something seems off\, and it’s not just the mysterious local detective on the case\, Noah Black. The deeper Lexi and Noah dig\, the more they uncover a conspiracy reminiscent of the same bomb blast that changed her life. \nAnd when the case gives Lexi a chance to track down her partner’s killer\, she’s torn between following orders and chasing revenge… \nThe first novel in a highly-anticipated collaborative series\, FUZE is a propulsive action thriller with an indomitable new heroine\, perfect for fans of Lee Child and David Baldacci. \nGet the Paperback book from Bella. But…sadly this title is NOT available from Bella. Bella Books is always the TC Lesfic’s #1 book source choice . Bella books is an independent lesbian-owned\, lesbian run\, and needs our support!Order from Amazon Or request it at your local library if they don’t have it.Or order from your (or\, really mine and Judy’s) favorite bookstore! Once Upon a Crime is a fantastic\, queer-owned Indie bookstore. While they specialize in mysteries\, Devin\, the coolest boss ever\, can order anything and ship it if you don’t want to make the trip into Mpls. Also\, if you’re looking for queer/lesbian etc mysteries\, she’s your numero uno resource!  \n  \n 
URL:https://qlibrary.org/event/twin-cities-lesbian-fiction-book-club-4-3/
LOCATION:Online Events
CATEGORIES:Book Club
END:VEVENT
BEGIN:VEVENT
DTSTART;TZID=America/Chicago:20240221T190000
DTEND;TZID=America/Chicago:20240221T210000
DTSTAMP:20260424T001559
CREATED:20240216T011323Z
LAST-MODIFIED:20240216T011325Z
UID:10001200-1708542000-1708549200@qlibrary.org
SUMMARY:Twin Cities Lesbian Fiction Book Club
DESCRIPTION:Virtual Book Club that meets online via Zoom – please direct all questions and requests for the Zoom link to jchandlerauthor@gmail.com \nYou are welcome to attend even if you didn’t read the book\, or didn’t like it. We enjoy staying in touch with our friends! \nBook of the month and description: \nFeburary – No book\, but come anyway to confab and catch up!
URL:https://qlibrary.org/event/twin-cities-lesbian-fiction-book-club-4-2/
LOCATION:Online Events
CATEGORIES:Book Club
END:VEVENT
BEGIN:VEVENT
DTSTART;TZID=America/Chicago:20240117T190000
DTEND;TZID=America/Chicago:20240117T210000
DTSTAMP:20260424T001559
CREATED:20231210T195553Z
LAST-MODIFIED:20240204T170702Z
UID:10000918-1705518000-1705525200@qlibrary.org
SUMMARY:Twin Cities Lesbian Fiction Book Club
DESCRIPTION:Virtual Book Club that meets online via Zoom – please direct all questions and requests for the Zoom link to jchandlerauthor@gmail.com \nYou are welcome to attend even if you didn’t read the book\, or didn’t like it. We enjoy staying in touch with our friends! \nBook of the month and description coming soon. \n 
URL:https://qlibrary.org/event/twin-cities-lesbian-fiction-book-club-4/
LOCATION:Online Events
CATEGORIES:Book Club
END:VEVENT
BEGIN:VEVENT
DTSTART;TZID=America/Chicago:20220319T123000
DTEND;TZID=America/Chicago:20220319T150000
DTSTAMP:20260424T001559
CREATED:20220309T195259Z
LAST-MODIFIED:20220309T195259Z
UID:10000226-1647693000-1647702000@qlibrary.org
SUMMARY:Prime Timer's Book Club
DESCRIPTION:This monthly book club is a subgroup of the Twin Cities Prime Timers Club\, which is affiliated with the state and national organizations. It meets each third Saturday of the month at Quatrefoil from 1:15pm – 3:15pm. \n  \nhttp://www.primetimersww.org/ptmsp/index.php?option=com_content&view=featured&Itemid=101
URL:https://qlibrary.org/event/prime-timers-book-club/
LOCATION:Quatrefoil Library: Spirit on Lake Community Room\, 1220 E Lake St\, Minneapolis\, MN\, 55407\, United States
CATEGORIES:Book Club
END:VEVENT
BEGIN:VEVENT
DTSTART;TZID=America/Chicago:20211117T190000
DTEND;TZID=America/Chicago:20211117T210000
DTSTAMP:20260424T001559
CREATED:20211027T181113Z
LAST-MODIFIED:20211027T181113Z
UID:10000543-1637175600-1637182800@qlibrary.org
SUMMARY:Lesbian Fiction Book Club
DESCRIPTION:The Lesbian Fiction Book Club will meet every third Wednesday at 7:00 pm at Quatrefoil Library. Due to Covid\, this club is meeting virtually until further notice. Go here to get on the club’s email list and view their upcoming book selections. \n 
URL:https://qlibrary.org/event/lesbian-fiction-book-club-2/
LOCATION:Online Events
CATEGORIES:Book Club
END:VEVENT
BEGIN:VEVENT
DTSTART;TZID=America/Chicago:20211114T123000
DTEND;TZID=America/Chicago:20211114T150000
DTSTAMP:20260424T001559
CREATED:20211027T180741Z
LAST-MODIFIED:20211027T180741Z
UID:10000545-1636893000-1636902000@qlibrary.org
SUMMARY:Queer History Book Club
DESCRIPTION:A newly formed book club\, presented by J-Pride at Jewish Family and Children’s Services of Minneapolis\, will explore history and culture. Coordinator Isaac Ezra Jennings says the club will provide “an unintimidating and welcoming space for members of the LGBTQ+ community to come together and learn about queer history.” \nHere are the books for the first three months: \n\nNovember – Queer: A Graphic History by Meg John Barker and Julia Scheele\nDecember – The Stonewall Reader (edited by New York Public Library)\nJanuary – Transgender Warriors by Leslie Feinberg\n\nContact person: Isaac Ezra Jennings\, ijennings@jfcsmpls.org \nThe book club plans to meet in person on second Sundays of each month\, but may shift to virtual depending on interest / needs. There is free parking in the lot behind the building\, with entry off of 13th Ave. South. Please bring your mask and proof of vaccination.
URL:https://qlibrary.org/event/queer-history-book-club/
LOCATION:Quatrefoil Library: Spirit on Lake Community Room\, 1220 E Lake St\, Minneapolis\, MN\, 55407\, United States
CATEGORIES:Book Club
END:VEVENT
BEGIN:VEVENT
DTSTART;TZID=America/Chicago:20200617T190000
DTEND;TZID=America/Chicago:20200617T210000
DTSTAMP:20260424T001559
CREATED:20191230T161639Z
LAST-MODIFIED:20200610T160804Z
UID:10000365-1592420400-1592427600@qlibrary.org
SUMMARY:Twin Cities Lesbian Fiction Book Club
DESCRIPTION:The Lesbian Fiction Book Club will meet every third Wednesday at 7:00 pm at Quatrefoil Library. \n \nWe’ve switched the March and June 2020 books to make it easier for these authors to chat with us.  March is now Invisible\, As Music by Caren Werlinger. Caren would like to chat with us\, and we’re working on making that happen! Addison Conley also wants to chat but couldn’t do March\, so she is switched to June. \nUPCOMING BOOKS:\nMarch: Invisible\, as Music by Caren Werlinger (hopefully have author chat)\nApril: Big Girl Pill by KD Williamson (author chat)\nMay: Quest for Redemption by Jessie Chandler    (author attending)\nJune: Beyond the Checkpoint\, Addison Conley (author chat)\nJuly: Black Friday by Judy M Kerr (author attending)\nAugust: Lesbian Nuns: Breaking Silence by Nancy Manahan\nSeptember: The Lady’s Guide to Celestial Mechanics by Olivia Waite\nOctober:  River Walker by Cate Culpepper\nNovember: One Walk in Winter by Georgia Beers (author chat)\nDecember: If the Shoe Fits by EJ Noyes
URL:https://qlibrary.org/event/lesbian-fiction-book-club-6-2020-06-17/
LOCATION:BOOKS Will Fellows Talks About ‘Gay Bar’
CATEGORIES:Book Club
END:VEVENT
BEGIN:VEVENT
DTSTART;TZID=America/Chicago:20200609T190000
DTEND;TZID=America/Chicago:20200609T210000
DTSTAMP:20260424T001559
CREATED:20180419T221148Z
LAST-MODIFIED:20200610T161946Z
UID:10000417-1591729200-1591736400@qlibrary.org
SUMMARY:North Country Gaylaxians Book Club
DESCRIPTION:*Meeting online due to COVID-19* \nEmail for Skype info. \nThis GLBTQ Science Fiction/Fantasy book club meets the second Tuesday of each month at Quatrefoil from 7:00pm – 9:00pm \n 
URL:https://qlibrary.org/event/north-country-gaylaxians-book-club-22-2020-06-09/
LOCATION:BOOKS Will Fellows Talks About ‘Gay Bar’
CATEGORIES:Book Club,Online Events
END:VEVENT
BEGIN:VEVENT
DTSTART;TZID=America/Chicago:20200418T131500
DTEND;TZID=America/Chicago:20200418T151500
DTSTAMP:20260424T001559
CREATED:20170419T221222Z
LAST-MODIFIED:20200217T161123Z
UID:10000100-1587215700-1587222900@qlibrary.org
SUMMARY:Twin Cities Prime Timers Book Club
DESCRIPTION:Prime Timers Minneapolis/St. Paul is a diverse social organization for the enrichment of gay and bisexual men at all stages of their lives\nThe Prime Timers Book Club meets every third Saturday at Quatrefoil from 1:15-3:15 pm. \nThe book for March 2020 is Flannelwood by Raymond Luczak
URL:https://qlibrary.org/event/twin-cities-prime-timers-book-club-6/2020-04-18/
LOCATION:Quatrefoil Library\, 1220 East Lake Street\, Minneapolis\, MN\, 55407\, United States
CATEGORIES:Book Club
END:VEVENT
BEGIN:VEVENT
DTSTART;TZID=America/Chicago:20200321T131500
DTEND;TZID=America/Chicago:20200321T151500
DTSTAMP:20260424T001559
CREATED:20170419T221222Z
LAST-MODIFIED:20200217T161123Z
UID:10000099-1584796500-1584803700@qlibrary.org
SUMMARY:Twin Cities Prime Timers Book Club
DESCRIPTION:Prime Timers Minneapolis/St. Paul is a diverse social organization for the enrichment of gay and bisexual men at all stages of their lives\nThe Prime Timers Book Club meets every third Saturday at Quatrefoil from 1:15-3:15 pm. \nThe book for March 2020 is Flannelwood by Raymond Luczak
URL:https://qlibrary.org/event/twin-cities-prime-timers-book-club-6/2020-03-21/
LOCATION:Quatrefoil Library\, 1220 East Lake Street\, Minneapolis\, MN\, 55407\, United States
CATEGORIES:Book Club
END:VEVENT
BEGIN:VEVENT
DTSTART;TZID=America/Chicago:20200215T131500
DTEND;TZID=America/Chicago:20200215T151500
DTSTAMP:20260424T001559
CREATED:20170419T221222Z
LAST-MODIFIED:20200217T161123Z
UID:10000098-1581772500-1581779700@qlibrary.org
SUMMARY:Twin Cities Prime Timers Book Club
DESCRIPTION:Prime Timers Minneapolis/St. Paul is a diverse social organization for the enrichment of gay and bisexual men at all stages of their lives\nThe Prime Timers Book Club meets every third Saturday at Quatrefoil from 1:15-3:15 pm. \nThe book for March 2020 is Flannelwood by Raymond Luczak
URL:https://qlibrary.org/event/twin-cities-prime-timers-book-club-6/2020-02-15/
LOCATION:Quatrefoil Library\, 1220 East Lake Street\, Minneapolis\, MN\, 55407\, United States
CATEGORIES:Book Club
END:VEVENT
BEGIN:VEVENT
DTSTART;TZID=America/Chicago:20190619T190000
DTEND;TZID=America/Chicago:20190619T210000
DTSTAMP:20260424T001559
CREATED:20150326T155909Z
LAST-MODIFIED:20200610T163030Z
UID:10000061-1560970800-1560978000@qlibrary.org
SUMMARY:Lesbian Fiction Book Club
DESCRIPTION:We’ve missed seeing all of you!   Until we can meet in person\, Judy Kerr has set up Zoom for us.  You can use Zoom on your phone\, tablet or laptop.  \nemail info@qlibrary for Zoom details. \nUPCOMING BOOKS: \nJune: Beyond the Checkpoint\, Addison Conley (author chat)\nJuly: Black Friday by Judy M Kerr (author attending)\nAugust: Lesbian Nuns: Breaking Silence by Nancy Manahan (author chat)\nSeptember: The Lady’s Guide to Celestial Mechanics by Olivia Waite\nOctober:  River Walker by Cate Culpepper\nNovember: One Walk in Winter by Georgia Beers (author chat)\nDecember: If the Shoe Fits by EJ Noyes \n\n\n\n\n\n\n\n\n\n\n\nYou are welcome to attend even if you didn’t read the book\, or didn’t like it. We enjoy staying in touch with our friends! \nRemember that we meet the third Wednesday of every month at 7pm.  We anticipate that the next few meetings will be virtual.
URL:https://qlibrary.org/event/lesbian-fiction-book-club/
LOCATION:Online Events
CATEGORIES:Book Club,Online Events
END:VEVENT
END:VCALENDAR