BEGIN:VCALENDAR
VERSION:2.0
PRODID:-//Quatrefoil Library - ECPv6.15.20//NONSGML v1.0//EN
CALSCALE:GREGORIAN
METHOD:PUBLISH
X-ORIGINAL-URL:https://qlibrary.org
X-WR-CALDESC:Events for Quatrefoil Library
REFRESH-INTERVAL;VALUE=DURATION:PT1H
X-Robots-Tag:noindex
X-PUBLISHED-TTL:PT1H
BEGIN:VTIMEZONE
TZID:America/Chicago
BEGIN:DAYLIGHT
TZOFFSETFROM:-0600
TZOFFSETTO:-0500
TZNAME:CDT
DTSTART:20240310T080000
END:DAYLIGHT
BEGIN:STANDARD
TZOFFSETFROM:-0500
TZOFFSETTO:-0600
TZNAME:CST
DTSTART:20241103T070000
END:STANDARD
BEGIN:DAYLIGHT
TZOFFSETFROM:-0600
TZOFFSETTO:-0500
TZNAME:CDT
DTSTART:20250309T080000
END:DAYLIGHT
BEGIN:STANDARD
TZOFFSETFROM:-0500
TZOFFSETTO:-0600
TZNAME:CST
DTSTART:20251102T070000
END:STANDARD
BEGIN:DAYLIGHT
TZOFFSETFROM:-0600
TZOFFSETTO:-0500
TZNAME:CDT
DTSTART:20260308T080000
END:DAYLIGHT
BEGIN:STANDARD
TZOFFSETFROM:-0500
TZOFFSETTO:-0600
TZNAME:CST
DTSTART:20261101T070000
END:STANDARD
END:VTIMEZONE
BEGIN:VEVENT
DTSTART;TZID=America/Chicago:20250212T190000
DTEND;TZID=America/Chicago:20250212T200000
DTSTAMP:20260424T061958
CREATED:20250114T004004Z
LAST-MODIFIED:20250114T004005Z
UID:10000933-1739386800-1739390400@qlibrary.org
SUMMARY:Moon Palace Queer Book Club
DESCRIPTION:Event by Moon Palace Books \nPublic  ·  Join us for Queer Book Club every second Wednesday from 7-8pm at Quatrefoil Library\, 1220 East Lake Street\, Minneapolis\, MN 55407! (Please note that in the summer we will only meet at Quatrefoil if it rains. Otherwise we will meet at Brackett Park.) \n  \nQueer Book Club February\n\n\n\nWednesday Feb 12th\, 2025\n\n\n7:00 PM\n\n\n–\n\n\n8:00 PM\n\n\n Quatrefoil Library\, 1220 East Lake Street\, Minneapolis\, MN 55407\n\n\n\n\n\n\n\nJoin us for Queer Book Club on Wednesday\, February 12th\, at 7:00pm at Quatrefoil Library\, 1220 East Lake Street\, Minneapolis\, MN 55407. We’ll be discussing Wild Geese by Soula Emmanuel. Anyone is welcome to join whether you’ve read the whole book or just skimmed a few pages. We meet the second Wednesdays of every month! \nPhoebe Forde has a new home\, a new name\, and is newly thirty. An Irish transplant and PhD candidate\, she’s overeducated and underpaid\, but finally settling into her new life in Copenhagen. Almost three years into her gender transition\, Phoebe has learned to move through the world carefully\, savoring small moments of joy. After all\, a woman without a past can be anyone she wants. But an unexpected visit from her ex-girlfriend Grace brings back memories of Dublin and the life she thought she’d left behind. Over the course of a weekend\, their romance rekindles into something sweet and radically unfamiliar as Grace helps Phoebe navigate the jagged edges of nostalgia and hope. \nWritten with wit and warmth\, Wild Geese is a tale of dislocations and relocations\, encounters\, and accidents: a novel of past lives\, messy feelings\, and the desire to start afresh.
URL:https://qlibrary.org/event/moon-palace-queer-book-club-2-2/
LOCATION:Quatrefoil Library\, 1220 East Lake Street\, Minneapolis\, MN\, 55407\, United States
CATEGORIES:Book Club
END:VEVENT
END:VCALENDAR