BEGIN:VCALENDAR
VERSION:2.0
PRODID:-//Quatrefoil Library - ECPv6.15.20//NONSGML v1.0//EN
CALSCALE:GREGORIAN
METHOD:PUBLISH
X-WR-CALNAME:Quatrefoil Library
X-ORIGINAL-URL:https://qlibrary.org
X-WR-CALDESC:Events for Quatrefoil Library
REFRESH-INTERVAL;VALUE=DURATION:PT1H
X-Robots-Tag:noindex
X-PUBLISHED-TTL:PT1H
BEGIN:VTIMEZONE
TZID:America/Chicago
BEGIN:DAYLIGHT
TZOFFSETFROM:-0600
TZOFFSETTO:-0500
TZNAME:CDT
DTSTART:20230312T080000
END:DAYLIGHT
BEGIN:STANDARD
TZOFFSETFROM:-0500
TZOFFSETTO:-0600
TZNAME:CST
DTSTART:20231105T070000
END:STANDARD
BEGIN:DAYLIGHT
TZOFFSETFROM:-0600
TZOFFSETTO:-0500
TZNAME:CDT
DTSTART:20240310T080000
END:DAYLIGHT
BEGIN:STANDARD
TZOFFSETFROM:-0500
TZOFFSETTO:-0600
TZNAME:CST
DTSTART:20241103T070000
END:STANDARD
BEGIN:DAYLIGHT
TZOFFSETFROM:-0600
TZOFFSETTO:-0500
TZNAME:CDT
DTSTART:20250309T080000
END:DAYLIGHT
BEGIN:STANDARD
TZOFFSETFROM:-0500
TZOFFSETTO:-0600
TZNAME:CST
DTSTART:20251102T070000
END:STANDARD
END:VTIMEZONE
BEGIN:VEVENT
DTSTART;TZID=America/Chicago:20240724T190000
DTEND;TZID=America/Chicago:20240724T210000
DTSTAMP:20260424T222848
CREATED:20240210T195053Z
LAST-MODIFIED:20240529T034155Z
UID:10001260-1721847600-1721854800@qlibrary.org
SUMMARY:Queer Jewish Folklore Book Club
DESCRIPTION:Quarterly book club centered on interpretations of Jewish folklore with queer stories and characters. \nBook Selection: From Dust\, A Flame By Rebecca Podos \nHannah’s whole life has been spent in motion. Her mother has kept her and her brother\, Gabe\, on the road for as long as she can remember\, leaving a trail of rental homes and faded relationships behind them. No roots\, no family but one another\, and no explanations. \nAll that changes on Hannah’s seventeenth birthday when she wakes up transformed\, a pair of golden eyes with knife-slit pupils blinking back at her from the mirror—the first of many such impossible mutations. Promising that she knows someone who can help\, her mother leaves Hannah and Gabe behind to find a cure. But as the days turn to weeks and their mother doesn’t return\, they realize it’s up to them to find the truth. \nWhat they discover is a family they never knew and a history more tragic and fantastical than Hannah could have dreamed—one that stretches back to her grandmother’s childhood in Prague under the Nazi occupation\, and beyond\, into the realm of Jewish mysticism and legend. As the past comes crashing into the present\, Hannah must hurry to unearth their family’s secrets in order to break the curse and save the people she loves most\, as well as herself. \nThe e-book and audiobook are both available through MELSA as well! \nContact: \nHunter Wengersky \nPronouns: They/Them/Theirs \nJ-Pride Coordinator \n952-417-2122  Hwengersky@jfcsmpls.org
URL:https://qlibrary.org/event/queer-jewish-folklore-book-club/
LOCATION:Quatrefoil Library\, 1220 East Lake Street\, Minneapolis\, MN\, 55407\, United States
CATEGORIES:Book Club
END:VEVENT
END:VCALENDAR