BEGIN:VCALENDAR
VERSION:2.0
PRODID:-//Quatrefoil Library - ECPv6.15.20//NONSGML v1.0//EN
CALSCALE:GREGORIAN
METHOD:PUBLISH
X-ORIGINAL-URL:https://qlibrary.org
X-WR-CALDESC:Events for Quatrefoil Library
REFRESH-INTERVAL;VALUE=DURATION:PT1H
X-Robots-Tag:noindex
X-PUBLISHED-TTL:PT1H
BEGIN:VTIMEZONE
TZID:America/Chicago
BEGIN:DAYLIGHT
TZOFFSETFROM:-0600
TZOFFSETTO:-0500
TZNAME:CDT
DTSTART:20230312T080000
END:DAYLIGHT
BEGIN:STANDARD
TZOFFSETFROM:-0500
TZOFFSETTO:-0600
TZNAME:CST
DTSTART:20231105T070000
END:STANDARD
BEGIN:DAYLIGHT
TZOFFSETFROM:-0600
TZOFFSETTO:-0500
TZNAME:CDT
DTSTART:20240310T080000
END:DAYLIGHT
BEGIN:STANDARD
TZOFFSETFROM:-0500
TZOFFSETTO:-0600
TZNAME:CST
DTSTART:20241103T070000
END:STANDARD
BEGIN:DAYLIGHT
TZOFFSETFROM:-0600
TZOFFSETTO:-0500
TZNAME:CDT
DTSTART:20250309T080000
END:DAYLIGHT
BEGIN:STANDARD
TZOFFSETFROM:-0500
TZOFFSETTO:-0600
TZNAME:CST
DTSTART:20251102T070000
END:STANDARD
END:VTIMEZONE
BEGIN:VEVENT
DTSTART;TZID=America/Chicago:20240515T190000
DTEND;TZID=America/Chicago:20240515T210000
DTSTAMP:20260425T104841
CREATED:20240419T172721Z
LAST-MODIFIED:20240419T172723Z
UID:10001203-1715799600-1715806800@qlibrary.org
SUMMARY:Twin Cities Lesbian Fiction Book Club
DESCRIPTION:Virtual Book Club that meets online via Zoom – please direct all questions and requests for the Zoom link to jchandlerauthor@gmail.com \nYou are welcome to attend even if you didn’t read the book\, or didn’t like it. We enjoy staying in touch with our friends! \nBook of the month and description: \nMay — Integrity—Book 1 in the Halcyon Division Series by E.J. Noyes \nMay Book \nIt’s an ordinary workday when intelligence analyst Lexie Martin learns about a horrific chemical weapon attack abroad. Just an ordinary day…until a stranger breaks into her house and warns her to forget what she saw and heard\, setting off a chain of events Lexie thought only happened in movies. Falsely accused of stealing intelligence and unsure of who to trust\, Lexie quickly realizes the significance of the intel\, and that she must do everything she can to keep it safe. And as she runs—maybe for her life—Lexie knows she needs something\, or someone\, to help her. \nThere’s a place for truths and lies\, and sometimes you need both to get what you want. Lexie convinces the woman she’s only just started dating to “go on vacation” with her\, hoping a constant companion and witness will keep Them at a distance\, and the intel safe. But when she develops feelings for the beautiful and sweet Sophia Flores\, she wonders if a relationship built on a foundation of secrets can ever work. That might not even matter\, because when Lexie uncovers the truth\, the price of it could be her freedom. \nBook One in the Halcyon Division Series. \nGet the book from Bella. Order from Amazon. Or request it at your local library if they don’t have it. \nJune—Shanghai Murder by Jessie Chandler\nJuly—Out at the Plate by Lynn Ames (Bio of one of the best softball catchers of all time) I’m going to try and see if the author would join us for this meeting!\nAugust—Devil’s Slide by Stacy Lynn Miller (if we liked FUZE\, I thought we could read this adventure romance and compare and contrast the writing style and substance with FUZE\, the March book. Also\, it’s possible I might be able to arrange for Stacy to visit us during this zoom.\nSeptember—The Senator’s Wife by Jen Lyon (It’s well recommended romance) \n 
URL:https://qlibrary.org/event/twin-cities-lesbian-fiction-book-club-4-5-2/
LOCATION:Online Events
CATEGORIES:Book Club
END:VEVENT
END:VCALENDAR