BEGIN:VCALENDAR
VERSION:2.0
PRODID:-//Quatrefoil Library - ECPv6.15.20//NONSGML v1.0//EN
CALSCALE:GREGORIAN
METHOD:PUBLISH
X-WR-CALNAME:Quatrefoil Library
X-ORIGINAL-URL:https://qlibrary.org
X-WR-CALDESC:Events for Quatrefoil Library
REFRESH-INTERVAL;VALUE=DURATION:PT1H
X-Robots-Tag:noindex
X-PUBLISHED-TTL:PT1H
BEGIN:VTIMEZONE
TZID:America/Chicago
BEGIN:DAYLIGHT
TZOFFSETFROM:-0600
TZOFFSETTO:-0500
TZNAME:CDT
DTSTART:20250309T080000
END:DAYLIGHT
BEGIN:STANDARD
TZOFFSETFROM:-0500
TZOFFSETTO:-0600
TZNAME:CST
DTSTART:20251102T070000
END:STANDARD
BEGIN:DAYLIGHT
TZOFFSETFROM:-0600
TZOFFSETTO:-0500
TZNAME:CDT
DTSTART:20260308T080000
END:DAYLIGHT
BEGIN:STANDARD
TZOFFSETFROM:-0500
TZOFFSETTO:-0600
TZNAME:CST
DTSTART:20261101T070000
END:STANDARD
BEGIN:DAYLIGHT
TZOFFSETFROM:-0600
TZOFFSETTO:-0500
TZNAME:CDT
DTSTART:20270314T080000
END:DAYLIGHT
BEGIN:STANDARD
TZOFFSETFROM:-0500
TZOFFSETTO:-0600
TZNAME:CST
DTSTART:20271107T070000
END:STANDARD
END:VTIMEZONE
BEGIN:VEVENT
DTSTART;TZID=America/Chicago:20260425T110000
DTEND;TZID=America/Chicago:20260425T160000
DTSTAMP:20260423T040833
CREATED:20260308T181010Z
LAST-MODIFIED:20260308T181010Z
UID:10004494-1777114800-1777132800@qlibrary.org
SUMMARY:
DESCRIPTION:Join us at Quatrefoil Library for another book sale! Bring a bag and stock up on old and new queer literature and media for unbeatable prices. All proceeds go to supporting the work of the Library. We hope to see you there!
URL:https://qlibrary.org/event/12807/
LOCATION:Quatrefoil Library\, 1220 East Lake Street\, Minneapolis\, MN\, 55407\, United States
CATEGORIES:book sale
END:VEVENT
BEGIN:VEVENT
DTSTART;TZID=America/Chicago:20260425T110000
DTEND;TZID=America/Chicago:20260425T160000
DTSTAMP:20260423T040833
CREATED:20260406T201232Z
LAST-MODIFIED:20260406T203238Z
UID:10004496-1777114800-1777132800@qlibrary.org
SUMMARY:Q Spring Used Book Sale
DESCRIPTION:Join us at Quatrefoil Library for our Spring Season Used Book Sale. Bringing cash and bags is appreciated\, but not required. We look forward to seeing you there!
URL:https://qlibrary.org/event/q-spring-used-book-sale/
LOCATION:Quatrefoil Library\, 1220 East Lake Street\, Minneapolis\, MN\, 55407\, United States
CATEGORIES:book sale
END:VEVENT
BEGIN:VEVENT
DTSTART;TZID=America/Chicago:20260425T183000
DTEND;TZID=America/Chicago:20260425T213000
DTSTAMP:20260423T040833
CREATED:20241028T215739Z
LAST-MODIFIED:20241028T215739Z
UID:10002530-1777141800-1777152600@qlibrary.org
SUMMARY:Quatrefoil Game Night
DESCRIPTION:
URL:https://qlibrary.org/event/quatrefoil-game-night-2/2026-04-25/
LOCATION:Quatrefoil Library\, 1220 East Lake Street\, Minneapolis\, MN\, 55407\, United States
CATEGORIES:Community Club
END:VEVENT
END:VCALENDAR