BEGIN:VCALENDAR
VERSION:2.0
PRODID:-//Quatrefoil Library - ECPv6.15.20//NONSGML v1.0//EN
CALSCALE:GREGORIAN
METHOD:PUBLISH
X-WR-CALNAME:Quatrefoil Library
X-ORIGINAL-URL:https://qlibrary.org
X-WR-CALDESC:Events for Quatrefoil Library
REFRESH-INTERVAL;VALUE=DURATION:PT1H
X-Robots-Tag:noindex
X-PUBLISHED-TTL:PT1H
BEGIN:VTIMEZONE
TZID:America/Chicago
BEGIN:DAYLIGHT
TZOFFSETFROM:-0600
TZOFFSETTO:-0500
TZNAME:CDT
DTSTART:20250309T080000
END:DAYLIGHT
BEGIN:STANDARD
TZOFFSETFROM:-0500
TZOFFSETTO:-0600
TZNAME:CST
DTSTART:20251102T070000
END:STANDARD
BEGIN:DAYLIGHT
TZOFFSETFROM:-0600
TZOFFSETTO:-0500
TZNAME:CDT
DTSTART:20260308T080000
END:DAYLIGHT
BEGIN:STANDARD
TZOFFSETFROM:-0500
TZOFFSETTO:-0600
TZNAME:CST
DTSTART:20261101T070000
END:STANDARD
BEGIN:DAYLIGHT
TZOFFSETFROM:-0600
TZOFFSETTO:-0500
TZNAME:CDT
DTSTART:20270314T080000
END:DAYLIGHT
BEGIN:STANDARD
TZOFFSETFROM:-0500
TZOFFSETTO:-0600
TZNAME:CST
DTSTART:20271107T070000
END:STANDARD
END:VTIMEZONE
BEGIN:VEVENT
DTSTART;TZID=America/Chicago:20260329T190000
DTEND;TZID=America/Chicago:20260329T210000
DTSTAMP:20260423T053941
CREATED:20260207T180428Z
LAST-MODIFIED:20260207T180428Z
UID:10004492-1774810800-1774818000@qlibrary.org
SUMMARY:Film Screening: The Dance is Not Over with Patrick Scully
DESCRIPTION:THE DANCE IS NOT OVER: a documentary by Mark Wojahn & starring Patrick Scully \n  \nJoin us at Quatrefoil Library on Sunday March 29th from 7-9pm for an after-hours viewing of the Dance is Not Over. This feature length documentary stars MN cultural legend Patrick Scully as he dives deep about his 50 year career as a dancer\, choreographer and artistic founder of Patrick’s Cabaret. \n‘The Dance is Not Over’ was filmed over six years and framed around the rehearsals of Scully’s dance company as they rehearse for their sold out shows at the Guthrie theater. Filmed in beautiful 4K resolution by cinematographer Gregory Winter\, the movie zooms in on secrets of Scully’s; Early years\, as he finds his movement in Contact Improv\, dances with Remy Charlip in New York\, founds\nPatrick’s Cabaret\, battles the 90’s culture wars and presents his homoerotic personification of Walt Whitman in “Leaves of Grass: Illuminated”. \nThe film screening will be followed by a Q&A with star Patrick Scully. No RSVP required\, all are welcome. We hope to see you there! \n  \nThis activity is made possible by the voters of Minnesota through a grant from the Minnesota State Arts Board\, thanks to a \nlegislative appropriation from the arts and cultural heritage fund.
URL:https://qlibrary.org/event/film-screening-the-dance-is-not-over-with-patrick-scully/
LOCATION:Quatrefoil Library\, 1220 East Lake Street\, Minneapolis\, MN\, 55407\, United States
CATEGORIES:Film Screenings
END:VEVENT
END:VCALENDAR