BEGIN:VCALENDAR
VERSION:2.0
PRODID:-//Quatrefoil Library - ECPv6.15.20//NONSGML v1.0//EN
CALSCALE:GREGORIAN
METHOD:PUBLISH
X-ORIGINAL-URL:https://qlibrary.org
X-WR-CALDESC:Events for Quatrefoil Library
REFRESH-INTERVAL;VALUE=DURATION:PT1H
X-Robots-Tag:noindex
X-PUBLISHED-TTL:PT1H
BEGIN:VTIMEZONE
TZID:America/Chicago
BEGIN:DAYLIGHT
TZOFFSETFROM:-0600
TZOFFSETTO:-0500
TZNAME:CDT
DTSTART:20250309T080000
END:DAYLIGHT
BEGIN:STANDARD
TZOFFSETFROM:-0500
TZOFFSETTO:-0600
TZNAME:CST
DTSTART:20251102T070000
END:STANDARD
BEGIN:DAYLIGHT
TZOFFSETFROM:-0600
TZOFFSETTO:-0500
TZNAME:CDT
DTSTART:20260308T080000
END:DAYLIGHT
BEGIN:STANDARD
TZOFFSETFROM:-0500
TZOFFSETTO:-0600
TZNAME:CST
DTSTART:20261101T070000
END:STANDARD
BEGIN:DAYLIGHT
TZOFFSETFROM:-0600
TZOFFSETTO:-0500
TZNAME:CDT
DTSTART:20270314T080000
END:DAYLIGHT
BEGIN:STANDARD
TZOFFSETFROM:-0500
TZOFFSETTO:-0600
TZNAME:CST
DTSTART:20271107T070000
END:STANDARD
END:VTIMEZONE
BEGIN:VEVENT
DTSTART;TZID=America/Chicago:20260322T130000
DTEND;TZID=America/Chicago:20260322T140000
DTSTAMP:20260423T054130
CREATED:20260108T024423Z
LAST-MODIFIED:20260108T024609Z
UID:10004418-1774184400-1774188000@qlibrary.org
SUMMARY:Transgender Book Club
DESCRIPTION:The Transgender Book Club meets the fourth Sunday of the month from 1-2pm to discuss books by and about trans people. We welcome people of all genders\, orientations\, and backgrounds! \n1/25 Model Home by Rivers Solomon \n2/22 The Four Profound Weaves by R.B. Lemberg \n3/22 Hot Girls with Balls by Benedict Nguyen \n4/26 Rules for Ghosting by Shelley Jay Shore \n5/24 Horse Barbie by Geena Rocero \n6/21 Trans History by Alex L. Combs \n7/26 Just Shy of Ordinary by A.J. Sass \n8/23 Bellies by Nicola Dinan \n9/27 So Many Stars by Caro de Robertis \n10/25 Old Wounds by Logan-Ashley Kisner \n11/22 Call Me Max by Kyle Lukoff \n  \nFind us on Facebook at “Transgender Book Club at Quatrefoil Library” and on Instagram at “tc_transbookclub”
URL:https://qlibrary.org/event/transgender-book-club-7/2026-03-22/
LOCATION:Quatrefoil Library\, 1220 East Lake Street\, Minneapolis\, MN\, 55407\, United States
CATEGORIES:Book Club
END:VEVENT
END:VCALENDAR