BEGIN:VCALENDAR
VERSION:2.0
PRODID:-//Quatrefoil Library - ECPv6.15.20//NONSGML v1.0//EN
CALSCALE:GREGORIAN
METHOD:PUBLISH
X-ORIGINAL-URL:https://qlibrary.org
X-WR-CALDESC:Events for Quatrefoil Library
REFRESH-INTERVAL;VALUE=DURATION:PT1H
X-Robots-Tag:noindex
X-PUBLISHED-TTL:PT1H
BEGIN:VTIMEZONE
TZID:America/Chicago
BEGIN:DAYLIGHT
TZOFFSETFROM:-0600
TZOFFSETTO:-0500
TZNAME:CDT
DTSTART:20250309T080000
END:DAYLIGHT
BEGIN:STANDARD
TZOFFSETFROM:-0500
TZOFFSETTO:-0600
TZNAME:CST
DTSTART:20251102T070000
END:STANDARD
BEGIN:DAYLIGHT
TZOFFSETFROM:-0600
TZOFFSETTO:-0500
TZNAME:CDT
DTSTART:20260308T080000
END:DAYLIGHT
BEGIN:STANDARD
TZOFFSETFROM:-0500
TZOFFSETTO:-0600
TZNAME:CST
DTSTART:20261101T070000
END:STANDARD
BEGIN:DAYLIGHT
TZOFFSETFROM:-0600
TZOFFSETTO:-0500
TZNAME:CDT
DTSTART:20270314T080000
END:DAYLIGHT
BEGIN:STANDARD
TZOFFSETFROM:-0500
TZOFFSETTO:-0600
TZNAME:CST
DTSTART:20271107T070000
END:STANDARD
END:VTIMEZONE
BEGIN:VEVENT
DTSTART;TZID=America/Chicago:20260318T190000
DTEND;TZID=America/Chicago:20260318T210000
DTSTAMP:20260423T054130
CREATED:20240114T181948Z
LAST-MODIFIED:20240324T164415Z
UID:10001557-1773860400-1773867600@qlibrary.org
SUMMARY:Queer Threads
DESCRIPTION:Queer threads: a weekly intergenerational craft night for LGBTQ people of all genders \nwhat: a weekly craft night for knitting\, crochet\, embroidery\, mending\, quilting\, and other portable crafts \nwhy: find community and camaraderie with other LGBTQ crafters \nwho: for all ages and genders. Kids are welcome\, but childcare is not provided. \nwhere: Quatrefoil Library at 1220 E Lake St Minneapolis. \nwhen: Wednesday nights from 7-9 pm \naccessibility: please wear a mask. \nhelp us cultivate a welcoming group: crafting is for all gender identities and types of gender expression; ask for (rather than assume) pronouns; all types of yarn and materials\, experience levels\, and portable craft projects are welcome.
URL:https://qlibrary.org/event/queer-threads-4/2026-03-18/
LOCATION:Quatrefoil Library\, 1220 East Lake Street\, Minneapolis\, MN\, 55407\, United States
CATEGORIES:Community Club
END:VEVENT
BEGIN:VEVENT
DTSTART;TZID=America/Chicago:20260318T190000
DTEND;TZID=America/Chicago:20260318T210000
DTSTAMP:20260423T054130
CREATED:20260307T012522Z
LAST-MODIFIED:20260307T012523Z
UID:10001225-1773860400-1773867600@qlibrary.org
SUMMARY:CANCELLED - Twin Cities Lesbian Fiction Book Club (Online)
DESCRIPTION:Cancelled for the Month of March\, meetings will resume in April! \nVirtual Book Club that meets online via Zoom – please direct all questions and requests for the Zoom link to jchandlerauthor@gmail.com \nYou are welcome to attend even if you didn’t read the book\, or didn’t like it. We enjoy staying in touch with our friends! \nBook of the month: \n2026 \nJanuary—SWITCH by Ann McMann AND SAFEKEEP by Yael Van Der Wouden \nFebruary—ATMOSPHERE by Taylor Jenkins Reid \nMarch—POSTCARDS FROM ONKEL HENRY by Lou Bender \nApril—CLEAN KILL by Anne Laughlin (she just might be featured in the This Queer Book Saved My Life Podcast too) \nMay—ANNIE ON MY MIND by Nancy Garden (a throwback—1982—and homage to lesbian authors upon whose shoulders we stand) \nJune—ART OF DECEPTION by Riley Cooper
URL:https://qlibrary.org/event/twin-cities-lesbian-fiction-book-club-5-2-2-2-2/
LOCATION:Online Events
CATEGORIES:Book Club,Online Events
END:VEVENT
END:VCALENDAR