BEGIN:VCALENDAR
VERSION:2.0
PRODID:-//Quatrefoil Library - ECPv6.15.20//NONSGML v1.0//EN
CALSCALE:GREGORIAN
METHOD:PUBLISH
X-WR-CALNAME:Quatrefoil Library
X-ORIGINAL-URL:https://qlibrary.org
X-WR-CALDESC:Events for Quatrefoil Library
REFRESH-INTERVAL;VALUE=DURATION:PT1H
X-Robots-Tag:noindex
X-PUBLISHED-TTL:PT1H
BEGIN:VTIMEZONE
TZID:America/Chicago
BEGIN:DAYLIGHT
TZOFFSETFROM:-0600
TZOFFSETTO:-0500
TZNAME:CDT
DTSTART:20240310T080000
END:DAYLIGHT
BEGIN:STANDARD
TZOFFSETFROM:-0500
TZOFFSETTO:-0600
TZNAME:CST
DTSTART:20241103T070000
END:STANDARD
BEGIN:DAYLIGHT
TZOFFSETFROM:-0600
TZOFFSETTO:-0500
TZNAME:CDT
DTSTART:20250309T080000
END:DAYLIGHT
BEGIN:STANDARD
TZOFFSETFROM:-0500
TZOFFSETTO:-0600
TZNAME:CST
DTSTART:20251102T070000
END:STANDARD
BEGIN:DAYLIGHT
TZOFFSETFROM:-0600
TZOFFSETTO:-0500
TZNAME:CDT
DTSTART:20260308T080000
END:DAYLIGHT
BEGIN:STANDARD
TZOFFSETFROM:-0500
TZOFFSETTO:-0600
TZNAME:CST
DTSTART:20261101T070000
END:STANDARD
END:VTIMEZONE
BEGIN:VEVENT
DTSTART;TZID=America/Chicago:20251120T180000
DTEND;TZID=America/Chicago:20251120T190000
DTSTAMP:20260423T114842
CREATED:20251111T001805Z
LAST-MODIFIED:20251111T001827Z
UID:10004068-1763661600-1763665200@qlibrary.org
SUMMARY:OFFSITE: Trans Day of Remembrance Rally & Vigil
DESCRIPTION:This Trans Day of Remembrance\, join us in honoring and fighting for our murdered trans siblings with a rally and vigil in Loring Park. Now is the time to show up for trans lives. More details to come.
URL:https://qlibrary.org/event/offsite-trans-day-of-remembrance-rally-vigil/
LOCATION:Loring Park\, 1382 Willow St.\, Minneapolis\, MN\, 55403\, United States
END:VEVENT
BEGIN:VEVENT
DTSTART;TZID=America/Chicago:20251120T190000
DTEND;TZID=America/Chicago:20251120T203000
DTSTAMP:20260423T114842
CREATED:20251025T165826Z
LAST-MODIFIED:20251025T165826Z
UID:10004003-1763665200-1763670600@qlibrary.org
SUMMARY:OFFSITE: Weird Sapphics
DESCRIPTION:“The 80s: The greatest decade alive… unless you’re a dorky teenage lesbian\, then it pretty much totally sucks!”\nA campy sapphic comedy loosely based on the 1985 John Hughes classic “Weird Science.” Featuring a Frankenstein-ed beautiful woman\, pure gay-ighties antics\, and all the charm two loser high school lesbians can muster. Who’s ready to rock?!\nTickets are $12 in Advance / $15 at the Door. Doors open at 6pm. Online ticket sales end at 5pm. https://www.facebook.com/share/1ANngmm5J3/ \nOur full restaurant and bar service is available in the theater! Order from your seat and enjoy the show\, we’ll take care of the rest.
URL:https://qlibrary.org/event/offsite-weird-sapphics/
LOCATION:MN
END:VEVENT
BEGIN:VEVENT
DTSTART;TZID=America/Chicago:20251120T190000
DTEND;TZID=America/Chicago:20251120T210000
DTSTAMP:20260423T114842
CREATED:20251101T230253Z
LAST-MODIFIED:20251101T230254Z
UID:10003879-1763665200-1763672400@qlibrary.org
SUMMARY:MNPoly Community Building Event
DESCRIPTION:*Rescheduled and hosted in the Library instead of the Community Room for November and December events* \nLet’s bring the MNPoly community together on a monthly basis with some exercises designed to build connections. \nWe will have an ice breaker as a whole group\, then break up into groups of 4-5 to perform a team building exercise that helps us really get to know each other a bit more. We’ll scramble the groups and do a second exercise. Then\, we’ll get back together as one big group to discuss what might change for next time. To conclude the night we will finish with an open mingling session to hang with some of your new-found friends!
URL:https://qlibrary.org/event/mnpoly-community-building-event-2/2025-11-20/
LOCATION:Quatrefoil Library\, 1220 East Lake Street\, Minneapolis\, MN\, 55407\, United States
CATEGORIES:Community Club,Polyamory
END:VEVENT
END:VCALENDAR