BEGIN:VCALENDAR
VERSION:2.0
PRODID:-//Quatrefoil Library - ECPv6.15.20//NONSGML v1.0//EN
CALSCALE:GREGORIAN
METHOD:PUBLISH
X-WR-CALNAME:Quatrefoil Library
X-ORIGINAL-URL:https://qlibrary.org
X-WR-CALDESC:Events for Quatrefoil Library
REFRESH-INTERVAL;VALUE=DURATION:PT1H
X-Robots-Tag:noindex
X-PUBLISHED-TTL:PT1H
BEGIN:VTIMEZONE
TZID:America/Chicago
BEGIN:DAYLIGHT
TZOFFSETFROM:-0600
TZOFFSETTO:-0500
TZNAME:CDT
DTSTART:20240310T080000
END:DAYLIGHT
BEGIN:STANDARD
TZOFFSETFROM:-0500
TZOFFSETTO:-0600
TZNAME:CST
DTSTART:20241103T070000
END:STANDARD
BEGIN:DAYLIGHT
TZOFFSETFROM:-0600
TZOFFSETTO:-0500
TZNAME:CDT
DTSTART:20250309T080000
END:DAYLIGHT
BEGIN:STANDARD
TZOFFSETFROM:-0500
TZOFFSETTO:-0600
TZNAME:CST
DTSTART:20251102T070000
END:STANDARD
BEGIN:DAYLIGHT
TZOFFSETFROM:-0600
TZOFFSETTO:-0500
TZNAME:CDT
DTSTART:20260308T080000
END:DAYLIGHT
BEGIN:STANDARD
TZOFFSETFROM:-0500
TZOFFSETTO:-0600
TZNAME:CST
DTSTART:20261101T070000
END:STANDARD
END:VTIMEZONE
BEGIN:VEVENT
DTSTART;TZID=America/Chicago:20251115T131500
DTEND;TZID=America/Chicago:20251115T151500
DTSTAMP:20260423T114840
CREATED:20240114T221451Z
LAST-MODIFIED:20240114T225022Z
UID:10001137-1763212500-1763219700@qlibrary.org
SUMMARY:Prime Timers Bookclub
DESCRIPTION:This monthly book club is a subgroup of the Twin Cities Prime Timers Club\, which is affiliated with the state and national organizations. It meets each third Saturday of the month at Quatrefoil from 1:15pm – 3:15pm. \nBook of the month:
URL:https://qlibrary.org/event/prime-timers-bookclub-4-2/2025-11-15/
LOCATION:Quatrefoil Library\, 1220 East Lake Street\, Minneapolis\, MN\, 55407\, United States
END:VEVENT
BEGIN:VEVENT
DTSTART;TZID=America/Chicago:20251115T131500
DTEND;TZID=America/Chicago:20251115T151500
DTSTAMP:20260423T114840
CREATED:20250123T234922Z
LAST-MODIFIED:20250123T234922Z
UID:10002812-1763212500-1763219700@qlibrary.org
SUMMARY:Prime Timers Book Club
DESCRIPTION:This monthly book club is a subgroup of the Twin Cities Prime Timers Club\, which is affiliated with the state and national organizations. It meets each third Saturday of the month at Quatrefoil from 1:15pm – 3:15pm. \nMarch Book of the Month: Shortest Way Home By Peter Buttigieg
URL:https://qlibrary.org/event/prime-timers-book-club-2/2025-11-15/
LOCATION:Quatrefoil Library\, 1220 East Lake Street\, Minneapolis\, MN\, 55407\, United States
CATEGORIES:Book Club
END:VEVENT
BEGIN:VEVENT
DTSTART;TZID=America/Chicago:20251115T160000
DTEND;TZID=America/Chicago:20251115T180000
DTSTAMP:20260423T114840
CREATED:20251012T201644Z
LAST-MODIFIED:20251025T171304Z
UID:10003938-1763222400-1763229600@qlibrary.org
SUMMARY:Queer Mending Workshop with Queer Threads
DESCRIPTION:Join Queer Threads members Kayla and Sara as they walk you through mending your own textiles! Participants are expected to bring textile items from home that they want to mend\, and Queer Threads can troubleshoot or give advice\, this is a coworking event and a space for people interested in textiles to work and chat in good company. Outside of the materials to mend\, a small amount of loops\, needles\, and thread will be available for people to use\, though you are welcome to bring your own from home.\nThis is the fourth and final event in the We Take Care of Us: Queer Resilience Event Series with Quatrefoil Library. Masks will be required while in the Community Room.
URL:https://qlibrary.org/event/queer-mending-workshop-with-queer-threads/
LOCATION:Quatrefoil Library\, 1220 East Lake Street\, Minneapolis\, MN\, 55407\, United States
CATEGORIES:Event Series
END:VEVENT
END:VCALENDAR