BEGIN:VCALENDAR
VERSION:2.0
PRODID:-//Quatrefoil Library - ECPv6.15.20//NONSGML v1.0//EN
CALSCALE:GREGORIAN
METHOD:PUBLISH
X-ORIGINAL-URL:https://qlibrary.org
X-WR-CALDESC:Events for Quatrefoil Library
REFRESH-INTERVAL;VALUE=DURATION:PT1H
X-Robots-Tag:noindex
X-PUBLISHED-TTL:PT1H
BEGIN:VTIMEZONE
TZID:America/Chicago
BEGIN:DAYLIGHT
TZOFFSETFROM:-0600
TZOFFSETTO:-0500
TZNAME:CDT
DTSTART:20240310T080000
END:DAYLIGHT
BEGIN:STANDARD
TZOFFSETFROM:-0500
TZOFFSETTO:-0600
TZNAME:CST
DTSTART:20241103T070000
END:STANDARD
BEGIN:DAYLIGHT
TZOFFSETFROM:-0600
TZOFFSETTO:-0500
TZNAME:CDT
DTSTART:20250309T080000
END:DAYLIGHT
BEGIN:STANDARD
TZOFFSETFROM:-0500
TZOFFSETTO:-0600
TZNAME:CST
DTSTART:20251102T070000
END:STANDARD
BEGIN:DAYLIGHT
TZOFFSETFROM:-0600
TZOFFSETTO:-0500
TZNAME:CDT
DTSTART:20260308T080000
END:DAYLIGHT
BEGIN:STANDARD
TZOFFSETFROM:-0500
TZOFFSETTO:-0600
TZNAME:CST
DTSTART:20261101T070000
END:STANDARD
END:VTIMEZONE
BEGIN:VEVENT
DTSTART;TZID=America/Chicago:20251108T120000
DTEND;TZID=America/Chicago:20251108T140000
DTSTAMP:20260423T114707
CREATED:20250130T234137Z
LAST-MODIFIED:20250130T234630Z
UID:10003032-1762603200-1762610400@qlibrary.org
SUMMARY:Radical Queer Tarot Reading Group
DESCRIPTION:Radical Queer Tarot Reading Group is a space for novice to expert tarot readers to gather in non-hierarchical community to explore applying the wisdom of the tarot to apocalyptic times. We’ll focus on reading BIPOC/Queer/Leftist/Radical/Anti-Capitalist authors of tarot interpretation\, discussing what we’re learning\, & doing tarot spreads together to experience & interpret our new ideas. From tarot-curious to tarot master — if this offering speaks to you\, please join us. Contact radicalqueertarotreadinggroup@gmail.com for more information.
URL:https://qlibrary.org/event/radical-queer-tarot-reading-group/2025-11-08/
LOCATION:Quatrefoil Library\, 1220 East Lake Street\, Minneapolis\, MN\, 55407\, United States
CATEGORIES:Community Club
END:VEVENT
BEGIN:VEVENT
DTSTART;TZID=America/Chicago:20251108T150000
DTEND;TZID=America/Chicago:20251108T163000
DTSTAMP:20260423T114707
CREATED:20251025T162818Z
LAST-MODIFIED:20251025T162818Z
UID:10004001-1762614000-1762619400@qlibrary.org
SUMMARY:Pandemic Poetry Open Mic\, hosted by Monica K. Allen
DESCRIPTION:On Saturday\, November 8\, 2025\, Monica K. Allen (she/her) will host a FREE\, Pandemic Poetry Open Mic\, centering poets who are Covid bereaved\, Long Covid survivors\, and/or from another most-impacted community.\n\nEvent Location: Quatrefoil Library Community Room (1220 E. Lake St.\, Minneapolis)\nEvent Time: 3:00-4:30pm CT\n\nPoets must register to guarantee a spot for the event.  Poets will receive an email confirming their participation by Wednesday\, November 5\, 2025 at 6pm CT. \n\nPoets will have a 4-minute time limit including self-introduction and 1-3 poems.  (The host will announce each poet’s name to keep the flow\, and will cut in at 4 minutes\, so please plan accordingly.)  Up to 18 poets will read at this event and any experience level is welcome.  If there are spaces still available on November 8th\, readers can signup at the event – first come\, first served.\n\n\nAccessibility offerings:\n-N95/KF94/KN95 Masks Required.\n-Masks will be available on-site for those who need one.\n-One Medify Air Purifier will be running.\n-Monica will speak slowly and loudly\, and ask the poets to do the same.\n\nTransportation and Parking:\n–Metro Transit Trip Planner\n-Parking lot in back of the building (north side)\, entrance off 13th Avenue.\n-Street Parking\n\nPlease do not attend if showing symptoms of illness or if exposed to Covid/Flu/RSV in the last 7 days.\n\nMonica K. Allen Bio:\n\nParent. Caregiver. Professional Organizer. Covid Bereaved Daughter. Breast Cancer Survivor. Connector. Amplifier. Advocate. Long Covid Survivor. White Cis-Woman. Poet.\n\nQuestions? Email monicakayallen@gmail.com.
URL:https://qlibrary.org/event/pandemic-poetry-open-mic-hosted-by-monica-k-allen/
LOCATION:Quatrefoil Library\, 1220 East Lake Street\, Minneapolis\, MN\, 55407\, United States
END:VEVENT
BEGIN:VEVENT
DTSTART;TZID=America/Chicago:20251108T183000
DTEND;TZID=America/Chicago:20251108T213000
DTSTAMP:20260423T114707
CREATED:20241028T215649Z
LAST-MODIFIED:20241028T220924Z
UID:10002465-1762626600-1762637400@qlibrary.org
SUMMARY:Quatrefoil Game Night
DESCRIPTION:
URL:https://qlibrary.org/event/quatrefoil-game-night/2025-11-08/
LOCATION:Quatrefoil Library\, 1220 East Lake Street\, Minneapolis\, MN\, 55407\, United States
CATEGORIES:Community Club
END:VEVENT
END:VCALENDAR