BEGIN:VCALENDAR
VERSION:2.0
PRODID:-//Quatrefoil Library - ECPv6.15.20//NONSGML v1.0//EN
CALSCALE:GREGORIAN
METHOD:PUBLISH
X-WR-CALNAME:Quatrefoil Library
X-ORIGINAL-URL:https://qlibrary.org
X-WR-CALDESC:Events for Quatrefoil Library
REFRESH-INTERVAL;VALUE=DURATION:PT1H
X-Robots-Tag:noindex
X-PUBLISHED-TTL:PT1H
BEGIN:VTIMEZONE
TZID:America/Chicago
BEGIN:DAYLIGHT
TZOFFSETFROM:-0600
TZOFFSETTO:-0500
TZNAME:CDT
DTSTART:20240310T080000
END:DAYLIGHT
BEGIN:STANDARD
TZOFFSETFROM:-0500
TZOFFSETTO:-0600
TZNAME:CST
DTSTART:20241103T070000
END:STANDARD
BEGIN:DAYLIGHT
TZOFFSETFROM:-0600
TZOFFSETTO:-0500
TZNAME:CDT
DTSTART:20250309T080000
END:DAYLIGHT
BEGIN:STANDARD
TZOFFSETFROM:-0500
TZOFFSETTO:-0600
TZNAME:CST
DTSTART:20251102T070000
END:STANDARD
BEGIN:DAYLIGHT
TZOFFSETFROM:-0600
TZOFFSETTO:-0500
TZNAME:CDT
DTSTART:20260308T080000
END:DAYLIGHT
BEGIN:STANDARD
TZOFFSETFROM:-0500
TZOFFSETTO:-0600
TZNAME:CST
DTSTART:20261101T070000
END:STANDARD
END:VTIMEZONE
BEGIN:VEVENT
DTSTART;TZID=America/Chicago:20250712T120000
DTEND;TZID=America/Chicago:20250712T140000
DTSTAMP:20260423T175423
CREATED:20250130T234137Z
LAST-MODIFIED:20250130T234630Z
UID:10003028-1752321600-1752328800@qlibrary.org
SUMMARY:Radical Queer Tarot Reading Group
DESCRIPTION:Radical Queer Tarot Reading Group is a space for novice to expert tarot readers to gather in non-hierarchical community to explore applying the wisdom of the tarot to apocalyptic times. We’ll focus on reading BIPOC/Queer/Leftist/Radical/Anti-Capitalist authors of tarot interpretation\, discussing what we’re learning\, & doing tarot spreads together to experience & interpret our new ideas. From tarot-curious to tarot master — if this offering speaks to you\, please join us. Contact radicalqueertarotreadinggroup@gmail.com for more information.
URL:https://qlibrary.org/event/radical-queer-tarot-reading-group/2025-07-12/
LOCATION:Quatrefoil Library\, 1220 East Lake Street\, Minneapolis\, MN\, 55407\, United States
CATEGORIES:Community Club
END:VEVENT
BEGIN:VEVENT
DTSTART;TZID=America/Chicago:20250712T143000
DTEND;TZID=America/Chicago:20250712T160000
DTSTAMP:20260423T175423
CREATED:20250605T225931Z
LAST-MODIFIED:20250605T225931Z
UID:10003494-1752330600-1752336000@qlibrary.org
SUMMARY:Crossroads Conversations: End-of-Life Hopes\, Fears\, & Curiosities
DESCRIPTION:Crossroads Conversations – Quatrefoil \nSaturday\, July 12\, 2:30-4:00pm \n  \nWhat happens—physically\, spiritually—when we die? How can I be more prepared for\, and less fearful of\, this natural life event? What practical things do I need to know when my loved one dies? How can I avoid being overwhelmed by grief? \n  \nCrossroads Conversations provides a comfortable space in which to explore your hopes\, fears\, and questions related to death. Although our culture conditions us to be fearful\, end of life can be a time of clarity about what is important and other deeply meaningful personal and spiritual lessons. Contemplating our own impermanence can help us to live more consciously. This discussion group has no agenda\, no planned presentation\, and no prerequisite other than being a mortal human. Simply come as you are to join a relaxed community conversation about a profound topic that is relevant to all of us. \n  \nRegistration is not required\, but it is helpful. If you plan to attend\, please send an email to the facilitator at Michael.PresentPurpose@gmail.com. If you have a question—about the event or that you hope to discuss at the event—reach out to him. Or simply show up. \n  \nMichael Sala has been a wellness\, care\, and support professional for over 30 years. As a special education and later hospice social worker\, he has served individuals from age 4 to 104. Now retired from social work\, he offers a holistic array of services for wellbeing throughout life and at end of life\, including end-of-life care as a death midwife\, spiritual guidance\, Thai bodywork\, and yoga classes. He is also a poetry enthusiast and a proponent of radical unconditional love. Learn more about his offerings at presentpurpose.weebly.com and imagineabetterfuture.weebly.com. \n 
URL:https://qlibrary.org/event/crossroads-conversations-end-of-life-hopes-fears-curiosities/
LOCATION:Quatrefoil Library\, 1220 East Lake Street\, Minneapolis\, MN\, 55407\, United States
END:VEVENT
BEGIN:VEVENT
DTSTART;TZID=America/Chicago:20250712T183000
DTEND;TZID=America/Chicago:20250712T213000
DTSTAMP:20260423T175423
CREATED:20241028T215649Z
LAST-MODIFIED:20241028T220924Z
UID:10002461-1752345000-1752355800@qlibrary.org
SUMMARY:Quatrefoil Game Night
DESCRIPTION:
URL:https://qlibrary.org/event/quatrefoil-game-night/2025-07-12/
LOCATION:Quatrefoil Library\, 1220 East Lake Street\, Minneapolis\, MN\, 55407\, United States
CATEGORIES:Community Club
END:VEVENT
END:VCALENDAR