BEGIN:VCALENDAR
VERSION:2.0
PRODID:-//Quatrefoil Library - ECPv6.15.20//NONSGML v1.0//EN
CALSCALE:GREGORIAN
METHOD:PUBLISH
X-WR-CALNAME:Quatrefoil Library
X-ORIGINAL-URL:https://qlibrary.org
X-WR-CALDESC:Events for Quatrefoil Library
REFRESH-INTERVAL;VALUE=DURATION:PT1H
X-Robots-Tag:noindex
X-PUBLISHED-TTL:PT1H
BEGIN:VTIMEZONE
TZID:America/Chicago
BEGIN:DAYLIGHT
TZOFFSETFROM:-0600
TZOFFSETTO:-0500
TZNAME:CDT
DTSTART:20240310T080000
END:DAYLIGHT
BEGIN:STANDARD
TZOFFSETFROM:-0500
TZOFFSETTO:-0600
TZNAME:CST
DTSTART:20241103T070000
END:STANDARD
BEGIN:DAYLIGHT
TZOFFSETFROM:-0600
TZOFFSETTO:-0500
TZNAME:CDT
DTSTART:20250309T080000
END:DAYLIGHT
BEGIN:STANDARD
TZOFFSETFROM:-0500
TZOFFSETTO:-0600
TZNAME:CST
DTSTART:20251102T070000
END:STANDARD
BEGIN:DAYLIGHT
TZOFFSETFROM:-0600
TZOFFSETTO:-0500
TZNAME:CDT
DTSTART:20260308T080000
END:DAYLIGHT
BEGIN:STANDARD
TZOFFSETFROM:-0500
TZOFFSETTO:-0600
TZNAME:CST
DTSTART:20261101T070000
END:STANDARD
END:VTIMEZONE
BEGIN:VEVENT
DTSTART;TZID=America/Chicago:20250330T130000
DTEND;TZID=America/Chicago:20250330T160000
DTSTAMP:20260423T223906
CREATED:20250320T212509Z
LAST-MODIFIED:20250320T212509Z
UID:10003290-1743339600-1743350400@qlibrary.org
SUMMARY:Workplace Wardrobe Clothing Swap Event (OFFSITE)
DESCRIPTION:Join Quatrefoil Library and the Twin Cities Pride Cultural Arts Center for a collaborative event where you can donate and/or acquire free gender affirming clothing! \n\nWe will have attire in all sizes for all presentations available\, and we welcome clothing and accessory donations in new or slightly used condition. \n\nWhether you’re exploring your identity or simply need a safe place to find workplace clothing that feels right for you\, this event is for you! \nThis is the second event in Quatrefoil Library’s Investing in Us Event Series. The Twin Cities Pride Cultural Arts Center is the host of The Rainbow Wardrobe: a community service dedicated to providing free gender-affirming care in a welcoming\, private\, and supportive environment. They offer a space where LGBTQ+ individuals can try on clothing that affirms their gender identity\, without the discomfort or anxiety they might face in traditional retail settings. \nFor donations\, within the wardrobe we have a few specific needs:\n1. Plus-Size Femme Attire: Dresses\, pants\, blouses\, t-shirts\, all forms of clothes.\n2. Small/Medium Masc clothes: Button-ups\, shorts\, t-shirts.\n3. Socks\, new undergarments for all sizes and types.\n4. Large size shoes\, both masc and femme.\n– Femme sizes from 10+\n– Masc sizes from 12+
URL:https://qlibrary.org/event/workplace-wardrobe-clothing-swap-event-offsite/
LOCATION:Pride Cultural Arts Center\, 1201 Harmon Pl Ste 104\, Minneapolis\, MN\, 55403
CATEGORIES:Event Series
END:VEVENT
END:VCALENDAR