BEGIN:VCALENDAR
VERSION:2.0
PRODID:-//Quatrefoil Library - ECPv6.15.20//NONSGML v1.0//EN
CALSCALE:GREGORIAN
METHOD:PUBLISH
X-WR-CALNAME:Quatrefoil Library
X-ORIGINAL-URL:https://qlibrary.org
X-WR-CALDESC:Events for Quatrefoil Library
REFRESH-INTERVAL;VALUE=DURATION:PT1H
X-Robots-Tag:noindex
X-PUBLISHED-TTL:PT1H
BEGIN:VTIMEZONE
TZID:America/Chicago
BEGIN:DAYLIGHT
TZOFFSETFROM:-0600
TZOFFSETTO:-0500
TZNAME:CDT
DTSTART:20240310T080000
END:DAYLIGHT
BEGIN:STANDARD
TZOFFSETFROM:-0500
TZOFFSETTO:-0600
TZNAME:CST
DTSTART:20241103T070000
END:STANDARD
BEGIN:DAYLIGHT
TZOFFSETFROM:-0600
TZOFFSETTO:-0500
TZNAME:CDT
DTSTART:20250309T080000
END:DAYLIGHT
BEGIN:STANDARD
TZOFFSETFROM:-0500
TZOFFSETTO:-0600
TZNAME:CST
DTSTART:20251102T070000
END:STANDARD
BEGIN:DAYLIGHT
TZOFFSETFROM:-0600
TZOFFSETTO:-0500
TZNAME:CDT
DTSTART:20260308T080000
END:DAYLIGHT
BEGIN:STANDARD
TZOFFSETFROM:-0500
TZOFFSETTO:-0600
TZNAME:CST
DTSTART:20261101T070000
END:STANDARD
END:VTIMEZONE
BEGIN:VEVENT
DTSTART;TZID=America/Chicago:20250201T130000
DTEND;TZID=America/Chicago:20250201T150000
DTSTAMP:20260424T014505
CREATED:20250124T012800Z
LAST-MODIFIED:20250124T012809Z
UID:10002864-1738414800-1738422000@qlibrary.org
SUMMARY:Examining Military Service From the Margins
DESCRIPTION:From the Margins at Quatrefoil Library \n\n\n\nVeterans\, active service members\, and civilians are invited to contribute to the “Examining Military Service From the Margins” discussion series. Facilitated by pairs of Discussion Leaders\, each session will use guiding questions\, and a set of core-shared resources like oral histories and films\, to better understand how race\, class\, gender\, sexuality\, religion\, and other factors have caused the military service of some individuals to be devalued or limited in some capacity. All Discussion Leaders are either active service members or Veterans. \n\n\n\nThis session of “Examining Military Service From the Margins\,” held at Quatrefoil Library in Minneapolis\, will have conversations focused on LGBTQIA+ community issues. Topics of discussion will include the history of Queer service members\, the effects of Don’t Ask Don’t Tell\, and the current experience of transgender individuals in the military. \n\n\n\nWhat you can expect from this session: \n\n\n\n\nDiscussion Leaders\, Veterans\, active service members\, and civilians will share information on military service\, as well as talk about their personal experiences and perspectives.\n\n\n\nA post-event resource list of articles\, books\, and organizations to help you gain a deeper understanding of topics discussed.\n\n\n\nEngage in small and large group conversations.\n\n\n\n\nRegistration\n\n\n\nRegistration is required. There is no cost to attend. \n\n\n\nRegistration Questions: registrations@mnhum.org
URL:https://qlibrary.org/event/examining-military-service-from-the-margins-2/
LOCATION:Quatrefoil Library\, 1220 East Lake Street\, Minneapolis\, MN\, 55407\, United States
ATTACH;FMTTYPE=image/png:https://qlibrary.org/wp-content/uploads/2025/01/event_examining_military_service_margins.png
END:VEVENT
END:VCALENDAR