BEGIN:VCALENDAR
VERSION:2.0
PRODID:-//Quatrefoil Library - ECPv6.15.20//NONSGML v1.0//EN
CALSCALE:GREGORIAN
METHOD:PUBLISH
X-ORIGINAL-URL:https://qlibrary.org
X-WR-CALDESC:Events for Quatrefoil Library
REFRESH-INTERVAL;VALUE=DURATION:PT1H
X-Robots-Tag:noindex
X-PUBLISHED-TTL:PT1H
BEGIN:VTIMEZONE
TZID:America/Chicago
BEGIN:DAYLIGHT
TZOFFSETFROM:-0600
TZOFFSETTO:-0500
TZNAME:CDT
DTSTART:20230312T080000
END:DAYLIGHT
BEGIN:STANDARD
TZOFFSETFROM:-0500
TZOFFSETTO:-0600
TZNAME:CST
DTSTART:20231105T070000
END:STANDARD
BEGIN:DAYLIGHT
TZOFFSETFROM:-0600
TZOFFSETTO:-0500
TZNAME:CDT
DTSTART:20240310T080000
END:DAYLIGHT
BEGIN:STANDARD
TZOFFSETFROM:-0500
TZOFFSETTO:-0600
TZNAME:CST
DTSTART:20241103T070000
END:STANDARD
BEGIN:DAYLIGHT
TZOFFSETFROM:-0600
TZOFFSETTO:-0500
TZNAME:CDT
DTSTART:20250309T080000
END:DAYLIGHT
BEGIN:STANDARD
TZOFFSETFROM:-0500
TZOFFSETTO:-0600
TZNAME:CST
DTSTART:20251102T070000
END:STANDARD
END:VTIMEZONE
BEGIN:VEVENT
DTSTART;TZID=America/Chicago:20241123T130000
DTEND;TZID=America/Chicago:20241123T153000
DTSTAMP:20260424T074538
CREATED:20241028T220140Z
LAST-MODIFIED:20241028T220140Z
UID:10002573-1732366800-1732375800@qlibrary.org
SUMMARY:Girl Scouts of the River Valleys: LGBTQIA+ Stories with the Quatrefoil Library
DESCRIPTION:Event Open to Current Girl Scouts of the River Valleys Only. Details Can be Found Here: https://www.girlscoutsrv.org/en/sf-events-repository/2024/lgbtqia–stories-with-the-quatrefoil-library—nov-23.html \n 
URL:https://qlibrary.org/event/girl-scouts-of-the-river-valleys-lgbtqia-stories-with-the-quatrefoil-library/
LOCATION:Quatrefoil Library\, 1220 East Lake Street\, Minneapolis\, MN\, 55407\, United States
END:VEVENT
BEGIN:VEVENT
DTSTART;TZID=America/Chicago:20241123T160000
DTEND;TZID=America/Chicago:20241123T180000
DTSTAMP:20260424T074538
CREATED:20241028T220811Z
LAST-MODIFIED:20241028T220811Z
UID:10002574-1732377600-1732384800@qlibrary.org
SUMMARY:Zine Workshop
DESCRIPTION:Join Quatrefoil Library and local zinemaker Sarah Evenson (they/them/theirs) to talk about the importance of the perzine* in Queer history and make a sweet or sassy perzine of your own! \n*A perzine is a zine about yourself…anyone can make one! Prompts will be provided if you need inspiration. \nDrop in for a bit or stay the whole time\, no RSVP required. We hope to see you there! \nThis is the final event in Quatrefoil Library’s Queer History Event Series. Sarah Evenson (they/them/theirs) is a gay & transgender illustrator / zinemaker / animator / print-media-artist living and working in Minneapolis\, MN. Their sassy & spirited zines about Gay Life and Crying are held in more than 40 collections worldwide. \nIG @saltysweetsarah www.sarah-evenson.com
URL:https://qlibrary.org/event/zine-workshop/
LOCATION:Quatrefoil Library\, 1220 East Lake Street\, Minneapolis\, MN\, 55407\, United States
CATEGORIES:Event Series
END:VEVENT
BEGIN:VEVENT
DTSTART;TZID=America/Chicago:20241123T183000
DTEND;TZID=America/Chicago:20241123T213000
DTSTAMP:20260424T074538
CREATED:20241028T215739Z
LAST-MODIFIED:20241028T215739Z
UID:10002513-1732386600-1732397400@qlibrary.org
SUMMARY:Quatrefoil Game Night
DESCRIPTION:
URL:https://qlibrary.org/event/quatrefoil-game-night-2/2024-11-23/
LOCATION:Quatrefoil Library\, 1220 East Lake Street\, Minneapolis\, MN\, 55407\, United States
CATEGORIES:Community Club
END:VEVENT
END:VCALENDAR